Workbook

Sheet User and Roles
B4: User | C4: Type | D4: Size | E4: Comment | F4: Op | G4: Validation on input
B5: UserID | C5: uniqueidentifier | D5: 36 | E5: generated unique id | F5: M
B6: Email | C6: varchar | D6: 500 | E6: email that the user is logged in with and that is used for user validation | F6: M | G6: Standars email validation (i.e. something like r"(^[a-zA-Z0-9_.+-]+@[a-zA-Z0-9-]+\.[a-zA-Z0-9-.]+$)").
B7: Password | C7: varchar | D7: 50 | E7: Encoded password | F7: M | G7: referes to guide, is currenlty equal to 1 since we have only one guide = insuranceguide
B8: CreatedDate | C8: datetime | D8: 23 | E8: Date when entry was first created | F8: M | G8: ex: "Hur viktigt tycker du att priset är"
B9: ModifiedDate | C9: datetime | D9: 23 | E9: Date when entry was last modifies | F9: M | G9: Locale, currently only value "SE"
B10: Validity | C10: int | D10: 10 | E10: 0 for not validated uses, 1 for validated users | F10: M | G10: used to order questions by, may be used in display as well
B11: Status | C11: int | D11: 10 | E11: 1 for active users, 2 for inactivated users | G11: path and name of backgrounimage for this question
B14: GuideAnswers | E14: Comment | G14: Comment
B15: GuideAnswerID | E15: generated unique id | G15: generated unique id
B16: QuestionID | E16: referes to question | G16: referes to question
B17: AnswerOrder | E17: used to order ansers by, may be used in display as well | G17: used to order ansers by, may be used in display as well
B18: AnswerText | E18: ex: "mycket viktig" | G18: ex: "mycket viktig"
B19: AnswerLang | E19: Locale, currently only value "SE" | G19: Locale, currently only value "SE"
B22: UserGuideResult | E22: Comment | G22: Comment
B23: UserGuideResultID | E23: generated unique id | G23: generated unique id
B24: GuideID | E24: referes to guide, is currenlty equal to 1 since we have only one guide | G24: referes to guide, is currenlty equal to 1 since we have only one guide
B25: UserID | E25: refers to user for logged in users | G25: refers to user for logged in users
B26: SessionID | E26: user session, for logged in and not logged in users | G26: user session, for logged in and not logged in users
B27: CreatedDate | E27: Date of entry | G27: Date of entry
... B59: GuideResultValue | E59: Value summed over and attributed to guideresult item if the users answer includes this answer | G59: Value summed over and attributed to guideresult item if the users answer includes this answer
B63: GuideResultExclusionLogic
B64: GuideResultExclusionID | E64: generated unique id | G64: generated unique id
B65: GuideResultItemID | C65: UID | E65: referes to guidresultitem to be excuded | G65: referes to guidresultitem to be excuded
B66: GuideID | C66: ID | E66: referes to guide, is currenlty equal to 1 since we have only one guide = insuranceguide | G66: referes to guide, is currenlty equal to 1 since we have only one guide = insuranceguide

Sheet Instruktioner
B2: Mall - version 1.32 2022-01-11. Om du har frågor kan du vända dig till support@hallbarinterior.se
B4: Beskrining av flikana i denna fil
B5: - Den här fliken innehåller instruktioner och förklaringar. Ändra ingenting i den här fliken. - I nästa flik (som heter "MALL") skriver du in själva listan av inredningsdetaljer som du vill importera till HI-verktyget. Det är det det enda stället där du skall skriva in något. Var noga med att följa kraven på formatet - i fliken "ITFkoder" finns det en lista med de tillåtna IFT koder, se mer information under formatering nedan - i fliken "Skick" finns det en lista med de tillåtna värden, se mer information under formatering nedan - Den sista fliken innehåller ett exempel på hur en korrekt ifyllt mall kan se ut. Den finns bara som en illutration
B7: Hur gör jag?
B8: Fyll i mallen på nästa flik med en rad för varje inredningsdetalj, raderna innhåller huvudsaklingen information om hur det föremålet ser ut och vad det är (en stol, eller en lampa osv.). Förutom det kan du också ange ett antal och ett skick. Om du har samma typ av möbel/inredningsdetalj på flera ställen kan du även ange ett rum för de. Läs formateringsinstruktioner nedan nogrannt innan du börjar.
B9: 1) Fyll I mallen på nästa sidan
B10: 2) Spara denna excelfil under ett lämligt namn och där du har dina dokument för detta projekt/uppdrag
B11: 3) Gå till fliken "Mall" och välj "Spara som/Save as". Välj formatet "CSV UTF-8 (.csv)" I rullgardinen och spara filen
B12: (Eventuella varningar om att det inte spara hel filen utan bara den aktuella fliken kan ignoreras)
B13: 4) Stäng filen utan att spara igen och gå till HI-vertyget och importerar den nyss skapade .csv filen till HI-verktyget
B14: Om du vill göra fler ändringar skall du radera importen in HI-verktyget och fortsätta arbeta I denna excel (.xls eller .xlsx) filen och göra om steg 2-4 för att importera
B16: Om du redan har en excelfil med en inventering eller en lista av inredningsdetaljer som du vill använda istället kan du bara sortera kolumnerna i samma ordning som i mall-fliken. Kopiera in rubrikerna från mall-fliken i första raden. Du kan nu använda din excelfil och spara den som .csv fil och importera den på samma sätt som steg 2-4 ovan. Observera att alla rader behöver fortfarande följa den korrekta formateringen
... B19: Här beskrivs exakt vilken information som förväntas i varje kolumn I importfliken. Om du inte följer dessa krav kommer importen inte att fungera. De obligatoriska fäl har markerats gulr här nedan. De måste finnas med i alla rader
B20: rubrik | D20: namn för inredningsdetaljen, dvs möbeln eller liknande, det är din egen benämning, fritext, obligatorisk
B21: material | D21: ange materialval, fritext, frivillig
B22: behandling | D22: ange färg eller ytbehandling, fritext, frivillig
B23: mått | D23: ange mått (beroende på typ kan det vara antal vådor, höjd på en bänk eller L x B x H för vissa artiklar, fritext, frivillig
B24: beskrivning | D24: beskrivning av inredningsdetaljen, om informationen inte kan delas upp i fälten material, färg och behandling, mått, kan allt läggas tillsammasn här, fritext, frivillig
B25: ITF | D25: En ITF kod some består av en bokstav och en siffra (siffran kan skippas). Alltid max två tecken lång och måsta vara en av de 79 koder under fliken ITFkoder. Val av exakt en av koderna, inga andra koder tillåts, strikt formaterat, obligatorisk
B26: fabrikat | D26: Fabrikat av inredningsdetaljen om fabrikatet är känd. Matchas mot listan av kända fabrikat och officiel namn på fabrikat används om möjligt. Fritext, frivillig
B27: artikelnummer | D27: tillverkaren eller leverantörens artikelnnummer av inredningsdetaljen, fritext, frivilig
B28: cert_svanen | D28: Ja eller Nej om det är känd att inredningsdetaljen är svanenmärkt. Ange inget värde om om det inte är känd. Alternativt kan True eller False eller 1 (för ja) och 0 (för nej) användas. Strikt formaterat, frivillig
B29: cert_mobelfakta | D29: Ja eller Nej om det är känd att inredningsdetaljen är möbelfaktamärkt. Ange inget värde om om det inte är känd. Alternativt kan True eller False eller 1 (för ja) och 0 (för nej) användas. Strikt formaterat, frivillig
B30: cert_ctoc | D30: Ja eller Nej om det är känd att inredningsdetaljen är cradle to cradle märkt. Ange inget värde om om det inte är känd. Alternativt kan True eller False eller 1 (för ja) och 0 (för nej) användas. Strikt formaterat, frivillig
B31: cert_eueco | D31: Ja eller Nej om det är känd att inredningsdetaljen är Euro Eco märkt. Ange inget värde om om det inte är känd. Alternativt kan True eller False eller 1 (för ja) och 0 (för nej) användas. Strikt formaterat, frivillig
... B43: rum | D43: Rummet där inredningsdetaljen/möbeln finns. Ange rumsnummer
B46: Frågor och svar
B47: Följer textformatering med i importen ? | E47: Alla texter importera bara som text utan formatering så som fetstil, färg eller kursiveringar och radbrytningar. Använd bara text för beskrivningar
B48: Hur skall jag göra om jag har 20 likadana stolar, där 5 är i bra skick och 15 i dålig skick | E48: Om du ha identisk samma information i kolumnerna: "rubrik, material, behandling, mått, beskrivning, ITF" så behadlas det som samma stol och du kan flylla I två rader med olika skick. Desamma gäller anskaffningsdatum, tillverkningsdatum och rekonditioneringsdatum
B49: Hur gör jag om jag inte hittar en passande ITF kod? | E49: Använd den som passa bäst, om absolut inget passar kan du använda koderna Z1-Z9
B50: Hur skall man bedömma skick | E50: Om du inte kan bedömma skick själv kan du ta hjälp av en expert. Det går alltid att använda "okänd" och uppdatera informationen senare
B51: Spelar det någon roll för skick om inredningsdetaljnen i fråga går att rekonditionera / laga senare, eller tom är planerada att rekonditioneras? | E51: Vi bedömmer skicka så som det är just nu oavsett om det går att rekonditionera eller inte. Det är antingen en senare fråga eller så har den redan rekontionerats och då är det skick efter rekonditionering som man anger
B52: Varför är fabrikatet inte samma fabrikat som jag angav? | E52: Systemet försöker att matcha fabrikatet mot en fabrikatslista. Om vi hittar en tillräcklig bra matching används fabrikatet från listan
B53: Hur skall jag göra om jag har några möbler i ett rum och några av samma typ i ett annat rum? | E53: Om det är exakt samma möbel så behöver du bara se till att det står exakt samma information i kolumnerna: "rubrik, material, behandling, mått, beskrivning, ITF" läser vi den möbeln bara in en gång, men spara att hur de är fördelade
B54: Hur gör jag om jag har fått en exportfil från Sajkla | E54: Det finns två gömda flika I den här filen. Om du tar fram de kan du använda de för att klista in exportfilen från Sajkla I den ena och använda den andra för att generera en csv fil som går att importera till verktyget. Kom ihåg att se till att alla rader OBS: du bör vara någorlunda kunnig i excel för att förstå hur de fungera. Inge fält är låsta, dvs du kan se alla formler och justera de om det krävs.

Sheet Inventory mm
B4: Product | C4: Type | D4: Size | E4: Comment | F4: Op | G4: Validation on input
B5: En produkttyp, dvs fabrikat, som kan beskriva as samma symbol när den finns på en ritning. T.ex kan det finnas 12 liknade stolar i ett konferansrum, hälften med röd tyg, hälften med grön tyg och då är de av samma Produkt
B6: ProductID | C6: uniqueidentifier | D6: 36 | E6: generated unique id | F6: M
B7: ProductTypeRef | C7: varchar | D7: 500 | E7: En referens till ett ProduktTypID M->1 | F7: M
B8: ProductAreaRef | C8: varchar | D8: 500 | E8: En referens till ett produktområde ProduktAreaID M->1 | F8: M
B9: Fabrikat | C9: varchar | D9: 50 | E9: Text, exempelvis "Håg"
B10: … | E10: potentiell andra attribut
B12: CreatedDate | E12: Date of entry
B13: CreatedByRef | E13: En referens till ett UserID M->1 som skapade entry
B14: ModifiedDate | E14: Date of entry
B15: ModifiedByRef | E15: En referens till ett UserID M->1 som senaste änderade entry
B18: Article | C18: Type | D18: Size | E18: Comment | F18: Op | G18: Validation on input
B19: En produktvariant är samma produkt som kan finnas I olika utföranden, typisk är det material eller tyg eller färg som skiljer. Ibland är det tillverkaren som erbjuder olika varinater ibland är det en intredningsarkitete som beskriver att en stol skall betsas i en viss kulör. Här kan det ochså beskrivas att det skall vara olika tillbehör. En produktvarinat har samma symbol på en ritning (Litra). Produktvarianten ärver alla egenskaper från en Product, men de kan skrivas över
B20: ArticleID | C20: uniqueidentifier | D20: 36 | E20: generated unique id | F20: M
B21: ProductRef | C21: varchar | D21: 500 | E21: En referens till ett ProduktID M->1 | F21: M
B22: ProjectRef | E22: En referens till ett ProjectID M->1
B23: ArticleDesc | E23: exempelvis: "ONE3102, Med hjul, meshrygg, ställbara armstöd"
B26: OrigArticleID | E26: Text, exempelvis" ONE3102", kan finnas flera med samma Article
B29: ProductType | E29: Comment | G29: Validation on input
B30: En kategorisering av produkterna in olika typer så som "sittmöbel","gardin","bord". Kan vara olika från projekt till projekt men kommer antagligen komma förifylld med standard värden …
B31: ProductTypeID | E31: generated unique id
B32: ProjectRef | E32: En referens till ett ProjectID M->1
B33: ProductTypeName | E33: Text av produkttypen ex "Sittmöbel"
B34: CreatedDate | E34: Date of entry
B35: CreatedByRef | E35: En referens till ett UserID M->1 som skapade entry
B36: ModifiedDate | E36: Date of senaste ändring
B37: ModifiedByRef | E37: En referens till ett UserID M->1 som senaste änderade entry
B39: ProductArea | E39: Comment | G39: Validation on input
B40: En kategorisering av produkterna in olika områden (kan ochså kallas för delområden). Det finns ingen hirakie mellan Typ och Omtråde, de är obereonde. Kan vara olika I olika projekt och beroende på upphandlingssätt. Exempelvis på avropa.se är det "Arbetsplats och förvaring", "Arbetsplatsarmaturer" osv, men väljs också olika beroende på inredningsarkitekt
B41: ProductAreaID | E41: generated unique id
B42: ProjectRef | E42: En referens till ett ProjectID M->1
B43: ProductAreaName | E43: Text av produktområde ex "Miljömöbler"
B44: CreatedDate | E44: Date of entry
B45: CreatedByRef | E45: En referens till ett UserID M->1 som skapade entry
B46: ModifiedDate | E46: Date of senaste ändring
B47: ModifiedByRef | E47: En referens till ett UserID M->1 som senaste änderade entry
B49: ProductArea | E49: Comment | G49: Validation on input
B50: En kategorisering av produkterna in olika områden (kan ochså kallas för delområden). Det finns ingen hirakie mellan Typ och Omtråde, de är obereonde. Kan vara olika I olika projekt och beroende på upphandlingssätt. Exempelvis på avropa.se är det "Arbetsplats och förvaring", "Arbetsplatsarmaturer", "Arbetsstolar" osv, men väljs också olika beroende på inredningsarkitekt
B51: GuideAnswerID | E51: referes to answer
B52: QuestionID | E52: referes to question
B53: UserGuideResultID | E53: refers to userguideresult
B54: CreatedDate | E54: Date of entry
B55: UserGuideAnswerText | E55: users answer if not a choice but free text

Sheet MALL
A1: rubrik | B1: material | C1: behandling | D1: mått | E1: beskrivning | F1: ITF | G1: fabrikat | H1: artikelnummer | I1: cert_svanen | J1: cert_mobelfakta | K1: cert_ctoc | L1: cert_eueco | M1: cert_bramv | N1: epd | O1: tillverkningsdatum | P1: anskaffningsdatum | Q1: rekonditioneringsdatum | R1: skick | S1: bildreferens | T1: vikt | U1: värde | V1: littera | W1: antal | X1: rum

Sheet ITFkoder
B3: Kod | C3: Namn
B4: A | C4: SAMMANSATTA INREDNINGAR
B5: A1 | C5: Hygienutrustning
B6: A2 | C6: Pentryenheter
B7: A8 | C7: Diverse sammansatta inredningar
B8: A9 | C8: Övriga sammansatta inredningar
B9: B | C9: SKÄRMENHETER
B10: B0 | C10: Sammansatta skärmenheter
B11: B1 | C11: Golvmonterade skärmar
B12: B2 | C12: Takmonterade skärmar
B13: B3 | C13: Lösa skärmar
B14: B4 | C14: Inredningspaneler
... B82: Z9 | C82: fri för egen tillämpning 9

Sheet Skick
B3: Kod | C3: Namn
B4: A | C4: SAMMANSATTA INREDNINGAR
B5: A1 | C5: Hygienutrustning
B6: A2 | C6: Pentryenheter
B7: A8 | C7: Diverse sammansatta inredningar
B8: A9 | C8: Övriga sammansatta inredningar
B9: B | C9: SKÄRMENHETER
B10: B0 | C10: Sammansatta skärmenheter
B11: B1 | C11: Golvmonterade skärmar
B12: B2 | C12: Takmonterade skärmar
B13: B3 | C13: Lösa skärmar
B14: B4 | C14: Inredningspaneler
... B81: Z9 | C81: fri för egen tillämpning 9

Sheet Kriterier
B2: NR | C2: LANG | D2: Namn | E2: Vikt | F2: Description | G2: Referens | H2: Infotext
B3: 1 | C3: SVSE | D3: Tillgång till reservdelar | E3: 1 | F3: Reservdelar1 ska finnas tillgängliga under minst 5 år efter märkt produktionstid/datum. 1 Med reservdelar avses funktionsrelaterade komponenter som vid skada eller annat fel gör produkten helt eller delvis obrukbar, till exempel gångjärn, gasfjädrar, elektriska manöversystem och lådsystem. | G3: UM- 10035:1 Bas | H3: V.g. fyll I ….
B4: 2 | C4: SVSE | D4: Spårbarhet (1) | E4: 1 | F4: Möbeln/inredningen måste vara märkt med tillverkarens namn eller namnet på återförsäljaren/leverantören av produkten. Elektronisk märkning, t.ex. QR-kod godkänns också. * Bild eller beskrivning om hur märkningen görs | G4: Svanen O9 | H4: V.g. fyll I ….
B5: 3 | C5: SVSE | D5: Underhåll | E5: 1 | F5: Leverantören levererar all information och innehåll som krävs till inventarieförteckningen (se krav i Övergripande) | H5: V.g. fyll I ….
B6: 4 | C6: SVSE | D6: Demonterbarhet 1 | E6: 1 | F6: Underhåll Instruktioner för rengöring och underhåll av möbeln/inredningen med specifika instruktioner för de olika materialen ska medfölja produkten och vara tillgänglig för nedladdning på tillverkarens eller återförsäljarens webbplats i minst tio år efter att produkten har gått ur produktion. * Instruktioner för rengöring och underhåll samt hur det kommuniceras till kunden | G6: Svanen O 12 | H6: V.g. fyll I ….
B7: 5 | C7: SVSE | D7: Demonterbarhet 2 | E7: 1 | F7: Demonterbart utan special verktyg. | H7: V.g. fyll I ….
B8: 6 | C8: SVSE | D8: Demonterbarhet 3 | E8: 1 | F8: Instruktioner: Följande information måste medfölja produkten och finnas tillgänglig för nedladdning i minst tio år efter att produkten har gått ur produktion på tillverkarens eller återförsäljarens webbplats: • Sprängskiss (illustration) av produkten som visar vilka delar som kan bytas ut och vilka verktyg som krävs. • Det ska medfölja instruktioner som steg för steg beskriver hur delar och komponenter kan bytas ut. QR kod eller liknande, (på eller medskickat produkten) som leder till tillverkarens websida där dessa uppgifter kan hittas, är tillräckligt. * Sprängskiss och instruktioner samt beskrivning av hur detta kommuniceras till kunden | G8: Svanen O10 | H8: V.g. fyll I ….
B9: 7 | C9: SVSE | D9: Demonterbarhet 4 (undvika gjutad | E9: 1 | F9: Lim tillämpas inte mellan olika materialsorter | G9: NA | H9: V.g. fyll I ….
B10: 8 | C10: SVSE | D10: Klädsel | E10: 1 | F10: Metall – separerbarhet- Möbeln måste vara konstruerad så att delar av metall ska kunna separeras från andra delar av möbeln, t.ex. ett metallunderrede måste kunna lossas från en bordsskiva i trä, eller metallben på en soffa måste kunna demonteras från sofframen. Metall får inte ingå i sammansatta material. Metallarmering är exempelvis inte tillåtet. * Beskrivning av hur metall kan separeras från andra material. | G10: Svanen O11 | H10: V.g. fyll I ….
B11: 9 | C11: SVSE | D11: Tillgång till reparationsmanualer | E11: 1 | F11: Avtagbar klädsel till möbler (t.ex. soffkuddar, sitsar, rygg- och nackstöd) eller madrasser måste märkas med materialtyp och tvättanvisningar. * Beskrivning/bild av märkning med uppgifter om material och tvättanvisning. | G11: Svanen O14 | H11: V.g. fyll I ….
B12: 10 | C12: SVSE | D12: Servicepartner for reparationer | E12: 1 | F12: Reparationsmanualer tillgängliga online | G12: Svanen, UM | H12: V.g. fyll I ….
B13: 11 | C13: SVSE | D13: Garanti, ansvar tas av tillverkaren | E13: 1 | F13: Servicepartner for reparationer bör vara tillgänglig lokalt (inom 100 km räckvid) | G13: Svanen, UM | H13: V.g. fyll I ….
B14: 12 | C14: SVSE | D14: Cirkulär design (möbler) | E14: 1 | F14: Leverantören lämnar en garanti på tio år eller längre Med garanti menas ett avtal mellan köpare och säljare som handlar om rätten till reklamation och där säljaren/ tillverkaren måste erbjuda att reparera eller byta ut delar som är skadade eller inte fungerar korrekt. Garantin ska gälla från leveransdatumet och kommuniceras till kunden. Garantin ska ingå i produktens pris) | G14: Svanen, UM | H14: V.g. fyll I ….
B15: 13 | C15: SVSE | D15: Cirkulär design -Möbler m elektroniska delar | E15: 1 | F15: En av följande punkter måste uppfyllas:. • Möbeln/inredningen består av minst 70 viktprocent material som är återvunnet* och/eller förnybart. • Möbeln/inredningen består av rena material lättare kan materialåtervinnas. Med rena material menas t.ex. metall, trä, papper och plast. Kompositmaterial, t.ex. glasfiberarmerad plast har inte använts. • Det har inte använts lim i sammanfogningen av de olika materialen (gäller inte lim som ingår i en träbaserad skiva). • Tillverkaren erbjuder att ta tillbaka möbeln/inredningen för uppgradering/reparation/renovering. *Återvunnet definieras enligt ISO 14021 i kategorierna prekonsument och postkonsument. Se Definitioner. **Träbaserade skivor räknas som förnybara även om de innehåller lim. (Modifierat från Svanen för att ta hänsyn till att andra HI kriterier redan täcker demonterbarhet som är annars en av punkterna i Svanen O15. Punkter som krävs sänks från två till en här) | G15: Svanen O15 | H15: V.g. fyll I ….
B16: 14 | C16: SVSE | D16: Energiförbrukning standby | E16: 1 | F16: Lampor/ljuskällor Lampor/ljuskällor kan ingå som del av en möbel, t.ex. i ett skåp eller i en låda. Om lampor ingår gäller följande: • Ljuskällan ska vara LED. • Ljuskällan ska kunna bytas ut. * Beskrivning av hur lampan/ljuskällan ingår i produkten. Deklaration från tillverkaren att det används LED-ljuskällor och att ljuskällan kan bytas ut | G16: Svanen O16 | H16: V.g. fyll I ….
B17: 15 | C17: SVSE | D17: Återvinningsbara material | E17: 1 | F17: Energiförbrukning i standby-läge Möbler med elektriska och elektroniska komponenter, t.ex. höj- och sänkbara bord och ställbara sängar ska uppfylla följande krav: • ha en energiförbrukning i standby-läge på högst 0,3 W • för möbler som har nätverksfunktion ska nätverkets energiförbrukning i standby-läge vara max. 2 W. Testmetod: EN 50564 eller motsvarande. | G17: Svanen O17 | H17: V.g. fyll I ….
B18: 16 | C18: SVSE | D18: Emballage | E18: 1 | F18: Delarna är gjort av material som är en fraktion som kan återvinnas i den befintliga (svensk) återvinningssystem | G18: Svanen, UM | H18: V.g. fyll I ….
B19: 17 | C19: SVSE | D19: Märkning av plast | E19: 1 | F19: Emballage Kravet gäller endast för engångsemballage som används för att emballera den enskilda produkten. Följande material är förbjudna i emballaget: • klorerade polymerer/plaster, såsom PVC • metall* * Undantag görs för häftklamrar. För papp/papper och plast gäller följande: • Minst 75 (50?) viktprocent av papp och papper ska bestå av återvunnet* material. • Plast som används ska kunna materialåtervinnas i dagens återvinningssystem. *Återvunnet definieras enligt ISO 14021 i kategorierna pre- och postkonsument. * Beskrivning som visar att inget engångsemballage används eller * Deklaration från tillverkaren av möbeln/inredningen att ingen PVC eller metall har använts i emballaget. * För papp/papper: Deklaration från leverantören av papp och pappersemballage att minst 75 viktprocent består av återvunnet material. * För plast: ange vilken typ av plast som har använts i emballaget. | G19: Svanen O18 | H19: V.g. fyll I ….
... B22: 20 | C22: SVSE | D22: Övriga miljömärkningar som är mindre holistiska, till ex. är fokuserat på ett särskilt material | E22: 1 | F22: 1. Leverantörens åtagande Leverantören ska under hela kontraktets löptid tillämpa kontraktsvillkoren enligt punkt 1-4. Kontraktet ska fullgöras i enlighet med följande villkor avseende arbetares rättigheter: - ILO:s åtta kärnkonventioner om tvångsarbete, barnarbete, diskriminering samt föreningsfrihet och organisationsrätt (nr 29, 87, 98, 100, 105, 111, 138 och 182). Villkoren avseende arbetares rättigheter benämns nedan ”Villkoren”. I de fall då ILO:s kärnkonventioner strider mot nationell lagstiftning ska leverantören vidta skäliga åtgärder för att efterleva de internationella bestämmelserna. Åtagandet gäller för arbetare när dessa utför arbete inom ramen för kontraktet. Leverantören ska i enlighet med punkt 2, säkerställa att Villkoren uppfylls av anlitade underleverantörer som direkt medverkar till att fullgöra kontraktet, oavsett antal mellanled. Leverantören ska också säkerställa att dessa underleverantörer medverkar vid uppföljning enligt punkt 3. Åtagandet avser arbete som utförs under sådana förhållanden att svensk arbetsrätt inte är tillämplig. 2. Policys och rutiner För att uppfylla åtagandet enligt punkt 1 ska leverantören vidta åtgärder för att förebygga och hantera eventuella avvikelser från Villkoren enligt punkterna 2.1–2.6 nedan. Åtgärderna ska vara dokumenterade och tillämpas löpande under hela kontraktstiden i den egna verksamheten och hos underleverantörer som direkt medverkar till att fullgöra kontraktet, oavsett antal mellanled. Leverantören ska vid kontraktsstart ha: 2.1. antagit allmänt tillgänglig policy, beslutad av högsta ledningen, som innefattar ett åtagande att respektera Villkoren, 2.2. antagit rutiner för att vidareförmedla åtagandet att respektera Villkoren i den egna verksamheten och i leveranskedjan, 2.3. utsett ansvarig på ledningsnivå som ansvarar för efterlevnaden av Villkoren, 2.4. antagit rutiner för att regelbundet genomföra riskanalyser, det vill säga identifiera och prioritera aktuella och potentiella risker för avvikelser från Villkoren, innefattande en kartläggning av leveranskedjan med särskild hänsyn till högriskverksamheter, 2.5. antagit rutiner för att regelbundet följa upp efterlevnad av Villkoren, och 2.6. antagit rutiner för att omedelbart vidta åtgärder för att förhindra och begränsa avvikelser från Villkoren, samt för att vidta rättelse vid identifierade avvikelser. Åtgärderna ska vidtas i enlighet med FN:s vägledande principer för företag och mänskliga rättigheter eller motsvarande. 3. Uppföljning [Den upphandlande myndigheten] äger rätt att följa upp att leverantören fullföljer sina åtaganden. Uppföljningen kan komma att ske i olika steg; egenrapportering och revision. 3.1 Egenrapportering På begäran av [den upphandlande myndigheten] ska leverantören, inom [sex (6) veckor/annan tid som den upphandlande myndigheten anger] från det att begäran mottogs, skriftligen redovisa hur Villkoren efterlevs. Redovisningen kan lämnas i formulär enligt bilaga 1: formulär för egenrapportering. Leverantören ska lämna den rapportering som framgår av bilagan. 3.2 Revision Leverantören ska möjliggöra för [den upphandlande myndigheten] att själv eller genom ombud utföra revisioner hos leverantören och/eller hos dess underleverantörer för att säkerställa att leverantören uppfyller sitt åtagande enligt punkt 1 och att Villkoren efterlevs. Leverantören ska i samband med revision tillhandahålla de uppgifter och den dokumentation som behövs för att kontrollera att Villkoren efterlevs. 4. Hantering av brister Om leverantören inte medverkar vid uppföljningen eller om det föreligger brister i den dokumentation som ska tillhandahållas enligt punkt 3 ska rättelse ske inom den tid som bestäms av [den upphandlande myndigheten]. Vid bristande efterlevnad av Villkoren ska leverantören avhjälpa detta enligt en av leverantören framtagen tid- och åtgärdsplan som ska godkännas av [den upphandlande myndigheten]. Tid – och åtgärdsplanen ska tas fram inom den tid som bestäms av [den upphandlande myndigheten] och ska stå i proportion till bristernas art och tydligt beskriva hur dessa avhjälps inom angiven tid. [Den upphandlande myndigheten] har rätt att säga upp kontraktet med omedelbar verkan om leverantören inte vidtar rättelse inom angiven tid eller inte avhjälper brister enligt fastställd åtgärdsplan. [Den upphandlande myndigheten] har också rätt att säga upp kontraktet med omedelbara verkan vid allvarliga brister i Villkorens efterlevnad. | G22: UM 11238 Bas | H22: V.g. fyll I ….
B23: 21 | C23: SVSE | D23: Hållbara leverantörskedjor | E23: 1 | F23: Poäng tilldelas om leverantören kan redovisa bevis för märkningar: FSC, OekoTex | H23: V.g. fyll I ….
B24: 22 | C24: SVSE | D24: Livscykelanalys/Klimatdeklaration | E24: 1 | F24: 1. Leverantörens åtagande Leverantören ska under hela kontraktets löptid tillämpa kontraktsvillkoren enligt punkt 1-4. Kontraktet ska fullgöras i enlighet med följande villkor avseende mänskliga rättigheter, arbetares rättigheter, miljöskydd och anti-korruption (hållbara leveranskedjor): FN:s allmänna förklaring om de mänskliga rättigheterna, FN:s barnkonvention, artikel 32, ILO:s åtta kärnkonventioner om tvångsarbete, barnarbete, diskriminering samt föreningsfrihet och organisationsrätt (nr 29, 87, 98, 100, 105, 111, 138 och 182), den arbetsrättslagstiftning som gäller i landet där arbetet utförs, inklusive bestämmelser om lön, arbetstid, ledighet och arbetsmiljö, den miljöskyddslagstiftning som gäller i landet där arbetet utförs, och FN:s konvention mot korruption. Villkoren avseende hållbara leveranskedjor benämns nedan ”Villkoren”. I de fall då internationella bestämmelser föreskriver ett starkare skydd för den enskilde än nationell lagstiftning ska leverantören vidta skäliga åtgärder för att efterleva de internationella bestämmelserna. Åtagandet gäller för all verksamhet med anknytning till kontraktets utförande. Leverantören ska i enlighet med punkt 2, säkerställa att Villkoren uppfylls av anlitade underleverantörer, i alla led. Leverantören ska också säkerställa att dessa underleverantörer medverkar vid uppföljning enligt punkt 3. 2. Policys och rutiner För att uppfylla åtagandet enligt punkt 1 ska leverantören vidta åtgärder för att förebygga och hantera eventuella avvikelser från Villkoren enligt punkterna 2.1–2.6 nedan. Åtgärderna ska vara dokumenterade och tillämpas löpande under hela kontraktstiden i den egna verksamheten och hos underleverantörer i alla led. Leverantören ska vid kontraktsstart ha: 2.1. antagit allmänt tillgänglig policy, beslutad av högsta ledningen, som innefattar ett åtagande att respektera Villkoren, 2.2. antagit rutiner för att vidareförmedla åtagandet att respektera Villkoren i den egna verksamheten och i leveranskedjan, 2.3. utsett ansvarig på ledningsnivå som ansvarar för efterlevnaden av Villkoren, 2.4. antagit rutiner för att regelbundet genomföra riskanalyser, det vill säga identifiera och prioritera aktuella och potentiella risker för brister i efterlevnaden av Villkoren, innefattande en kartläggning av leveranskedjan med särskild hänsyn till högriskverksamheter, 2.5. antagit rutiner för att regelbundet följa upp efterlevnad av Villkoren, och 2.6. antagit rutiner för att omedelbart vidta åtgärder för att förhindra och begränsa brister i efterlevnaden av Villkoren, samt för att vidta rättelse vid identifierade brister. Åtgärderna ska vidtas i enlighet med FN:s vägledande principer för företag och mänskliga rättigheter eller motsvarande. 3. Uppföljning [Den upphandlande myndigheten] äger rätt att följa upp att leverantören fullföljer sina åtaganden. Uppföljningen kan komma att ske i olika steg; egenrapportering och revision. 3.1 Egenrapportering På begäran av [den upphandlande myndigheten] ska leverantören, [inom sex (6) veckor/annan tid som den upphandlande myndigheten anger] från det att begäran mottogs, skriftligen redovisa hur Villkoren efterlevs. Redovisningen kan lämnas i formulär enligt bilaga 1: formulär för egenrapportering. Leverantören ska lämna den rapportering som framgår av bilagan 3.2 Revision Leverantören ska möjliggöra för [den upphandlande myndigheten] att själv eller genom ombud utföra revisioner hos leverantören och/eller hos dess underleverantörer för att säkerställa att leverantören uppfyller sitt åtagande enligt punkt 1 och att Villkoren efterlevs. Leverantören ska i samband med revision tillhandahålla de uppgifter och den dokumentation som behövs för att kontrollera att Villkoren efterlevs. 4. Hantering av brister Om leverantören inte medverkar vid uppföljningen eller om det föreligger brister i den dokumentation som ska tillhandahållas enligt punkt 3 ska rättelse ske inom den tid som bestäms av [den upphandlande myndigheten]. Vid bristande efterlevnad av Villkoren ska leverantören avhjälpa detta enligt en av leverantören framtagen tid- och åtgärdsplan som ska godkännas av [den upphandlande myndigheten]. Tid – och åtgärdsplanen ska tas fram inom den tid som bestäms [den upphandlande myndigheten] och ska stå i proportion till bristernas art och tydligt beskriva hur dessa avhjälps inom angiven tid. [Den upphandlande myndigheten] har rätt att säga upp kontraktet med omedelbar verkan om leverantören inte vidtar rättelse inom angiven tid eller inte avhjälper brister enligt fastställd åtgärdsplan. [Den upphandlande myndigheten] har också rätt att säga upp kontraktet med omedelbara verkan vid allvarliga brister i Villkorens efterlevnad. | G24: UM 11239 Avanc | H24: V.g. fyll I ….
B25: 23 | C25: SVSE | D25: Formaldehyd i träbaserade skivor | E25: 1 | F25: Poäng tilldelas om leverantören kan redovisa den offererade produkten(alternativt andel av de offererade produkternas) klimatpåverkan i ett livscykelperspektiv. Miljödeklaration, klimatdeklaration eller motsvarande innehållande resultat från livscykelanalys utförd i enlighet med ISO 14040-44 eller ISO14025 eller likvärdigt med information om produktens klimatpåverkan. | G25: Upphandlingsmyndigheten- 10034:1 (spjutspets) | H25: V.g. fyll I ….
B26: 24 | C26: SVSE | D26: Formaldehyd i träbaserade skivor | E26: 1 | F26: Offererade produkter, med träbaserade skivor som innehåller formaldehydbaserade tillsatser, ska uppfylla emissionskravet för att klassificeras som E1 enligt standarden SS-EN 13986 eller likvärdigt. | G26: UM-11022, Bas | H26: V.g. fyll I ….
B27: 25 | C27: SVSE | D27: Vattenavvisande behandlingar: | E27: 1 | F27: Poäng tilldelas om offererade produkter, med träbaserade skivor som innehåller formaldehydbaserade tillsatser, har uppmätta emissioner av formaldehyd som inte överstiger 65 % av E1 enligt standarden SS-EN 13986 eller likvärdigt. | G27: UM-11022, Avancerad | H27: V.g. fyll I ….
B28: 26 | C28: SVSE | D28: Vattenavvisande behandlingar: | E28: 1 | F28: PFOA (perfluoroktansyra) eller PFOS (perfluoroktansulfonat) ska inte förekomma i offererade produkter i högre halt än 0,1 vikt% samt för belagda textilier inte överstiga halten 1 mikrogram per m2 avseende anjonen, dess metallsalter, haloniden, amiden och/eller andra derivat (även polymerer). | G28: UM- 11024:1 Bas | H28: V.g. fyll I ….
B29: 27 | C29: SVSE | D29: Formaldehyd i möbeltextil | E29: 1 | F29: Ämnena i tabellen nedan ska inte förekomma i de offererade produkterna i högre halt än 1 μg/m2 för PFOA och PFOS samt 0,5 mg/kg för de övriga ämnena i tabellen nedan. Ämne CAS-nr PFOA (perfluorooctanoic acid) 335-67-1 PFUdA (henicosafluoroundecanoic acid) 2058-94-8 PFTeDA (heptacosafluorotetradecanoic acid) 376-06-7 PFTrDA (pentacosafluorotridecanoic acid) 72629-94-8 PFDoA (tricosafluorododecanoic acid) 307-55-1 PFOS (perfluorooctane sulfonic acid) 1763-23-1 Perfluorononane Acid (PFNA) 375-95-1 Perfluorodecane Acid (PFDA) 335-76-2 | G29: UM- 11024:1 Avanc | H29: V.g. fyll I ….
B30: 28 | C30: SVSE | D30: Formaldehyd i möbeltextil | E30: 1 | F30: Halten formaldehyd (CAS-nr 50-00-0) i textil i de offererade produkterna ska inte överstiga 300 ppm. | G30: UM 11025 Bas | H30: V.g. fyll I ….
B31: 29 | C31: SVSE | D31: Innehåll av metaller i färdigbehandlat skinn och läder | E31: 1 | F31: Halten formaldehyd (CAS-nr 50-00-0) i textil i de offererade produkterna ska inte överstiga 75 ppm. | H31: V.g. fyll I ….
B32: 30 | C32: SVSE | D32: Ytbehandling av trä, plast och/eller metall | E32: 1 | F32: Offererade produkter ska uppfylla nedanstående krav vad gäller rester av nedanstående metaller: Ämne CAS-nr Krav Krom (VI) 18540-29-9 Medelkoncentration högst 3 ppm (Testrapport med analys enligt: CEN/TS 14495 eller motsvarande) Arsenik 7440-38-2 Ingen restkoncentration (detektionsgräns 1,0 ppm, Testrapport med analys enligt: CEN TC 309 WI 065 - 4.3 eller motsvarande) Kadmium 7440-43-9 Ingen restkoncentration (detektionsgräns 10 ppm, Testrapport med analys enligt: CEN TC 309 WI 065 - 4.3 eller motsvarande) Bly 7439-92-1 Ingen restkoncentration (detektionsgräns 10 ppm, Testrapport med analys enligt: CEN TC 309 WI 065 - 4.3 eller motsvarande) | G32: UM 11026 Bas | H32: V.g. fyll I ….
B33: 31 | C33: SVSE | D33: Ytbehandling av trä, plast och/eller metall | E33: 1 | F33: Offererade produkter ska inte vara ytbehandlade med sådana produkter som är klassificerade, antingen i EU-bindande klassificering eller vid självklassificering, med nedanstående faroangivelser enligt CLP-förordningen (1272/2008)1. | G33: UM- 10028:1 Bas | H33: V.g. fyll I ….
B34: 32 | C34: SVSE | D34: Antimikrobiell funktion | E34: 1 | F34: Om offererade varor är ytbehandlade med produkter som innehåller flyktiga organiska ämnen (VOC)1 ska påföringsmängden av organiska lösningsmedel vara mindre än 60 g per m2 yta. Undantag: om den totala mängden tillförd VOC understiger 5 vikt% räknat på total mängd applicerad ytbehandlingsprodukt ELLER om mängden tillförd VOC max uppgår till 60 g/m2 yta räknat på total ytbehandlad yta eller belagd yta (t.ex. laminat, linoleum, melaminfilm).. | G34: UM- 10028:1 Avanc | H34: V.g. fyll I ….
B35: 33 | C35: SVSE | D35: Lim som används vid tillverkning av möbler | E35: 1 | F35: Ämnen som ger en antimikrobiell funktion ska inte tillsättas i de offererade produkterna. | G35: UM 11029 Avanc | H35: V.g. fyll I ….
B36: 34 | C36: SVSE | D36: Stoppningsmaterial | E36: 1 | F36: Innehållet av flyktiga organiska ämnen (VOC)1 i limmer som använts i offererade produkter ska inte överstiga 10 vikt%. Innehållet av fri formaldehyd i limmer som använts i offererade produkter ska inte överstiga 0,2 vikt%. 1 Flyktig organisk förening definieras enligt direktiv 2010/75/EU som en organisk förening och den fraktion av kreosot som vid 293,15 k har ett ångtryck av minst 0,01 kPa eller som har motsvarande flyktighet under de särskilda användningsförhållandena. | G36: UM 10030:1 bas | H36: V.g. fyll I ….
B37: 35 | C37: SVSE | D37: Stoppningsmaterial | E37: 1 | F37: Offererade produkter ska inte ha aktiv tillsats av ftalater klassificerade som reproduktionstoxiska, med faroklass H360 enligt CLP-förordningen1. Uppmätt värde per detalj ska inte överskrida 0,1 vikts%. 1 Europaparlamentets och rådets förordning (EG) nr 1272/2008 av den 16 december2008 om klassificering, märkning och förpackning av ämnen och blandningar, ändring och upphävande av direktiven 67/548/EEG och 1999/45/EG samt ändring av förordning (EG) nr 1907/2006. | G37: UM 11021: bas | H37: V.g. fyll I ….
B38: 36 | C38: SVSE | D38: Färgämnen i möbeltextil | E38: 1 | F38: Poäng tilldelas om offererade produkter innehåller stoppningsmaterial där inte något av följande är tillsatt1 i stoppningsmaterialet2: 1. halogenerade organiska föreningar (inklusive klorerade polymerer). Till exempel PVC, organiska klorparaffiner, fluorföreningar, och organiska blekmedel. 2. bisfenol A-föreningar 3. alkylfenoler och alkylfenoletoxylater eller andra alkylfenolderivat3 4. pigment och tillsatser baserade på bly, tenn, kadmium, krom VI och kvicksilver samt föreningar av dessa. 5. föreningar klassificerade, i EU-bindande klassificering eller vid självklassificering, med nedanstående faroangivelser enligt CLP-förordningen (1272/2008)4: Klassificering enligt förordning (EG) nr 1272/2008 om klassificering, märkning och förpackning Faroklass Faroangivelse Cancerframkallande H3505 Mutagen H340 Reproduktionstoxisk H3605 Poäng tilldelas om offererade produkter innehåller stoppningsmaterial där färgämnen används endast för att skilja mellan olika kvaliteter (t.ex. hårt och mjukt skum) inom samma typ av stoppmaterial, eller om stoppmaterialet är synligt och används utan något över. Poäng tilldelas om offererade produkter innehåller stoppningsmaterial där metallkomplexa färger och färger klassificerade med nedanstående riskfraser och faroangivelser enligt CLP-förordningen4 inte ingår6: Klassificering enligt förordning (EG) nr 1272/2008 om klassificering, märkning och förpackning Akut toxicitet (kategorier 1-3) H300, H301, H310, H311, H330, H331 Specifik organtoxicitet - enstaka exponering (kategori 1) H3707 Specifik organtoxicitet - upprepad exponering (kategori 1) H3727 Farligt för vattenmiljön H400, H410, H411 Poäng tilldelas om offererade produkter innehåller stoppningsmaterial där formaldehydkoncentrationen i stoppmaterialet inte överstiger 20 ppm enligt EN ISO 14184-1 eller likvärdig metod godkänd av Nordisk Miljömärkning. Alternativt överstiger formaldehydemissionen inte 0,005 mg/m3 uppmätt i klimatkammare enligt ENV 13419-1. 1 Som tillsats räknas alla ämnen i produkten, även tillsatsmedel (t.ex. pigment)i ingredienserna, men inte föroreningar från råvaruproduktionen. Som föroreningar räknas rester från produktionen av de råvaror som ingår i den färdiga produkten i koncentrationer under 100 ppm (0,01 viktprocent, 100 mg/kg), men inte ämnen som avsiktligen och i ett visst syfte har tillsatts en råvara, oavsett mängd. 2 För Madrass- och stoppmöbelsproducenter ges undantag för användning av lim med polykloroprentillsats om emissionen av restmonomeren kloropren (2-klor-1,3-butadien) är ≤ 1 µg/m³ efter 3 dagar uppmätt vid kammartest EN ISO 16000. Undantaget gäller till 30 juni 2016. Undantaget gäller inte madrasser avsedda för barn. 3 Alkylfenolderivat definieras som ämnen som utsöndras från alkylfenoler vid nedbrytning. 4 Europaparlamentets och rådets förordning (EG) nr 1272/2008 av den 16 december2008 om klassificering, märkning och förpackning av ämnen och blandningar, ändring och upphävande av direktiven 67/548/EEG och 1999/45/EG samt ändring av förordning (EG) nr 1907/2006. 5 Om det är definitivt bevisat att faran inte kan orsakas av några andra exponeringsvägar kan exponeringsvägen ha angetts som en del av faroangivelsen. För reproduktionstoxicitet ska typ av effekt ha specificerats om denna är känd (effekt på fertilitet eller på fosterutveckling). En eller två bokstäver efter faroangivelsen indikerar exponeringsväg (till exempel H350i - Kan orsaka cancer vid inandning) och/eller typ av effekt. Alla tilläggskoder är inkluderade i kriterierna. 6 Som ingående ämnen räknas alla ämnen i en produkt, inklusive föroreningar i ämnena eller råvarorna. Som förorening räknas reaktions-/biprodukter och nedbrytningsprodukter i halter över 0,01 % (motsvarar 100 ppm). Som ingående ämnen räknas även, oavsett halt, additiv som tillsatts avsiktligt för att uppnå en viss funktion, t ex, konservering eller stabilisering av ämnena eller råvarorna. 7 Som en del av faroangivelser H370 och H372 kan vilka organ som påverkas ha angetts om detta är känt. | G38: UM 11021: avanc | H38: V.g. fyll I ….
B39: 37 | C39: SVSE | D39: Plasters innehåll | E39: 1 | F39: Färgämnena och pigmenten i tabellen nedan ska inte förekomma i de offererade produkterna i högre halter än 50 mg/kg textil för varje enskilt ämne. Ämne CAS-nr Dispersionsfärgämnen C.I. Disperse Blue 3 2475-46-9 C.I. Disperse Blue 7 3179-90-6 C.I. Disperse Blue 26 3860-63-7 C.I. Disperse Blue 35 12222-75-2 C.I. Disperse Blue 102 12222-97-8 C.I. Disperse Blue 106 12223-01-7 C.I. Disperse Blue 124 61951-51-7 C.I. Disperse Brown 1 23355-64-8 C.I. Disperse Orange 1 2581-69-3 C.I. Disperse Orange 37/76 13301-61-6 C.I. Disperse Red 1 2872-52-8 C.I. Disperse Red 11 2872-48-2 C.I. Disperse Red 17 3179-89-3 C.I. Disperse Yellow 1 119-15-3 C.I. Disperse Yellow 9 6373-73-5 C.I. Disperse Yellow 39 12236-29-2 C.I. Disperse Yellow 49 54824-37-2 C.I. Disperse Blue 1 2475-45-8 C.I. Disperse Orange 11 82-28-0 C.I. Disperse Orange 149 85136-74-9 C.I. Disperse Orange 3 730-40-5 C.I. Disperse Yellow 3 2832-40-8 Syrafärgämnen Acid Red 26 3761-53-3 Basiska (katjoniska) färgämnen C.I. Basic Red 9 569-61-9 Mordant (betningsmedel) Sodium dichromate 10588-01-9 Direktfärgämnen C.I. Direct Black 38 1937-37-7 C.I. Direct Red 28 573-58-0 C.I. Direct Blue 6 2602-46-2 Pigment Cadmium sulphide 1306-23-6 Lead orange 1314-41-6 Sodium chromate 7775-11-3 Potassium dichromate 7778-50-9 Acetic acid, lead salt, basic 51404-69-4 | G39: UM 11023:1 bas | H39: V.g. fyll I ….
B40: 38 | C40: SVSE | D40: Plasters innehåll | E40: 1 | F40: Pigment i plast Plast, inklusive vävplast/konstläder ska inte ha aktiv tillsats av, eller innehålla följande ämnen: Bly (maxhalt 0,01 vikt% uppmätt värde/detalj) Kadmium (maxhalt 0,01vikt% uppmätt värde/detalj) Mjukgörare i plast Plast, inklusive vävplast/konstläder ska inte ha aktiv tillsats av ftalater klassificerade som reproduktionstoxiska, med farokod H360 enligt CLP-förordningen1. Uppmätt värde per substans och detalj får inte överskrida 0,1 vikts%. Plast, inklusive vävplast/konstläder ska inte ha aktiv tillsats av, eller innehålla kortkedjiga klorparaffiner (SCCP). Uppmätt värde per substans och detalj får inte överskrida 0,01 vikts%. PVC-plast Plastdetaljer, inklusive vävplast/konstläder av PVC-material ska inte ingå i produkten. Undantag: elektriska komponenter (t ex elkablar), sjukhusväv, urinväv och vävplast/konstläder på möbler avsedda för vårdmiljö där regelbunden spritning krävs omfattas inte av kravet på PVC. Undantag Små plastdelar (t ex skruvar, stift och fästanordningar) omfattas inte av kraven. 1 Europaparlamentets och rådets förordning (EG) nr 1272/2008 av den 16 december 2008 om klassificering, märkning och förpackning av ämnen och blandningar, ändring och upphävande av direktiven 67/548/EEG och 1999/45/EG samt ändring av förordning (EG) nr 1907/2006. | G40: UM 11014 Bas | H40: V.g. fyll I ….
B41: 39 | C41: SVSE | D41: Flamskyddsmedel | E41: 1 | F41: Poäng tilldelas om offererade produkter innehåller plastmaterial där inte något av följande är tillsatt1 i plastmaterialet2. halogenerade organiska föreningar (inklusive klorerade polymerer). Till exempel organiska klorparaffiner, fluorföreningar, och organiska blekmedel. bisfenol A-föreningar alkylfenoler, alkylfenoletoxylater eller andra alkylfenolderivat3. pigment och tillsatser baserade på tenn, krom VI och kvicksilver samt föreningar av dessa. föreningar klassificerade, i EU-bindande klassificering eller vid självklassificering, med nedanstående faroangivelser enligt CLP-förordningen (1272/2008)4: Klassificering enligt förordning (EG) nr 1272/2008 om klassificering, märkning och förpackning av ämnen och blandningar Faroklass Faroklass Cancerframkallande H3505 Mutagen H340 Reproduktionstoxisk H3605 1 Som tillsats räknas alla ämnen i produkten, även tillsatsmedel (t.ex. pigment)i ingredienserna, men inte föroreningar från råvaruproduktionen. Som föroreningar räknas rester från produktionen av de råvaror som ingår i den färdiga produkten i koncentrationer under 100 ppm (0,01 viktprocent, 100 mg/kg), men inte ämnen som avsiktligen och i ett visst syfte har tillsatts en råvara, oavsett mängd. 2 För Madrass- och stoppmöbelsproducenter ges undantag för användning av lim med polykloroprentillsats om emissionen av restmonomeren kloropren (2-klor-1,3-butadien) är ≤ 1 µg/m³ efter 3 dagar uppmätt vid kammartest EN ISO 16000. Undantaget gäller till 30 juni 2016. Undantaget gäller inte madrasser avsedda för barn. 3 Alkylfenolderivat definieras som ämnen som utsöndras från alkylfenoler vid nedbrytning. 4 Europaparlamentets och rådets förordning (EG) nr 1272/2008 av den 16 december2008 om klassificering, märkning och förpackning av ämnen och blandningar, ändring och upphävande av direktiven 67/548/EEG och 1999/45/EG samt ändring av förordning (EG) nr 1907/2006. 5 Om det är definitivt bevisat att faran inte kan orsakas av några andra exponeringsvägar kan exponeringsvägen ha angetts som en del av faroangivelsen. För reproduktionstoxicitet ska typ av effekt ha specificerats om denna är känd (effekt på fertilitet eller på fosterutveckling). En eller två bokstäver efter faroangivelsen indikerar exponeringsväg (till exempel H350i - Kan orsaka cancer vid inandning) och/eller typ av effekt. Alla tilläggskoder är inkluderade i kriterierna. | G41: UM 11014 Avanc | H41: V.g. fyll I ….
F42: Kriterietext Offererade produkters ingående material, till exempel textilier, stoppningsmaterial och plaster, ska inte innehålla följande flamskyddsmedel, det vill säga de ska inte vara aktivt tillsatta eller överstiga 0,1 vikt% uppmätt värde: Ämne CAS-nr Polybromerade bifenyler (PBBs) CAS-nr: 59536-65-1 Dekabromdifenyleter (DekaBDE) CAS-nr: 1163-19-5 Pentabromdifenyleter (PentaBDE) CAS-nr: 32534-81-9 Oktabromdifenyleter (OktaBDE) CAS-nr: 32536-52-0 Tris (2,3-dibrompropyl) fosfat (TBPP) CAS-nr: 126-72-7 Tris (1-aziridinyl)fosfin oxid (TEPA) CAS-nr: 545-55-1 Hexabromcyklododekan (HBCDD) CAS-nr: 25637-99-4 Tris (2 kloretyl) fosfat (TCEP) CAS-nr: 115-96-8 Kortkedjiga klorparaffiner CAS-nr: 85535-84-8 Undantag: kravet gäller inte ingående elektronik, till exempel motorer i höj- och sänkbara bord och sängar1 1 För elektronik gäller de lagkrav som finns i det så kallade ROHS-direktivet (direktiv 2011/65/EU) som har införts i de svensk lagstiftning med förordning (2012:861) om farliga ämnen i elektrisk och elektronisk utrustning samt Kemikalieinspektionens föreskrifter (KIFS 2008:2) om kemiska produkter och biotekniska organismer. | G42: UM 10029:2, Bas

Sheet Exempel
A1: rubrik | B1: material | C1: behandling | D1: mått | E1: beskrivning | F1: ITF | G1: fabrikat | H1: artikelnummer | I1: cert_svanen | J1: cert_mobelfakta | K1: cert_ctoc | L1: cert_eueco | M1: cert_bramv | N1: epd | O1: tillverkningsdatum | P1: anskaffningsdatum | Q1: rekonditioneringsdatum | R1: skick | S1: bildreferens | T1: vikt | U1: värde | V1: littera | W1: antal | X1: rum
A2: stol_SF_1 | B2: trä | C2: obehandlat | D2: 1 | E2: röd | F2: F | V2: SFX001 | W2: 4 | X2: 1123
A3: stol_SF_2 | B3: plast | D3: 2 | E3: röd | F3: F | V3: SFX002 | W3: 4 | X3: 1124
A4: stol_SF_3 | B4: trä | D4: 3 | E4: blå | F4: F2 | V4: SFX003 | W4: 4 | X4: 1125
A5: stol_SF_4 | B5: plast | D5: 4 | E5: blå | F5: F2 | V5: SFX004 | W5: 4 | X5: 1126
A6: stol_SF_5 | B6: trä | D6: 5 | E6: grön | F6: F2 | V6: SFX005
A7: stol_SF_6 | B7: plast | C7: obehandlat | D7: 6 | E7: grön | F7: F2 | V7: SFX006 | W7: 20 | X7: 3441
A8: stol_SF_6 | B8: plast | C8: obehandlat | D8: 6 | E8: grön | F8: F2 | V8: SFX006 | W8: 11 | X8: 3442
A9: stol_SF_6 | B9: plast | C9: obehandlat | D9: 6 | E9: grön | F9: F2 | V9: SFX006 | W9: 2 | X9: 3443
A10: stol_SF_7 | B10: trä | C10: obehandlat | D10: 7 | E10: gul | F10: F2 | V10: SFX007
A11: stol_SF_8 | B11: plast | C11: obehandlat | D11: 8 | E11: gul | F11: F2 | V11: SFX008
A12: stol_SF_9 | B12: trä | C12: obehandlat | D12: 9 | E12: svart | F12: F2 | V12: SFX009
A13: stol_SF_10 | B13: plast | C13: obehandlat | D13: 10 | E13: svart | F13: F2 | V13: SFX010
A14: stol_SF_11 | B14: trä | E14: vit | F14: F2 | V14: SFX011
A15: stol_SF_12 | B15: plast | E15: vit | F15: F2
A16: stol_SF_13 | B16: trä | E16: lila | F16: Z
A17: stol_SF_14 | B17: plast | E17: lila | F17: Z | V17: SFX014
A18: stol_SF_15 | B18: trä | D18: stor | E18: röd | F18: Z | V18: SFX015

Sheet SJAKLA_TRANSLATED
A1: rubrik | B1: material | C1: behandling | D1: mått | E1: beskrivning | F1: ITF | G1: fabrikat | H1: artikelnummer | I1: cert_svanen | J1: cert_mobelfakta | K1: cert_ctoc | L1: cert_eueco | M1: cert_bramv | N1: epd | O1: tillverkningsdatum | P1: anskaffningsdatum | Q1: rekonditioneringsdatum | R1: skick | S1: bildreferens | T1: vikt | U1: värde | V1: littera | W1: antal | X1: rum
A2: =SAJKLA!D2 -> Kontorstol svart | B2: =IF(SAJKLA!K2="","","Rygg:"&SAJKLA!K2)&IF(SAJKLA!BK2="",""," Stativ:"&SAJKLA!BK2&" "&BL2)&IF(SAJKLA!BV2="","",", Sits:"&SAJKLA!BV2) -> Rygg:Tyg Stativ:Plast , Sits:Tyg | C2: =IF(SAJKLA!L2&SAJKLA!N2="","","Rygg:"&SAJKLA!L2&","&SAJKLA!N2)&IF(SAJKLA!BO2="","",", Metal:"&SAJKLA!BO2)&IF(SAJKLA!BX2="","",", Sits:"&SAJKLA!BX2) | D2: ="W"&SAJKLA!E2&" H"&SAJKLA!F2&" D"&SAJKLA!G2&IFERROR(IF((SAJKLA!H2="Ja")," Inställningsbar",""),"") -> W70 H100 D70 Inställningsbar | E2: =SAJKLA!Q2&", "&SAJKLA!BN2&", "&SAJKLA!BZ2 -> Inga eller små förslitningsskador, , Bra. Upplevs stabila | F2: F | G2: =SAJKLA!BM2 -> Kinnarps | S2: =SAJKLA!AP2 -> original_images/furniture-item_pa0hlkd.jpeg | W2: =IF(ISBLANK(SAJKLA!A2),"",1) -> 1 | X2: =SAJKLA!CH2 -> 124
A3: =SAJKLA!D3 -> Kontorstol svart | B3: =IF(SAJKLA!K3="","","Rygg:"&SAJKLA!K3)&IF(SAJKLA!BK3="",""," Stativ:"&SAJKLA!BK3&" "&BL3)&IF(SAJKLA!BV3="","",", Sits:"&SAJKLA!BV3) -> Rygg:Tyg Stativ:Plast , Sits:Tyg | C3: =IF(SAJKLA!L3&SAJKLA!N3="","","Rygg:"&SAJKLA!L3&","&SAJKLA!N3)&IF(SAJKLA!BO3="","",", Metal:"&SAJKLA!BO3)&IF(SAJKLA!BX3="","",", Sits:"&SAJKLA!BX3) | D3: ="W"&SAJKLA!E3&" H"&SAJKLA!F3&" D"&SAJKLA!G3&IFERROR(IF((SAJKLA!H3="Ja")," Inställningsbar",""),"") -> W70 H100 D70 Inställningsbar | E3: =SAJKLA!Q3&", "&SAJKLA!BN3&", "&SAJKLA!BZ3 -> Inga eller små förslitningsskador, , Bra. Upplevs stabila | F3: F | G3: =SAJKLA!BM3 -> Kinnarps | S3: =SAJKLA!AP3 -> original_images/furniture-item_pa0hlkd.jpeg | W3: =IF(ISBLANK(SAJKLA!A3),"",1) -> 1 | X3: =SAJKLA!CH3 -> 125
A4: =SAJKLA!D4 -> Stol svart | B4: =IF(SAJKLA!K4="","","Rygg:"&SAJKLA!K4)&IF(SAJKLA!BK4="",""," Stativ:"&SAJKLA!BK4&" "&BL4)&IF(SAJKLA!BV4="","",", Sits:"&SAJKLA!BV4) -> Rygg:Formpressat trä Stativ:Metall , Sits:Formpressat trä | C4: =IF(SAJKLA!L4&SAJKLA!N4="","","Rygg:"&SAJKLA!L4&","&SAJKLA!N4)&IF(SAJKLA!BO4="","",", Metal:"&SAJKLA!BO4)&IF(SAJKLA!BX4="","",", Sits:"&SAJKLA!BX4) -> Rygg:,Målad, Sits:Målad | D4: ="W"&SAJKLA!E4&" H"&SAJKLA!F4&" D"&SAJKLA!G4&IFERROR(IF((SAJKLA!H4="Ja")," Inställningsbar",""),"") -> W50 H74 D49 | E4: =SAJKLA!Q4&", "&SAJKLA!BN4&", "&SAJKLA!BZ4 -> Inga eller små förslitningsskador, Ren och fin från tejp, klister mm, Bra. Upplevs stabila | F4: F | G4: =SAJKLA!BM4 -> Kinnarps | S4: =SAJKLA!AP4 -> original_images/furniture-item_dWIxr18.jpeg | W4: =IF(ISBLANK(SAJKLA!A4),"",1) -> 1 | X4: =SAJKLA!CH4 -> Matsal
A5: =SAJKLA!D5 -> Stol svart | B5: =IF(SAJKLA!K5="","","Rygg:"&SAJKLA!K5)&IF(SAJKLA!BK5="",""," Stativ:"&SAJKLA!BK5&" "&BL5)&IF(SAJKLA!BV5="","",", Sits:"&SAJKLA!BV5) -> Rygg:Formpressat trä Stativ:Metall , Sits:Formpressat trä | C5: =IF(SAJKLA!L5&SAJKLA!N5="","","Rygg:"&SAJKLA!L5&","&SAJKLA!N5)&IF(SAJKLA!BO5="","",", Metal:"&SAJKLA!BO5)&IF(SAJKLA!BX5="","",", Sits:"&SAJKLA!BX5) -> Rygg:,Målad, Sits:Målad | D5: ="W"&SAJKLA!E5&" H"&SAJKLA!F5&" D"&SAJKLA!G5&IFERROR(IF((SAJKLA!H5="Ja")," Inställningsbar",""),"") -> W50 H74 D49 | E5: =SAJKLA!Q5&", "&SAJKLA!BN5&", "&SAJKLA!BZ5 -> Inga eller små förslitningsskador, Ren och fin från tejp, klister mm, Bra. Upplevs stabila | F5: F | G5: =SAJKLA!BM5 -> Kinnarps | S5: =SAJKLA!AP5 -> original_images/furniture-item_dWIxr18.jpeg | W5: =IF(ISBLANK(SAJKLA!A5),"",1) -> 1 | X5: =SAJKLA!CH5 -> Matsal
A6: =SAJKLA!D6 -> Stol svart | B6: =IF(SAJKLA!K6="","","Rygg:"&SAJKLA!K6)&IF(SAJKLA!BK6="",""," Stativ:"&SAJKLA!BK6&" "&BL6)&IF(SAJKLA!BV6="","",", Sits:"&SAJKLA!BV6) -> Rygg:Formpressat trä Stativ:Metall , Sits:Formpressat trä | C6: =IF(SAJKLA!L6&SAJKLA!N6="","","Rygg:"&SAJKLA!L6&","&SAJKLA!N6)&IF(SAJKLA!BO6="","",", Metal:"&SAJKLA!BO6)&IF(SAJKLA!BX6="","",", Sits:"&SAJKLA!BX6) -> Rygg:,Målad, Sits:Målad | D6: ="W"&SAJKLA!E6&" H"&SAJKLA!F6&" D"&SAJKLA!G6&IFERROR(IF((SAJKLA!H6="Ja")," Inställningsbar",""),"") -> W50 H74 D49 | E6: =SAJKLA!Q6&", "&SAJKLA!BN6&", "&SAJKLA!BZ6 -> Inga eller små förslitningsskador, Ren och fin från tejp, klister mm, Bra. Upplevs stabila | F6: F | G6: =SAJKLA!BM6 -> Kinnarps | S6: =SAJKLA!AP6 -> original_images/furniture-item_dWIxr18.jpeg | W6: =IF(ISBLANK(SAJKLA!A6),"",1) -> 1 | X6: =SAJKLA!CH6 -> Matsal
A7: =SAJKLA!D7 -> Stol svart | B7: =IF(SAJKLA!K7="","","Rygg:"&SAJKLA!K7)&IF(SAJKLA!BK7="",""," Stativ:"&SAJKLA!BK7&" "&BL7)&IF(SAJKLA!BV7="","",", Sits:"&SAJKLA!BV7) -> Rygg:Formpressat trä Stativ:Metall , Sits:Formpressat trä | C7: =IF(SAJKLA!L7&SAJKLA!N7="","","Rygg:"&SAJKLA!L7&","&SAJKLA!N7)&IF(SAJKLA!BO7="","",", Metal:"&SAJKLA!BO7)&IF(SAJKLA!BX7="","",", Sits:"&SAJKLA!BX7) -> Rygg:,Målad, Sits:Målad | D7: ="W"&SAJKLA!E7&" H"&SAJKLA!F7&" D"&SAJKLA!G7&IFERROR(IF((SAJKLA!H7="Ja")," Inställningsbar",""),"") -> W50 H74 D49 | E7: =SAJKLA!Q7&", "&SAJKLA!BN7&", "&SAJKLA!BZ7 -> Inga eller små förslitningsskador, Ren och fin från tejp, klister mm, Bra. Upplevs stabila | F7: F | G7: =SAJKLA!BM7 -> Kinnarps | S7: =SAJKLA!AP7 -> original_images/furniture-item_dWIxr18.jpeg | W7: =IF(ISBLANK(SAJKLA!A7),"",1) -> 1 | X7: =SAJKLA!CH7 -> Matsal
A8: =SAJKLA!D8 -> Stol svart | B8: =IF(SAJKLA!K8="","","Rygg:"&SAJKLA!K8)&IF(SAJKLA!BK8="",""," Stativ:"&SAJKLA!BK8&" "&BL8)&IF(SAJKLA!BV8="","",", Sits:"&SAJKLA!BV8) -> Rygg:Formpressat trä Stativ:Metall , Sits:Formpressat trä | C8: =IF(SAJKLA!L8&SAJKLA!N8="","","Rygg:"&SAJKLA!L8&","&SAJKLA!N8)&IF(SAJKLA!BO8="","",", Metal:"&SAJKLA!BO8)&IF(SAJKLA!BX8="","",", Sits:"&SAJKLA!BX8) -> Rygg:,Målad, Sits:Målad | D8: ="W"&SAJKLA!E8&" H"&SAJKLA!F8&" D"&SAJKLA!G8&IFERROR(IF((SAJKLA!H8="Ja")," Inställningsbar",""),"") -> W50 H74 D49 | E8: =SAJKLA!Q8&", "&SAJKLA!BN8&", "&SAJKLA!BZ8 -> Inga eller små förslitningsskador, Ren och fin från tejp, klister mm, Bra. Upplevs stabila | F8: F | G8: =SAJKLA!BM8 -> Kinnarps | S8: =SAJKLA!AP8 -> original_images/furniture-item_dWIxr18.jpeg | W8: =IF(ISBLANK(SAJKLA!A8),"",1) -> 1 | X8: =SAJKLA!CH8 -> Matsal
A9: =SAJKLA!D9 -> Stol svart | B9: =IF(SAJKLA!K9="","","Rygg:"&SAJKLA!K9)&IF(SAJKLA!BK9="",""," Stativ:"&SAJKLA!BK9&" "&BL9)&IF(SAJKLA!BV9="","",", Sits:"&SAJKLA!BV9) -> Rygg:Formpressat trä Stativ:Metall , Sits:Formpressat trä | C9: =IF(SAJKLA!L9&SAJKLA!N9="","","Rygg:"&SAJKLA!L9&","&SAJKLA!N9)&IF(SAJKLA!BO9="","",", Metal:"&SAJKLA!BO9)&IF(SAJKLA!BX9="","",", Sits:"&SAJKLA!BX9) -> Rygg:,Målad, Sits:Målad | D9: ="W"&SAJKLA!E9&" H"&SAJKLA!F9&" D"&SAJKLA!G9&IFERROR(IF((SAJKLA!H9="Ja")," Inställningsbar",""),"") -> W50 H74 D49 | E9: =SAJKLA!Q9&", "&SAJKLA!BN9&", "&SAJKLA!BZ9 -> Inga eller små förslitningsskador, Ren och fin från tejp, klister mm, Bra. Upplevs stabila | F9: F | G9: =SAJKLA!BM9 -> Kinnarps | S9: =SAJKLA!AP9 -> original_images/furniture-item_dWIxr18.jpeg | W9: =IF(ISBLANK(SAJKLA!A9),"",1) -> 1 | X9: =SAJKLA!CH9 -> Matsal
A10: =SAJKLA!D10 -> Stol svart | B10: =IF(SAJKLA!K10="","","Rygg:"&SAJKLA!K10)&IF(SAJKLA!BK10="",""," Stativ:"&SAJKLA!BK10&" "&BL10)&IF(SAJKLA!BV10="","",", Sits:"&SAJKLA!BV10) -> Rygg:Formpressat trä Stativ:Metall , Sits:Formpressat trä | C10: =IF(SAJKLA!L10&SAJKLA!N10="","","Rygg:"&SAJKLA!L10&","&SAJKLA!N10)&IF(SAJKLA!BO10="","",", Metal:"&SAJKLA!BO10)&IF(SAJKLA!BX10="","",", Sits:"&SAJKLA!BX10) -> Rygg:,Målad, Sits:Målad | D10: ="W"&SAJKLA!E10&" H"&SAJKLA!F10&" D"&SAJKLA!G10&IFERROR(IF((SAJKLA!H10="Ja")," Inställningsbar",""),"") -> W50 H74 D49 | E10: =SAJKLA!Q10&", "&SAJKLA!BN10&", "&SAJKLA!BZ10 -> Inga eller små förslitningsskador, Ren och fin från tejp, klister mm, Bra. Upplevs stabila | F10: F | G10: =SAJKLA!BM10 -> Kinnarps | S10: =SAJKLA!AP10 -> original_images/furniture-item_dWIxr18.jpeg | W10: =IF(ISBLANK(SAJKLA!A10),"",1) -> 1 | X10: =SAJKLA!CH10 -> Matsal
A11: =SAJKLA!D11 -> Stol svart | B11: =IF(SAJKLA!K11="","","Rygg:"&SAJKLA!K11)&IF(SAJKLA!BK11="",""," Stativ:"&SAJKLA!BK11&" "&BL11)&IF(SAJKLA!BV11="","",", Sits:"&SAJKLA!BV11) -> Rygg:Formpressat trä Stativ:Metall , Sits:Formpressat trä | C11: =IF(SAJKLA!L11&SAJKLA!N11="","","Rygg:"&SAJKLA!L11&","&SAJKLA!N11)&IF(SAJKLA!BO11="","",", Metal:"&SAJKLA!BO11)&IF(SAJKLA!BX11="","",", Sits:"&SAJKLA!BX11) -> Rygg:,Målad, Sits:Målad | D11: ="W"&SAJKLA!E11&" H"&SAJKLA!F11&" D"&SAJKLA!G11&IFERROR(IF((SAJKLA!H11="Ja")," Inställningsbar",""),"") -> W50 H74 D49 | E11: =SAJKLA!Q11&", "&SAJKLA!BN11&", "&SAJKLA!BZ11 -> Inga eller små förslitningsskador, Ren och fin från tejp, klister mm, Bra. Upplevs stabila | F11: F | G11: =SAJKLA!BM11 -> Kinnarps | S11: =SAJKLA!AP11 -> original_images/furniture-item_dWIxr18.jpeg | W11: =IF(ISBLANK(SAJKLA!A11),"",1) -> 1 | X11: =SAJKLA!CH11 -> Matsal
A12: =SAJKLA!D12 -> Stol svart | B12: =IF(SAJKLA!K12="","","Rygg:"&SAJKLA!K12)&IF(SAJKLA!BK12="",""," Stativ:"&SAJKLA!BK12&" "&BL12)&IF(SAJKLA!BV12="","",", Sits:"&SAJKLA!BV12) -> Rygg:Formpressat trä Stativ:Metall , Sits:Formpressat trä | C12: =IF(SAJKLA!L12&SAJKLA!N12="","","Rygg:"&SAJKLA!L12&","&SAJKLA!N12)&IF(SAJKLA!BO12="","",", Metal:"&SAJKLA!BO12)&IF(SAJKLA!BX12="","",", Sits:"&SAJKLA!BX12) -> Rygg:,Målad, Sits:Målad | D12: ="W"&SAJKLA!E12&" H"&SAJKLA!F12&" D"&SAJKLA!G12&IFERROR(IF((SAJKLA!H12="Ja")," Inställningsbar",""),"") -> W50 H74 D49 | E12: =SAJKLA!Q12&", "&SAJKLA!BN12&", "&SAJKLA!BZ12 -> Inga eller små förslitningsskador, Ren och fin från tejp, klister mm, Bra. Upplevs stabila | F12: F | G12: =SAJKLA!BM12 -> Kinnarps | S12: =SAJKLA!AP12 -> original_images/furniture-item_dWIxr18.jpeg | W12: =IF(ISBLANK(SAJKLA!A12),"",1) -> 1 | X12: =SAJKLA!CH12 -> Matsal
A13: =SAJKLA!D13 -> Stol svart | B13: =IF(SAJKLA!K13="","","Rygg:"&SAJKLA!K13)&IF(SAJKLA!BK13="",""," Stativ:"&SAJKLA!BK13&" "&BL13)&IF(SAJKLA!BV13="","",", Sits:"&SAJKLA!BV13) -> Rygg:Formpressat trä Stativ:Metall , Sits:Formpressat trä | C13: =IF(SAJKLA!L13&SAJKLA!N13="","","Rygg:"&SAJKLA!L13&","&SAJKLA!N13)&IF(SAJKLA!BO13="","",", Metal:"&SAJKLA!BO13)&IF(SAJKLA!BX13="","",", Sits:"&SAJKLA!BX13) -> Rygg:,Målad, Sits:Målad | D13: ="W"&SAJKLA!E13&" H"&SAJKLA!F13&" D"&SAJKLA!G13&IFERROR(IF((SAJKLA!H13="Ja")," Inställningsbar",""),"") -> W50 H74 D49 | E13: =SAJKLA!Q13&", "&SAJKLA!BN13&", "&SAJKLA!BZ13 -> Inga eller små förslitningsskador, Ren och fin från tejp, klister mm, Bra. Upplevs stabila | F13: F | G13: =SAJKLA!BM13 -> Kinnarps | S13: =SAJKLA!AP13 -> original_images/furniture-item_dWIxr18.jpeg | W13: =IF(ISBLANK(SAJKLA!A13),"",1) -> 1 | X13: =SAJKLA!CH13 -> Matsal
... A2635: =SAJKLA!D2635 -> Spot lights | B2635: =IF(SAJKLA!K2635="","","Rygg:"&SAJKLA!K2635)&IF(SAJKLA!BK2635="",""," Stativ:"&SAJKLA!BK2635&" "&BL2635)&IF(SAJKLA!BV2635="","",", Sits:"&SAJKLA!BV2635) | C2635: =IF(SAJKLA!L2635&SAJKLA!N2635="","","Rygg:"&SAJKLA!L2635&","&SAJKLA!N2635)&IF(SAJKLA!BO2635="","",", Metal:"&SAJKLA!BO2635)&IF(SAJKLA!BX2635="","",", Sits:"&SAJKLA!BX2635) | D2635: ="W"&SAJKLA!E2635&" H"&SAJKLA!F2635&" D"&SAJKLA!G2635&IFERROR(IF((SAJKLA!H2635="Ja")," Inställningsbar",""),"") -> W50 H15 D15 | E2635: =SAJKLA!Q2635&", "&SAJKLA!BN2635&", "&SAJKLA!BZ2635 -> Inga eller små förslitningsskador, , Bra. Upplevs stabila | F2635: F | G2635: =SAJKLA!BM2635 -> 0 | S2635: =SAJKLA!AP2635 -> original_images/furniture-item_HcDN8wc.jpeg | W2635: =IF(ISBLANK(SAJKLA!A2635),"",1) -> 1 | X2635: =SAJKLA!CH2635 -> Korridor syslöjd

Sheet SAJKLA
A1: ID | B1: CATEGORY | C1: TYPE | D1: DESC | E1: WIDTH | F1: HEIGHT | G1: DEPTH | H1: ADJUSTABLE_HEIGHT | I1: ADJUSTABLE_HEIGHT_METHOD | J1: BACK_HEIGHT | K1: BACK_MATERIAL | L1: BACK_METAL_TREATMENT | M1: BACK_WIDTH | N1: BACK_WOOD_TREATMENT | O1: CONDITION | P1: CREATED_AT | Q1: DAMAGES | R1: DAMAGES_DESC | S1: DIAMETER | T1: HAS_FRAME | U1: HEIGHT_FLOOR_FRAME | V1: ITEM_DAMAGE_IMAGE_0 | W1: ITEM_DAMAGE_IMAGE_1 | X1: ITEM_DAMAGE_IMAGE_2 | Y1: ITEM_DAMAGE_IMAGE_3 | Z1: ITEM_DAMAGE_IMAGE_4 | AA1: ITEM_DAMAGE_IMAGE_5 | AB1: ITEM_DAMAGE_IMAGE_6 | AC1: ITEM_DAMAGE_IMAGE_7 | AD1: ITEM_DAMAGE_IMAGE_8 | AE1: ITEM_DAMAGE_IMAGE_9 | AF1: ITEM_DAMAGE_IMAGE_NAME_0 | AG1: ITEM_DAMAGE_IMAGE_NAME_1 | AH1: ITEM_DAMAGE_IMAGE_NAME_2 | AI1: ITEM_DAMAGE_IMAGE_NAME_3 | AJ1: ITEM_DAMAGE_IMAGE_NAME_4 | AK1: ITEM_DAMAGE_IMAGE_NAME_5 | AL1: ITEM_DAMAGE_IMAGE_NAME_6 | AM1: ITEM_DAMAGE_IMAGE_NAME_7 | AN1: ITEM_DAMAGE_IMAGE_NAME_8 | AO1: ITEM_DAMAGE_IMAGE_NAME_9 | AP1: ITEM_IMAGE_0 | AQ1: ITEM_IMAGE_1 | AR1: ITEM_IMAGE_2 | AS1: ITEM_IMAGE_3 | AT1: ITEM_IMAGE_4 | AU1: ITEM_IMAGE_5 | AV1: ITEM_IMAGE_6 | AW1: ITEM_IMAGE_7 | AX1: ITEM_IMAGE_8 | AY1: ITEM_IMAGE_9 | AZ1: ITEM_IMAGE_NAME_0 | BA1: ITEM_IMAGE_NAME_1 | BB1: ITEM_IMAGE_NAME_2 | BC1: ITEM_IMAGE_NAME_3 | BD1: ITEM_IMAGE_NAME_4 | BE1: ITEM_IMAGE_NAME_5 | BF1: ITEM_IMAGE_NAME_6 | BG1: ITEM_IMAGE_NAME_7 | BH1: ITEM_IMAGE_NAME_8 | BI1: ITEM_IMAGE_NAME_9 | BJ1: LEGS_STAND_DAMAGES | BK1: LEGS_STAND_MATERIAL | BL1: LEGS_STAND_METAL_QUALITY | BM1: MANUFACTURER | BN1: METAL_QUALITY | BO1: METAL_TREATMENT | BP1: MODEL | BQ1: NOTES | BR1: PAD_QUALITY | BS1: PRODUCTION_YEAR | BT1: SEAT_DEPTH | BU1: SEAT_HEIGHT | BV1: SEAT_MATERIAL | BW1: SEAT_WIDTH | BX1: SEAT_WOOD_TREATMENT | BY1: SERIAL_NO | BZ1: STABILITY | CA1: STACKABLE | CB1: TOP_CORE_MATERIAL | CC1: TOP_DAMAGES | CD1: TOP_SHAPE | CE1: TOP_SURFACE_MATERIAL | CF1: UPHOLSTERED_SEAT_BACK_QUALITY | CG1: WOOD_FINISHING | CH1: ZONE
A2: inv_knZmVug7qtbYtp_3701_0 | B2: Sittmöbel | C2: Skrivbordsstol | D2: Kontorstol svart | E2: 70 | F2: 100 | G2: 70 | H2: Ja | J2: 46 | K2: Tyg | M2: 42 | P2: 44503 | Q2: Inga eller små förslitningsskador | T2: Ja | V2: original_images/furniture-item_SsEzx8h.jpeg | AF2: extra | AP2: original_images/furniture-item_pa0hlkd.jpeg | AQ2: original_images/furniture-item_wLkgix3.jpeg | AR2: original_images/furniture-item_0KkaN85.jpeg | AS2: original_images/furniture-item_WpPoY1Z.jpeg | AT2: original_images/furniture-item_6JUag7C.jpeg | AU2: original_images/furniture-item_k0vOI7d.jpeg | AV2: original_images/furniture-item_tMbOzCl.jpeg | AZ2: front | BA2: back | BB2: under | BC2: mount-under | BD2: pad | BE2: mount-back | BF2: extra | BK2: Plast | BM2: Kinnarps | BT2: 45 | BU2: 54 | BV2: Tyg | BW2: 47 | BZ2: Bra. Upplevs stabila | CH2: 124
A3: inv_knZmVug7qtbYtp_3677_0 | B3: Sittmöbel | C3: Skrivbordsstol | D3: Kontorstol svart | E3: 70 | F3: 100 | G3: 70 | H3: Ja | J3: 46 | K3: Tyg | M3: 42 | P3: 44503 | Q3: Inga eller små förslitningsskador | T3: Ja | V3: original_images/furniture-item_SsEzx8h.jpeg | AF3: extra | AP3: original_images/furniture-item_pa0hlkd.jpeg | AQ3: original_images/furniture-item_wLkgix3.jpeg | AR3: original_images/furniture-item_0KkaN85.jpeg | AS3: original_images/furniture-item_WpPoY1Z.jpeg | AT3: original_images/furniture-item_6JUag7C.jpeg | AU3: original_images/furniture-item_k0vOI7d.jpeg | AV3: original_images/furniture-item_tMbOzCl.jpeg | AZ3: front | BA3: back | BB3: under | BC3: mount-under | BD3: pad | BE3: mount-back | BF3: extra | BK3: Plast | BM3: Kinnarps | BT3: 45 | BU3: 54 | BV3: Tyg | BW3: 47 | BZ3: Bra. Upplevs stabila | CH3: 125
A4: inv_GrjyNaFkl5KHSE_4075_0 | B4: Sittmöbel | C4: Stol | D4: Stol svart | E4: 50 | F4: 74 | G4: 49 | H4: Nej | K4: Formpressat trä | N4: Målad | P4: 44504 | Q4: Inga eller små förslitningsskador | T4: Nej | AP4: original_images/furniture-item_dWIxr18.jpeg | AQ4: original_images/furniture-item_hWv6ubn.jpeg | AR4: original_images/furniture-item_8BHzBXi.jpeg | AS4: original_images/furniture-item_013FsRS.jpeg | AT4: original_images/furniture-item_aT2S7gd.jpeg | AU4: original_images/furniture-item_8V8RwIw.jpeg | AZ4: front | BA4: back | BB4: under | BC4: mount-under | BD4: pad | BE4: mount-back | BK4: Metall | BM4: Kinnarps | BN4: Ren och fin från tejp, klister mm | BU4: 46 | BV4: Formpressat trä | BX4: Målad | BZ4: Bra. Upplevs stabila | CA4: Ja | CH4: Matsal
A5: inv_GrjyNaFkl5KHSE_4075_1 | B5: Sittmöbel | C5: Stol | D5: Stol svart | E5: 50 | F5: 74 | G5: 49 | H5: Nej | K5: Formpressat trä | N5: Målad | P5: 44504 | Q5: Inga eller små förslitningsskador | T5: Nej | AP5: original_images/furniture-item_dWIxr18.jpeg | AQ5: original_images/furniture-item_hWv6ubn.jpeg | AR5: original_images/furniture-item_8BHzBXi.jpeg | AS5: original_images/furniture-item_013FsRS.jpeg | AT5: original_images/furniture-item_aT2S7gd.jpeg | AU5: original_images/furniture-item_8V8RwIw.jpeg | AZ5: front | BA5: back | BB5: under | BC5: mount-under | BD5: pad | BE5: mount-back | BK5: Metall | BM5: Kinnarps | BN5: Ren och fin från tejp, klister mm | BU5: 46 | BV5: Formpressat trä | BX5: Målad | BZ5: Bra. Upplevs stabila | CA5: Ja | CH5: Matsal
A6: inv_GrjyNaFkl5KHSE_4075_2 | B6: Sittmöbel | C6: Stol | D6: Stol svart | E6: 50 | F6: 74 | G6: 49 | H6: Nej | K6: Formpressat trä | N6: Målad | P6: 44504 | Q6: Inga eller små förslitningsskador | T6: Nej | AP6: original_images/furniture-item_dWIxr18.jpeg | AQ6: original_images/furniture-item_hWv6ubn.jpeg | AR6: original_images/furniture-item_8BHzBXi.jpeg | AS6: original_images/furniture-item_013FsRS.jpeg | AT6: original_images/furniture-item_aT2S7gd.jpeg | AU6: original_images/furniture-item_8V8RwIw.jpeg | AZ6: front | BA6: back | BB6: under | BC6: mount-under | BD6: pad | BE6: mount-back | BK6: Metall | BM6: Kinnarps | BN6: Ren och fin från tejp, klister mm | BU6: 46 | BV6: Formpressat trä | BX6: Målad | BZ6: Bra. Upplevs stabila | CA6: Ja | CH6: Matsal
A7: inv_GrjyNaFkl5KHSE_4075_3 | B7: Sittmöbel | C7: Stol | D7: Stol svart | E7: 50 | F7: 74 | G7: 49 | H7: Nej | K7: Formpressat trä | N7: Målad | P7: 44504 | Q7: Inga eller små förslitningsskador | T7: Nej | AP7: original_images/furniture-item_dWIxr18.jpeg | AQ7: original_images/furniture-item_hWv6ubn.jpeg | AR7: original_images/furniture-item_8BHzBXi.jpeg | AS7: original_images/furniture-item_013FsRS.jpeg | AT7: original_images/furniture-item_aT2S7gd.jpeg | AU7: original_images/furniture-item_8V8RwIw.jpeg | AZ7: front | BA7: back | BB7: under | BC7: mount-under | BD7: pad | BE7: mount-back | BK7: Metall | BM7: Kinnarps | BN7: Ren och fin från tejp, klister mm | BU7: 46 | BV7: Formpressat trä | BX7: Målad | BZ7: Bra. Upplevs stabila | CA7: Ja | CH7: Matsal
A8: inv_GrjyNaFkl5KHSE_4075_4 | B8: Sittmöbel | C8: Stol | D8: Stol svart | E8: 50 | F8: 74 | G8: 49 | H8: Nej | K8: Formpressat trä | N8: Målad | P8: 44504 | Q8: Inga eller små förslitningsskador | T8: Nej | AP8: original_images/furniture-item_dWIxr18.jpeg | AQ8: original_images/furniture-item_hWv6ubn.jpeg | AR8: original_images/furniture-item_8BHzBXi.jpeg | AS8: original_images/furniture-item_013FsRS.jpeg | AT8: original_images/furniture-item_aT2S7gd.jpeg | AU8: original_images/furniture-item_8V8RwIw.jpeg | AZ8: front | BA8: back | BB8: under | BC8: mount-under | BD8: pad | BE8: mount-back | BK8: Metall | BM8: Kinnarps | BN8: Ren och fin från tejp, klister mm | BU8: 46 | BV8: Formpressat trä | BX8: Målad | BZ8: Bra. Upplevs stabila | CA8: Ja | CH8: Matsal
A9: inv_GrjyNaFkl5KHSE_4075_5 | B9: Sittmöbel | C9: Stol | D9: Stol svart | E9: 50 | F9: 74 | G9: 49 | H9: Nej | K9: Formpressat trä | N9: Målad | P9: 44504 | Q9: Inga eller små förslitningsskador | T9: Nej | AP9: original_images/furniture-item_dWIxr18.jpeg | AQ9: original_images/furniture-item_hWv6ubn.jpeg | AR9: original_images/furniture-item_8BHzBXi.jpeg | AS9: original_images/furniture-item_013FsRS.jpeg | AT9: original_images/furniture-item_aT2S7gd.jpeg | AU9: original_images/furniture-item_8V8RwIw.jpeg | AZ9: front | BA9: back | BB9: under | BC9: mount-under | BD9: pad | BE9: mount-back | BK9: Metall | BM9: Kinnarps | BN9: Ren och fin från tejp, klister mm | BU9: 46 | BV9: Formpressat trä | BX9: Målad | BZ9: Bra. Upplevs stabila | CA9: Ja | CH9: Matsal
A10: inv_GrjyNaFkl5KHSE_4075_6 | B10: Sittmöbel | C10: Stol | D10: Stol svart | E10: 50 | F10: 74 | G10: 49 | H10: Nej | K10: Formpressat trä | N10: Målad | P10: 44504 | Q10: Inga eller små förslitningsskador | T10: Nej | AP10: original_images/furniture-item_dWIxr18.jpeg | AQ10: original_images/furniture-item_hWv6ubn.jpeg | AR10: original_images/furniture-item_8BHzBXi.jpeg | AS10: original_images/furniture-item_013FsRS.jpeg | AT10: original_images/furniture-item_aT2S7gd.jpeg | AU10: original_images/furniture-item_8V8RwIw.jpeg | AZ10: front | BA10: back | BB10: under | BC10: mount-under | BD10: pad | BE10: mount-back | BK10: Metall | BM10: Kinnarps | BN10: Ren och fin från tejp, klister mm | BU10: 46 | BV10: Formpressat trä | BX10: Målad | BZ10: Bra. Upplevs stabila | CA10: Ja | CH10: Matsal
A11: inv_GrjyNaFkl5KHSE_4075_7 | B11: Sittmöbel | C11: Stol | D11: Stol svart | E11: 50 | F11: 74 | G11: 49 | H11: Nej | K11: Formpressat trä | N11: Målad | P11: 44504 | Q11: Inga eller små förslitningsskador | T11: Nej | AP11: original_images/furniture-item_dWIxr18.jpeg | AQ11: original_images/furniture-item_hWv6ubn.jpeg | AR11: original_images/furniture-item_8BHzBXi.jpeg | AS11: original_images/furniture-item_013FsRS.jpeg | AT11: original_images/furniture-item_aT2S7gd.jpeg | AU11: original_images/furniture-item_8V8RwIw.jpeg | AZ11: front | BA11: back | BB11: under | BC11: mount-under | BD11: pad | BE11: mount-back | BK11: Metall | BM11: Kinnarps | BN11: Ren och fin från tejp, klister mm | BU11: 46 | BV11: Formpressat trä | BX11: Målad | BZ11: Bra. Upplevs stabila | CA11: Ja | CH11: Matsal
A12: inv_GrjyNaFkl5KHSE_4075_8 | B12: Sittmöbel | C12: Stol | D12: Stol svart | E12: 50 | F12: 74 | G12: 49 | H12: Nej | K12: Formpressat trä | N12: Målad | P12: 44504 | Q12: Inga eller små förslitningsskador | T12: Nej | AP12: original_images/furniture-item_dWIxr18.jpeg | AQ12: original_images/furniture-item_hWv6ubn.jpeg | AR12: original_images/furniture-item_8BHzBXi.jpeg | AS12: original_images/furniture-item_013FsRS.jpeg | AT12: original_images/furniture-item_aT2S7gd.jpeg | AU12: original_images/furniture-item_8V8RwIw.jpeg | AZ12: front | BA12: back | BB12: under | BC12: mount-under | BD12: pad | BE12: mount-back | BK12: Metall | BM12: Kinnarps | BN12: Ren och fin från tejp, klister mm | BU12: 46 | BV12: Formpressat trä | BX12: Målad | BZ12: Bra. Upplevs stabila | CA12: Ja | CH12: Matsal
A13: inv_GrjyNaFkl5KHSE_4075_9 | B13: Sittmöbel | C13: Stol | D13: Stol svart | E13: 50 | F13: 74 | G13: 49 | H13: Nej | K13: Formpressat trä | N13: Målad | P13: 44504 | Q13: Inga eller små förslitningsskador | T13: Nej | AP13: original_images/furniture-item_dWIxr18.jpeg | AQ13: original_images/furniture-item_hWv6ubn.jpeg | AR13: original_images/furniture-item_8BHzBXi.jpeg | AS13: original_images/furniture-item_013FsRS.jpeg | AT13: original_images/furniture-item_aT2S7gd.jpeg | AU13: original_images/furniture-item_8V8RwIw.jpeg | AZ13: front | BA13: back | BB13: under | BC13: mount-under | BD13: pad | BE13: mount-back | BK13: Metall | BM13: Kinnarps | BN13: Ren och fin från tejp, klister mm | BU13: 46 | BV13: Formpressat trä | BX13: Målad | BZ13: Bra. Upplevs stabila | CA13: Ja | CH13: Matsal
A14: inv_GrjyNaFkl5KHSE_4075_10 | B14: Sittmöbel | C14: Stol | D14: Stol svart | E14: 50 | F14: 74 | G14: 49 | H14: Nej | K14: Formpressat trä | N14: Målad | P14: 44504 | Q14: Inga eller små förslitningsskador | T14: Nej | AP14: original_images/furniture-item_dWIxr18.jpeg | AQ14: original_images/furniture-item_hWv6ubn.jpeg | AR14: original_images/furniture-item_8BHzBXi.jpeg | AS14: original_images/furniture-item_013FsRS.jpeg | AT14: original_images/furniture-item_aT2S7gd.jpeg | AU14: original_images/furniture-item_8V8RwIw.jpeg | AZ14: front | BA14: back | BB14: under | BC14: mount-under | BD14: pad | BE14: mount-back | BK14: Metall | BM14: Kinnarps | BN14: Ren och fin från tejp, klister mm | BU14: 46 | BV14: Formpressat trä | BX14: Målad | BZ14: Bra. Upplevs stabila | CA14: Ja | CH14: Matsal
A15: inv_GrjyNaFkl5KHSE_4075_11 | B15: Sittmöbel | C15: Stol | D15: Stol svart | E15: 50 | F15: 74 | G15: 49 | H15: Nej | K15: Formpressat trä | N15: Målad | P15: 44504 | Q15: Inga eller små förslitningsskador | T15: Nej | AP15: original_images/furniture-item_dWIxr18.jpeg | AQ15: original_images/furniture-item_hWv6ubn.jpeg | AR15: original_images/furniture-item_8BHzBXi.jpeg | AS15: original_images/furniture-item_013FsRS.jpeg | AT15: original_images/furniture-item_aT2S7gd.jpeg | AU15: original_images/furniture-item_8V8RwIw.jpeg | AZ15: front | BA15: back | BB15: under | BC15: mount-under | BD15: pad | BE15: mount-back | BK15: Metall | BM15: Kinnarps | BN15: Ren och fin från tejp, klister mm | BU15: 46 | BV15: Formpressat trä | BX15: Målad | BZ15: Bra. Upplevs stabila | CA15: Ja | CH15: Matsal
... A196: inv_GrjyNaFkl5KHSE_4046_4 | B196: Sittmöbel | C196: Stol | D196: Stol svart | E196: 50 | F196: 74 | G196: 49 | H196: Nej | K196: Formpressat trä | N196: Målad | P196: 44504 | Q196: Inga eller små förslitningsskador | T196: Nej | AP196: original_images/furniture-item_dWIxr18.jpeg | AQ196: original_images/furniture-item_hWv6ubn.jpeg | AR196: original_images/furniture-item_8BHzBXi.jpeg | AS196: original_images/furniture-item_013FsRS.jpeg | AT196: original_images/furniture-item_aT2S7gd.jpeg | AU196: original_images/furniture-item_8V8RwIw.jpeg | AZ196: front | BA196: back | BB196: under | BC196: mount-under | BD196: pad | BE196: mount-back | BK196: Metall | BM196: Kinnarps | BN196: Ren och fin från tejp, klister mm | BU196: 46 | BV196: Formpressat trä | BX196: Målad | BZ196: Bra. Upplevs stabila | CA196: Ja | CH196: D2
A197: inv_K5KuVemKSjA1no_3268_0 | B197: Sittmöbel | C197: Fåtölj | D197: Fåtölj | E197: 88 | F197: 80 | G197: 88 | J197: 0 | K197: Skinn | M197: 0 | P197: 44501 | Q197: Inga eller små förslitningsskador | T197: Ja | AP197: original_images/furniture-item_EKUbr0u.jpeg | AQ197: original_images/furniture-item_So91X3s.jpeg | AR197: original_images/furniture-item_01YbAnN.jpeg | AS197: original_images/furniture-item_vaqlO1q.jpeg | AT197: original_images/furniture-item_wOq7pPT.jpeg | AU197: original_images/furniture-item_IiimVAB.jpeg | AZ197: front | BA197: back | BB197: under | BC197: mount-under | BD197: pad | BE197: mount-back | BK197: Trä | BT197: 0 | BU197: 44 | BV197: Skinn | BW197: 0 | BZ197: Bra. Upplevs stabila | CH197: 204 paviljong
A198: inv_ajXx8EKPHMCaZk_3315_0 | B198: Sittmöbel | C198: Stol | D198: Stol | E198: 55 | F198: 79 | G198: 51 | H198: Nej | K198: Formpressat trä | N198: Klarlackad | P198: 44501 | Q198: Inga eller små förslitningsskador | T198: Ja | AP198: original_images/furniture-item_gyBdtNO.jpeg | AQ198: original_images/furniture-item_FjeKIS4.jpeg | AR198: original_images/furniture-item_sCxJXAe.jpeg | AS198: original_images/furniture-item_W40QaIw.jpeg | AT198: original_images/furniture-item_0gKhDBi.jpeg | AU198: original_images/furniture-item_H3BrBse.jpeg | AV198: original_images/furniture-item_gIf9Vko.jpeg | AZ198: front | BA198: back | BB198: under | BC198: mount-under | BD198: pad | BE198: mount-back | BF198: extra | BK198: Metall | BM198: Ikea | BN198: Ren och fin från tejp, klister mm | BP198: Dietmar | BU198: 46 | BV198: Formpressat trä | BX198: Klarlackad | BZ198: Bra. Upplevs stabila | CA198: Ja | CH198: 207
A199: inv_ajXx8EKPHMCaZk_3315_1 | B199: Sittmöbel | C199: Stol | D199: Stol | E199: 55 | F199: 79 | G199: 51 | H199: Nej | K199: Formpressat trä | N199: Klarlackad | P199: 44501 | Q199: Inga eller små förslitningsskador | T199: Ja | AP199: original_images/furniture-item_gyBdtNO.jpeg | AQ199: original_images/furniture-item_FjeKIS4.jpeg | AR199: original_images/furniture-item_sCxJXAe.jpeg | AS199: original_images/furniture-item_W40QaIw.jpeg | AT199: original_images/furniture-item_0gKhDBi.jpeg | AU199: original_images/furniture-item_H3BrBse.jpeg | AV199: original_images/furniture-item_gIf9Vko.jpeg | AZ199: front | BA199: back | BB199: under | BC199: mount-under | BD199: pad | BE199: mount-back | BF199: extra | BK199: Metall | BM199: Ikea | BN199: Ren och fin från tejp, klister mm | BP199: Dietmar | BU199: 46 | BV199: Formpressat trä | BX199: Klarlackad | BZ199: Bra. Upplevs stabila | CA199: Ja | CH199: 207
A200: inv_ajXx8EKPHMCaZk_3315_2 | B200: Sittmöbel | C200: Stol | D200: Stol | E200: 55 | F200: 79 | G200: 51 | H200: Nej | K200: Formpressat trä | N200: Klarlackad | P200: 44501 | Q200: Inga eller små förslitningsskador | T200: Ja | AP200: original_images/furniture-item_gyBdtNO.jpeg | AQ200: original_images/furniture-item_FjeKIS4.jpeg | AR200: original_images/furniture-item_sCxJXAe.jpeg | AS200: original_images/furniture-item_W40QaIw.jpeg | AT200: original_images/furniture-item_0gKhDBi.jpeg | AU200: original_images/furniture-item_H3BrBse.jpeg | AV200: original_images/furniture-item_gIf9Vko.jpeg | AZ200: front | BA200: back | BB200: under | BC200: mount-under | BD200: pad | BE200: mount-back | BF200: extra | BK200: Metall | BM200: Ikea | BN200: Ren och fin från tejp, klister mm | BP200: Dietmar | BU200: 46 | BV200: Formpressat trä | BX200: Klarlackad | BZ200: Bra. Upplevs stabila | CA200: Ja | CH200: 207
A201: inv_ajXx8EKPHMCaZk_3315_3 | B201: Sittmöbel | C201: Stol | D201: Stol | E201: 55 | F201: 79 | G201: 51 | H201: Nej | K201: Formpressat trä | N201: Klarlackad | P201: 44501 | Q201: Inga eller små förslitningsskador | T201: Ja | AP201: original_images/furniture-item_gyBdtNO.jpeg | AQ201: original_images/furniture-item_FjeKIS4.jpeg | AR201: original_images/furniture-item_sCxJXAe.jpeg | AS201: original_images/furniture-item_W40QaIw.jpeg | AT201: original_images/furniture-item_0gKhDBi.jpeg | AU201: original_images/furniture-item_H3BrBse.jpeg | AV201: original_images/furniture-item_gIf9Vko.jpeg | AZ201: front | BA201: back | BB201: under | BC201: mount-under | BD201: pad | BE201: mount-back | BF201: extra | BK201: Metall | BM201: Ikea | BN201: Ren och fin från tejp, klister mm | BP201: Dietmar | BU201: 46 | BV201: Formpressat trä | BX201: Klarlackad | BZ201: Bra. Upplevs stabila | CA201: Ja | CH201: 207
A202: inv_ajXx8EKPHMCaZk_3315_4 | B202: Sittmöbel | C202: Stol | D202: Stol | E202: 55 | F202: 79 | G202: 51 | H202: Nej | K202: Formpressat trä | N202: Klarlackad | P202: 44501 | Q202: Inga eller små förslitningsskador | T202: Ja | AP202: original_images/furniture-item_gyBdtNO.jpeg | AQ202: original_images/furniture-item_FjeKIS4.jpeg | AR202: original_images/furniture-item_sCxJXAe.jpeg | AS202: original_images/furniture-item_W40QaIw.jpeg | AT202: original_images/furniture-item_0gKhDBi.jpeg | AU202: original_images/furniture-item_H3BrBse.jpeg | AV202: original_images/furniture-item_gIf9Vko.jpeg | AZ202: front | BA202: back | BB202: under | BC202: mount-under | BD202: pad | BE202: mount-back | BF202: extra | BK202: Metall | BM202: Ikea | BN202: Ren och fin från tejp, klister mm | BP202: Dietmar | BU202: 46 | BV202: Formpressat trä | BX202: Klarlackad | BZ202: Bra. Upplevs stabila | CA202: Ja | CH202: 207
A203: inv_ajXx8EKPHMCaZk_3315_5 | B203: Sittmöbel | C203: Stol | D203: Stol | E203: 55 | F203: 79 | G203: 51 | H203: Nej | K203: Formpressat trä | N203: Klarlackad | P203: 44501 | Q203: Inga eller små förslitningsskador | T203: Ja | AP203: original_images/furniture-item_gyBdtNO.jpeg | AQ203: original_images/furniture-item_FjeKIS4.jpeg | AR203: original_images/furniture-item_sCxJXAe.jpeg | AS203: original_images/furniture-item_W40QaIw.jpeg | AT203: original_images/furniture-item_0gKhDBi.jpeg | AU203: original_images/furniture-item_H3BrBse.jpeg | AV203: original_images/furniture-item_gIf9Vko.jpeg | AZ203: front | BA203: back | BB203: under | BC203: mount-under | BD203: pad | BE203: mount-back | BF203: extra | BK203: Metall | BM203: Ikea | BN203: Ren och fin från tejp, klister mm | BP203: Dietmar | BU203: 46 | BV203: Formpressat trä | BX203: Klarlackad | BZ203: Bra. Upplevs stabila | CA203: Ja | CH203: 207
A204: inv_ajXx8EKPHMCaZk_3315_6 | B204: Sittmöbel | C204: Stol | D204: Stol | E204: 55 | F204: 79 | G204: 51 | H204: Nej | K204: Formpressat trä | N204: Klarlackad | P204: 44501 | Q204: Inga eller små förslitningsskador | T204: Ja | AP204: original_images/furniture-item_gyBdtNO.jpeg | AQ204: original_images/furniture-item_FjeKIS4.jpeg | AR204: original_images/furniture-item_sCxJXAe.jpeg | AS204: original_images/furniture-item_W40QaIw.jpeg | AT204: original_images/furniture-item_0gKhDBi.jpeg | AU204: original_images/furniture-item_H3BrBse.jpeg | AV204: original_images/furniture-item_gIf9Vko.jpeg | AZ204: front | BA204: back | BB204: under | BC204: mount-under | BD204: pad | BE204: mount-back | BF204: extra | BK204: Metall | BM204: Ikea | BN204: Ren och fin från tejp, klister mm | BP204: Dietmar | BU204: 46 | BV204: Formpressat trä | BX204: Klarlackad | BZ204: Bra. Upplevs stabila | CA204: Ja | CH204: 207
A205: inv_ajXx8EKPHMCaZk_3315_7 | B205: Sittmöbel | C205: Stol | D205: Stol | E205: 55 | F205: 79 | G205: 51 | H205: Nej | K205: Formpressat trä | N205: Klarlackad | P205: 44501 | Q205: Inga eller små förslitningsskador | T205: Ja | AP205: original_images/furniture-item_gyBdtNO.jpeg | AQ205: original_images/furniture-item_FjeKIS4.jpeg | AR205: original_images/furniture-item_sCxJXAe.jpeg | AS205: original_images/furniture-item_W40QaIw.jpeg | AT205: original_images/furniture-item_0gKhDBi.jpeg | AU205: original_images/furniture-item_H3BrBse.jpeg | AV205: original_images/furniture-item_gIf9Vko.jpeg | AZ205: front | BA205: back | BB205: under | BC205: mount-under | BD205: pad | BE205: mount-back | BF205: extra | BK205: Metall | BM205: Ikea | BN205: Ren och fin från tejp, klister mm | BP205: Dietmar | BU205: 46 | BV205: Formpressat trä | BX205: Klarlackad | BZ205: Bra. Upplevs stabila | CA205: Ja | CH205: 207
A206: inv_ajXx8EKPHMCaZk_3315_8 | B206: Sittmöbel | C206: Stol | D206: Stol | E206: 55 | F206: 79 | G206: 51 | H206: Nej | K206: Formpressat trä | N206: Klarlackad | P206: 44501 | Q206: Inga eller små förslitningsskador | T206: Ja | AP206: original_images/furniture-item_gyBdtNO.jpeg | AQ206: original_images/furniture-item_FjeKIS4.jpeg | AR206: original_images/furniture-item_sCxJXAe.jpeg | AS206: original_images/furniture-item_W40QaIw.jpeg | AT206: original_images/furniture-item_0gKhDBi.jpeg | AU206: original_images/furniture-item_H3BrBse.jpeg | AV206: original_images/furniture-item_gIf9Vko.jpeg | AZ206: front | BA206: back | BB206: under | BC206: mount-under | BD206: pad | BE206: mount-back | BF206: extra | BK206: Metall | BM206: Ikea | BN206: Ren och fin från tejp, klister mm | BP206: Dietmar | BU206: 46 | BV206: Formpressat trä | BX206: Klarlackad | BZ206: Bra. Upplevs stabila | CA206: Ja | CH206: 207
A207: inv_ajXx8EKPHMCaZk_3315_9 | B207: Sittmöbel | C207: Stol | D207: Stol | E207: 55 | F207: 79 | G207: 51 | H207: Nej | K207: Formpressat trä | N207: Klarlackad | P207: 44501 | Q207: Inga eller små förslitningsskador | T207: Ja | AP207: original_images/furniture-item_gyBdtNO.jpeg | AQ207: original_images/furniture-item_FjeKIS4.jpeg | AR207: original_images/furniture-item_sCxJXAe.jpeg | AS207: original_images/furniture-item_W40QaIw.jpeg | AT207: original_images/furniture-item_0gKhDBi.jpeg | AU207: original_images/furniture-item_H3BrBse.jpeg | AV207: original_images/furniture-item_gIf9Vko.jpeg | AZ207: front | BA207: back | BB207: under | BC207: mount-under | BD207: pad | BE207: mount-back | BF207: extra | BK207: Metall | BM207: Ikea | BN207: Ren och fin från tejp, klister mm | BP207: Dietmar | BU207: 46 | BV207: Formpressat trä | BX207: Klarlackad | BZ207: Bra. Upplevs stabila | CA207: Ja | CH207: 207
A208: inv_ajXx8EKPHMCaZk_3315_10 | B208: Sittmöbel | C208: Stol | D208: Stol | E208: 55 | F208: 79 | G208: 51 | H208: Nej | K208: Formpressat trä | N208: Klarlackad | P208: 44501 | Q208: Inga eller små förslitningsskador | T208: Ja | AP208: original_images/furniture-item_gyBdtNO.jpeg | AQ208: original_images/furniture-item_FjeKIS4.jpeg | AR208: original_images/furniture-item_sCxJXAe.jpeg | AS208: original_images/furniture-item_W40QaIw.jpeg | AT208: original_images/furniture-item_0gKhDBi.jpeg | AU208: original_images/furniture-item_H3BrBse.jpeg | AV208: original_images/furniture-item_gIf9Vko.jpeg | AZ208: front | BA208: back | BB208: under | BC208: mount-under | BD208: pad | BE208: mount-back | BF208: extra | BK208: Metall | BM208: Ikea | BN208: Ren och fin från tejp, klister mm | BP208: Dietmar | BU208: 46 | BV208: Formpressat trä | BX208: Klarlackad | BZ208: Bra. Upplevs stabila | CA208: Ja | CH208: 207
A209: inv_ajXx8EKPHMCaZk_3315_11 | B209: Sittmöbel | C209: Stol | D209: Stol | E209: 55 | F209: 79 | G209: 51 | H209: Nej | K209: Formpressat trä | N209: Klarlackad | P209: 44501 | Q209: Inga eller små förslitningsskador | T209: Ja | AP209: original_images/furniture-item_gyBdtNO.jpeg | AQ209: original_images/furniture-item_FjeKIS4.jpeg | AR209: original_images/furniture-item_sCxJXAe.jpeg | AS209: original_images/furniture-item_W40QaIw.jpeg | AT209: original_images/furniture-item_0gKhDBi.jpeg | AU209: original_images/furniture-item_H3BrBse.jpeg | AV209: original_images/furniture-item_gIf9Vko.jpeg | AZ209: front | BA209: back | BB209: under | BC209: mount-under | BD209: pad | BE209: mount-back | BF209: extra | BK209: Metall | BM209: Ikea | BN209: Ren och fin från tejp, klister mm | BP209: Dietmar | BU209: 46 | BV209: Formpressat trä | BX209: Klarlackad | BZ209: Bra. Upplevs stabila | CA209: Ja | CH209: 207
A210: inv_bGixvldqWjRHxM_3364_0 | B210: Sittmöbel | C210: Skrivbordsstol | D210: skrivbordsstol röd | E210: 0 | F210: 0 | G210: 0 | H210: Ja | J210: 0 | K210: Tyg | M210: 0 | P210: 44502 | Q210: Inga eller små förslitningsskador | T210: Nej | V210: original_images/furniture-item_ABD9myF.jpeg | AF210: extra | AP210: original_images/furniture-item_3pPIwTz.jpeg | AQ210: original_images/furniture-item_ipRlKBL.jpeg | AR210: original_images/furniture-item_IZ8ig42.jpeg | AS210: original_images/furniture-item_iai5Pcx.jpeg | AT210: original_images/furniture-item_PmiIQhb.jpeg | AU210: original_images/furniture-item_pBhg4oM.jpeg | AZ210: front | BA210: back | BB210: under | BC210: mount-under | BD210: pad | BE210: mount-back | BK210: Plast | BT210: 0 | BU210: 0 | BV210: Tyg | BW210: 0 | BZ210: Bra. Upplevs stabila | CH210: 201 a
A211: inv_bGixvldqWjRHxM_3364_1 | B211: Sittmöbel | C211: Skrivbordsstol | D211: skrivbordsstol röd | E211: 0 | F211: 0 | G211: 0 | H211: Ja | J211: 0 | K211: Tyg | M211: 0 | P211: 44502 | Q211: Inga eller små förslitningsskador | T211: Nej | V211: original_images/furniture-item_ABD9myF.jpeg | AF211: extra | AP211: original_images/furniture-item_3pPIwTz.jpeg | AQ211: original_images/furniture-item_ipRlKBL.jpeg | AR211: original_images/furniture-item_IZ8ig42.jpeg | AS211: original_images/furniture-item_iai5Pcx.jpeg | AT211: original_images/furniture-item_PmiIQhb.jpeg | AU211: original_images/furniture-item_pBhg4oM.jpeg | AZ211: front | BA211: back | BB211: under | BC211: mount-under | BD211: pad | BE211: mount-back | BK211: Plast | BT211: 0 | BU211: 0 | BV211: Tyg | BW211: 0 | BZ211: Bra. Upplevs stabila | CH211: 201 a
A212: inv_bGixvldqWjRHxM_3363_0 | B212: Sittmöbel | C212: Skrivbordsstol | D212: skrivbordsstol röd | E212: 0 | F212: 0 | G212: 0 | H212: Ja | J212: 0 | K212: Tyg | M212: 0 | P212: 44502 | Q212: Inga eller små förslitningsskador | T212: Nej | V212: original_images/furniture-item_ABD9myF.jpeg | AF212: extra | AP212: original_images/furniture-item_3pPIwTz.jpeg | AQ212: original_images/furniture-item_ipRlKBL.jpeg | AR212: original_images/furniture-item_IZ8ig42.jpeg | AS212: original_images/furniture-item_iai5Pcx.jpeg | AT212: original_images/furniture-item_PmiIQhb.jpeg | AU212: original_images/furniture-item_pBhg4oM.jpeg | AZ212: front | BA212: back | BB212: under | BC212: mount-under | BD212: pad | BE212: mount-back | BK212: Plast | BT212: 0 | BU212: 0 | BV212: Tyg | BW212: 0 | BZ212: Bra. Upplevs stabila | CH212: 301
A213: inv_e6vLz84l5Np7I1_3911_0 | B213: Sittmöbel | C213: Fåtölj | D213: Fåtölj | E213: 65 | F213: 88 | G213: 70 | J213: 53 | K213: Tyg | M213: 58 | P213: 44504 | Q213: Inga eller små förslitningsskador | R213: Slitna tyger och trästativ | T213: Ja | V213: original_images/furniture-item_nzd4Jln.jpeg | W213: original_images/furniture-item_zNqQjQM.jpeg | AF213: extra | AG213: extra | AP213: original_images/furniture-item_WBYICRH.jpeg | AQ213: original_images/furniture-item_LcJsXZg.jpeg | AR213: original_images/furniture-item_KCKNeSw.jpeg | AS213: original_images/furniture-item_GBmmHCd.jpeg | AT213: original_images/furniture-item_WYykltE.jpeg | AU213: original_images/furniture-item_mtOf2gs.jpeg | AZ213: front | BA213: back | BB213: under | BC213: mount-under | BD213: pad | BE213: mount-back | BK213: Trä | BT213: 50 | BU213: 43 | BV213: Tyg | BW213: 58 | BZ213: Bra. Upplevs stabila | CH213: Grävlingarna
A214: inv_IjZX1KhuJjsnTW_3439_0 | B214: Sittmöbel | C214: Pall | D214: Pall hög | E214: 50 | F214: 81 | G214: 50 | P214: 44502 | Q214: Inga eller små förslitningsskador | R214: Fläckar på tyg och trästativ på udda möbler | V214: original_images/furniture-item_n9FBp1P.jpeg | W214: original_images/furniture-item_GgiTjr9.jpeg | AF214: extra | AG214: extra | AP214: original_images/furniture-item_4C1p3Dy.jpeg | AQ214: original_images/furniture-item_BpoPZdi.jpeg | AR214: original_images/furniture-item_BxDVnLH.jpeg | AS214: original_images/furniture-item_8HwCB3W.jpeg | AT214: original_images/furniture-item_5fUxgM3.jpeg | AZ214: front | BA214: under | BB214: mount-under | BC214: pad | BD214: extra | BK214: Trä | BT214: 32 | BV214: Tyg | BW214: 32 | BZ214: Bra. Upplevs stabila | CA214: Nej | CH214: 214 a
A215: inv_ivX71AetwCNphT_4098_0 | B215: Sittmöbel | C215: Stol | D215: Hög stol | E215: 52 | F215: 105 | G215: 50 | H215: Nej | K215: Formpressat trä | N215: Målad | P215: 44517 | Q215: Inga eller små förslitningsskador | T215: Nej | AP215: original_images/furniture-item_ilGBTZT.jpeg | AQ215: original_images/furniture-item_dN1rzsr.jpeg | AR215: original_images/furniture-item_xZMjD4n.jpeg | AS215: original_images/furniture-item_orL4aVg.jpeg | AT215: original_images/furniture-item_HpchSDa.jpeg | AU215: original_images/furniture-item_EfHnY9m.jpeg | AZ215: front | BA215: back | BB215: under | BC215: mount-under | BD215: pad | BE215: mount-back | BK215: Metall | BM215: Ikea | BN215: Ren och fin från tejp, klister mm | BQ215: Går att fälla ihop | BU215: 73 | BV215: Formpressat trä | BX215: Målad | BZ215: Bra. Upplevs stabila | CA215: Nej | CH215: Matsal
A216: inv_FDC7xG0wDueR4G_4086_0 | B216: Sittmöbel | C216: Stol | D216: Trästol | E216: 57 | F216: 78 | G216: 49 | H216: Nej | K216: Formpressat trä | N216: Klarlackad | P216: 44517 | Q216: Inga eller små förslitningsskador | T216: Ja | V216: original_images/furniture-item_VAMlRJt.jpeg | W216: original_images/furniture-item_BiE5ybN.jpeg | AF216: extra | AG216: extra | AP216: original_images/furniture-item_T5ZM6L9.jpeg | AQ216: original_images/furniture-item_lF0Ad0Q.jpeg | AR216: original_images/furniture-item_TRGJZg9.jpeg | AS216: original_images/furniture-item_lSwt2Cy.jpeg | AT216: original_images/furniture-item_ZOZq04Q.jpeg | AU216: original_images/furniture-item_zHAno0E.jpeg | AZ216: front | BA216: back | BB216: under | BC216: mount-under | BD216: pad | BE216: mount-back | BK216: Trä | BT216: 45 | BU216: 45 | BV216: Tyg | BW216: 43 | BZ216: Bra. Upplevs stabila | CA216: Ja | CH216: Matsal
A217: inv_FDC7xG0wDueR4G_4086_1 | B217: Sittmöbel | C217: Stol | D217: Trästol | E217: 57 | F217: 78 | G217: 49 | H217: Nej | K217: Formpressat trä | N217: Klarlackad | P217: 44517 | Q217: Inga eller små förslitningsskador | T217: Ja | V217: original_images/furniture-item_VAMlRJt.jpeg | W217: original_images/furniture-item_BiE5ybN.jpeg | AF217: extra | AG217: extra | AP217: original_images/furniture-item_T5ZM6L9.jpeg | AQ217: original_images/furniture-item_lF0Ad0Q.jpeg | AR217: original_images/furniture-item_TRGJZg9.jpeg | AS217: original_images/furniture-item_lSwt2Cy.jpeg | AT217: original_images/furniture-item_ZOZq04Q.jpeg | AU217: original_images/furniture-item_zHAno0E.jpeg | AZ217: front | BA217: back | BB217: under | BC217: mount-under | BD217: pad | BE217: mount-back | BK217: Trä | BT217: 45 | BU217: 45 | BV217: Tyg | BW217: 43 | BZ217: Bra. Upplevs stabila | CA217: Ja | CH217: Matsal
A218: inv_MP9OSm1f20PJEC_4197_0 | B218: Sittmöbel | C218: Pall | D218: Pall liten | E218: 32 | F218: 33 | G218: 32 | P218: 44517 | Q218: Inga eller små förslitningsskador | AP218: original_images/furniture-item_KfG7q8j.jpeg | AQ218: original_images/furniture-item_Qi7smoq.jpeg | AR218: original_images/furniture-item_aJzn45H.jpeg | AS218: original_images/furniture-item_YSaRBKT.jpeg | AT218: original_images/furniture-item_ceMAuf7.jpeg | AZ218: front | BA218: under | BB218: mount-under | BC218: pad | BD218: extra | BK218: Metall | BN218: Ren och fin från tejp, klister mm | BQ218: 1 är liknande fast hög med sitthöjd 45 | BV218: Trä | BX218: Klarlackad | BZ218: Bra. Upplevs stabila | CA218: Ja | CH218: Bibliotek 55
A219: inv_MP9OSm1f20PJEC_4197_1 | B219: Sittmöbel | C219: Pall | D219: Pall liten | E219: 32 | F219: 33 | G219: 32 | P219: 44517 | Q219: Inga eller små förslitningsskador | AP219: original_images/furniture-item_KfG7q8j.jpeg | AQ219: original_images/furniture-item_Qi7smoq.jpeg | AR219: original_images/furniture-item_aJzn45H.jpeg | AS219: original_images/furniture-item_YSaRBKT.jpeg | AT219: original_images/furniture-item_ceMAuf7.jpeg | AZ219: front | BA219: under | BB219: mount-under | BC219: pad | BD219: extra | BK219: Metall | BN219: Ren och fin från tejp, klister mm | BQ219: 1 är liknande fast hög med sitthöjd 45 | BV219: Trä | BX219: Klarlackad | BZ219: Bra. Upplevs stabila | CA219: Ja | CH219: Bibliotek 55
A220: inv_MP9OSm1f20PJEC_4197_2 | B220: Sittmöbel | C220: Pall | D220: Pall liten | E220: 32 | F220: 33 | G220: 32 | P220: 44517 | Q220: Inga eller små förslitningsskador | AP220: original_images/furniture-item_KfG7q8j.jpeg | AQ220: original_images/furniture-item_Qi7smoq.jpeg | AR220: original_images/furniture-item_aJzn45H.jpeg | AS220: original_images/furniture-item_YSaRBKT.jpeg | AT220: original_images/furniture-item_ceMAuf7.jpeg | AZ220: front | BA220: under | BB220: mount-under | BC220: pad | BD220: extra | BK220: Metall | BN220: Ren och fin från tejp, klister mm | BQ220: 1 är liknande fast hög med sitthöjd 45 | BV220: Trä | BX220: Klarlackad | BZ220: Bra. Upplevs stabila | CA220: Ja | CH220: Bibliotek 55
A221: inv_VqKRBp0vCkUQAF_3604_0 | B221: Sittmöbel | C221: Stol | D221: elevstolar äldre | E221: 48 | F221: 83 | G221: 51 | H221: Nej | K221: Formpressat trä | N221: Klarlackad | P221: 44502 | Q221: Inga eller små förslitningsskador | T221: Nej | V221: original_images/furniture-item_7lPbmwX.jpeg | AF221: extra | AP221: original_images/furniture-item_jbkcn3J.jpeg | AQ221: original_images/furniture-item_l6etxMA.jpeg | AR221: original_images/furniture-item_7IECEiO.jpeg | AS221: original_images/furniture-item_ieoEnFU.jpeg | AT221: original_images/furniture-item_P9V1UJg.jpeg | AU221: original_images/furniture-item_0btiJjb.jpeg | AZ221: front | BA221: back | BB221: under | BC221: mount-under | BD221: pad | BE221: mount-back | BK221: Metall | BN221: Ren och fin från tejp, klister mm | BU221: 45 | BV221: Formpressat trä | BX221: Klarlackad | BZ221: Bra. Upplevs stabila | CA221: Ja | CH221: Korridor plan 2
A222: inv_VqKRBp0vCkUQAF_3372_0 | B222: Sittmöbel | C222: Stol | D222: elevstolar äldre | E222: 48 | F222: 83 | G222: 51 | H222: Nej | K222: Formpressat trä | N222: Klarlackad | P222: 44502 | Q222: Inga eller små förslitningsskador | T222: Nej | V222: original_images/furniture-item_7lPbmwX.jpeg | AF222: extra | AP222: original_images/furniture-item_jbkcn3J.jpeg | AQ222: original_images/furniture-item_l6etxMA.jpeg | AR222: original_images/furniture-item_7IECEiO.jpeg | AS222: original_images/furniture-item_ieoEnFU.jpeg | AT222: original_images/furniture-item_P9V1UJg.jpeg | AU222: original_images/furniture-item_0btiJjb.jpeg | AZ222: front | BA222: back | BB222: under | BC222: mount-under | BD222: pad | BE222: mount-back | BK222: Metall | BN222: Ren och fin från tejp, klister mm | BU222: 45 | BV222: Formpressat trä | BX222: Klarlackad | BZ222: Bra. Upplevs stabila | CA222: Ja | CH222: 301
A223: inv_VqKRBp0vCkUQAF_3372_1 | B223: Sittmöbel | C223: Stol | D223: elevstolar äldre | E223: 48 | F223: 83 | G223: 51 | H223: Nej | K223: Formpressat trä | N223: Klarlackad | P223: 44502 | Q223: Inga eller små förslitningsskador | T223: Nej | V223: original_images/furniture-item_7lPbmwX.jpeg | AF223: extra | AP223: original_images/furniture-item_jbkcn3J.jpeg | AQ223: original_images/furniture-item_l6etxMA.jpeg | AR223: original_images/furniture-item_7IECEiO.jpeg | AS223: original_images/furniture-item_ieoEnFU.jpeg | AT223: original_images/furniture-item_P9V1UJg.jpeg | AU223: original_images/furniture-item_0btiJjb.jpeg | AZ223: front | BA223: back | BB223: under | BC223: mount-under | BD223: pad | BE223: mount-back | BK223: Metall | BN223: Ren och fin från tejp, klister mm | BU223: 45 | BV223: Formpressat trä | BX223: Klarlackad | BZ223: Bra. Upplevs stabila | CA223: Ja | CH223: 301
A224: inv_VqKRBp0vCkUQAF_3372_2 | B224: Sittmöbel | C224: Stol | D224: elevstolar äldre | E224: 48 | F224: 83 | G224: 51 | H224: Nej | K224: Formpressat trä | N224: Klarlackad | P224: 44502 | Q224: Inga eller små förslitningsskador | T224: Nej | V224: original_images/furniture-item_7lPbmwX.jpeg | AF224: extra | AP224: original_images/furniture-item_jbkcn3J.jpeg | AQ224: original_images/furniture-item_l6etxMA.jpeg | AR224: original_images/furniture-item_7IECEiO.jpeg | AS224: original_images/furniture-item_ieoEnFU.jpeg | AT224: original_images/furniture-item_P9V1UJg.jpeg | AU224: original_images/furniture-item_0btiJjb.jpeg | AZ224: front | BA224: back | BB224: under | BC224: mount-under | BD224: pad | BE224: mount-back | BK224: Metall | BN224: Ren och fin från tejp, klister mm | BU224: 45 | BV224: Formpressat trä | BX224: Klarlackad | BZ224: Bra. Upplevs stabila | CA224: Ja | CH224: 301
A225: inv_VqKRBp0vCkUQAF_3372_3 | B225: Sittmöbel | C225: Stol | D225: elevstolar äldre | E225: 48 | F225: 83 | G225: 51 | H225: Nej | K225: Formpressat trä | N225: Klarlackad | P225: 44502 | Q225: Inga eller små förslitningsskador | T225: Nej | V225: original_images/furniture-item_7lPbmwX.jpeg | AF225: extra | AP225: original_images/furniture-item_jbkcn3J.jpeg | AQ225: original_images/furniture-item_l6etxMA.jpeg | AR225: original_images/furniture-item_7IECEiO.jpeg | AS225: original_images/furniture-item_ieoEnFU.jpeg | AT225: original_images/furniture-item_P9V1UJg.jpeg | AU225: original_images/furniture-item_0btiJjb.jpeg | AZ225: front | BA225: back | BB225: under | BC225: mount-under | BD225: pad | BE225: mount-back | BK225: Metall | BN225: Ren och fin från tejp, klister mm | BU225: 45 | BV225: Formpressat trä | BX225: Klarlackad | BZ225: Bra. Upplevs stabila | CA225: Ja | CH225: 301
A226: inv_VqKRBp0vCkUQAF_3372_4 | B226: Sittmöbel | C226: Stol | D226: elevstolar äldre | E226: 48 | F226: 83 | G226: 51 | H226: Nej | K226: Formpressat trä | N226: Klarlackad | P226: 44502 | Q226: Inga eller små förslitningsskador | T226: Nej | V226: original_images/furniture-item_7lPbmwX.jpeg | AF226: extra | AP226: original_images/furniture-item_jbkcn3J.jpeg | AQ226: original_images/furniture-item_l6etxMA.jpeg | AR226: original_images/furniture-item_7IECEiO.jpeg | AS226: original_images/furniture-item_ieoEnFU.jpeg | AT226: original_images/furniture-item_P9V1UJg.jpeg | AU226: original_images/furniture-item_0btiJjb.jpeg | AZ226: front | BA226: back | BB226: under | BC226: mount-under | BD226: pad | BE226: mount-back | BK226: Metall | BN226: Ren och fin från tejp, klister mm | BU226: 45 | BV226: Formpressat trä | BX226: Klarlackad | BZ226: Bra. Upplevs stabila | CA226: Ja | CH226: 301
A227: inv_VqKRBp0vCkUQAF_3372_5 | B227: Sittmöbel | C227: Stol | D227: elevstolar äldre | E227: 48 | F227: 83 | G227: 51 | H227: Nej | K227: Formpressat trä | N227: Klarlackad | P227: 44502 | Q227: Inga eller små förslitningsskador | T227: Nej | V227: original_images/furniture-item_7lPbmwX.jpeg | AF227: extra | AP227: original_images/furniture-item_jbkcn3J.jpeg | AQ227: original_images/furniture-item_l6etxMA.jpeg | AR227: original_images/furniture-item_7IECEiO.jpeg | AS227: original_images/furniture-item_ieoEnFU.jpeg | AT227: original_images/furniture-item_P9V1UJg.jpeg | AU227: original_images/furniture-item_0btiJjb.jpeg | AZ227: front | BA227: back | BB227: under | BC227: mount-under | BD227: pad | BE227: mount-back | BK227: Metall | BN227: Ren och fin från tejp, klister mm | BU227: 45 | BV227: Formpressat trä | BX227: Klarlackad | BZ227: Bra. Upplevs stabila | CA227: Ja | CH227: 301
A228: inv_VqKRBp0vCkUQAF_3372_6 | B228: Sittmöbel | C228: Stol | D228: elevstolar äldre | E228: 48 | F228: 83 | G228: 51 | H228: Nej | K228: Formpressat trä | N228: Klarlackad | P228: 44502 | Q228: Inga eller små förslitningsskador | T228: Nej | V228: original_images/furniture-item_7lPbmwX.jpeg | AF228: extra | AP228: original_images/furniture-item_jbkcn3J.jpeg | AQ228: original_images/furniture-item_l6etxMA.jpeg | AR228: original_images/furniture-item_7IECEiO.jpeg | AS228: original_images/furniture-item_ieoEnFU.jpeg | AT228: original_images/furniture-item_P9V1UJg.jpeg | AU228: original_images/furniture-item_0btiJjb.jpeg | AZ228: front | BA228: back | BB228: under | BC228: mount-under | BD228: pad | BE228: mount-back | BK228: Metall | BN228: Ren och fin från tejp, klister mm | BU228: 45 | BV228: Formpressat trä | BX228: Klarlackad | BZ228: Bra. Upplevs stabila | CA228: Ja | CH228: 301
A229: inv_VqKRBp0vCkUQAF_3372_7 | B229: Sittmöbel | C229: Stol | D229: elevstolar äldre | E229: 48 | F229: 83 | G229: 51 | H229: Nej | K229: Formpressat trä | N229: Klarlackad | P229: 44502 | Q229: Inga eller små förslitningsskador | T229: Nej | V229: original_images/furniture-item_7lPbmwX.jpeg | AF229: extra | AP229: original_images/furniture-item_jbkcn3J.jpeg | AQ229: original_images/furniture-item_l6etxMA.jpeg | AR229: original_images/furniture-item_7IECEiO.jpeg | AS229: original_images/furniture-item_ieoEnFU.jpeg | AT229: original_images/furniture-item_P9V1UJg.jpeg | AU229: original_images/furniture-item_0btiJjb.jpeg | AZ229: front | BA229: back | BB229: under | BC229: mount-under | BD229: pad | BE229: mount-back | BK229: Metall | BN229: Ren och fin från tejp, klister mm | BU229: 45 | BV229: Formpressat trä | BX229: Klarlackad | BZ229: Bra. Upplevs stabila | CA229: Ja | CH229: 301
A230: inv_OMCiDr69758uqM_3586_0 | B230: Sittmöbel | C230: Fåtölj | D230: Fåtölj | E230: 70 | F230: 100 | G230: 70 | J230: 63 | K230: Tyg | M230: 70 | P230: 44502 | Q230: Inga eller små förslitningsskador | T230: Ja | AP230: original_images/furniture-item_Myhdh9n.jpeg | AQ230: original_images/furniture-item_OIKZfUz.jpeg | AR230: original_images/furniture-item_sSm3Kq7.jpeg | AS230: original_images/furniture-item_SCETALk.jpeg | AT230: original_images/furniture-item_9M2KbvI.jpeg | AU230: original_images/furniture-item_DvCaIgU.jpeg | AV230: original_images/furniture-item_z8BFdxA.jpeg | AZ230: front | BA230: back | BB230: under | BC230: mount-under | BD230: pad | BE230: mount-back | BF230: extra | BK230: Metall | BM230: Ikea | BN230: Ren och fin från tejp, klister mm | BT230: 48 | BU230: 45 | BV230: Tyg | BW230: 57 | BZ230: Bra. Upplevs stabila | CH230: 220
A231: inv_OMCiDr69758uqM_3586_1 | B231: Sittmöbel | C231: Fåtölj | D231: Fåtölj | E231: 70 | F231: 100 | G231: 70 | J231: 63 | K231: Tyg | M231: 70 | P231: 44502 | Q231: Inga eller små förslitningsskador | T231: Ja | AP231: original_images/furniture-item_Myhdh9n.jpeg | AQ231: original_images/furniture-item_OIKZfUz.jpeg | AR231: original_images/furniture-item_sSm3Kq7.jpeg | AS231: original_images/furniture-item_SCETALk.jpeg | AT231: original_images/furniture-item_9M2KbvI.jpeg | AU231: original_images/furniture-item_DvCaIgU.jpeg | AV231: original_images/furniture-item_z8BFdxA.jpeg | AZ231: front | BA231: back | BB231: under | BC231: mount-under | BD231: pad | BE231: mount-back | BF231: extra | BK231: Metall | BM231: Ikea | BN231: Ren och fin från tejp, klister mm | BT231: 48 | BU231: 45 | BV231: Tyg | BW231: 57 | BZ231: Bra. Upplevs stabila | CH231: 220
A232: inv_OMCiDr69758uqM_3586_2 | B232: Sittmöbel | C232: Fåtölj | D232: Fåtölj | E232: 70 | F232: 100 | G232: 70 | J232: 63 | K232: Tyg | M232: 70 | P232: 44502 | Q232: Inga eller små förslitningsskador | T232: Ja | AP232: original_images/furniture-item_Myhdh9n.jpeg | AQ232: original_images/furniture-item_OIKZfUz.jpeg | AR232: original_images/furniture-item_sSm3Kq7.jpeg | AS232: original_images/furniture-item_SCETALk.jpeg | AT232: original_images/furniture-item_9M2KbvI.jpeg | AU232: original_images/furniture-item_DvCaIgU.jpeg | AV232: original_images/furniture-item_z8BFdxA.jpeg | AZ232: front | BA232: back | BB232: under | BC232: mount-under | BD232: pad | BE232: mount-back | BF232: extra | BK232: Metall | BM232: Ikea | BN232: Ren och fin från tejp, klister mm | BT232: 48 | BU232: 45 | BV232: Tyg | BW232: 57 | BZ232: Bra. Upplevs stabila | CH232: 220
A233: inv_OMCiDr69758uqM_3586_3 | B233: Sittmöbel | C233: Fåtölj | D233: Fåtölj | E233: 70 | F233: 100 | G233: 70 | J233: 63 | K233: Tyg | M233: 70 | P233: 44502 | Q233: Inga eller små förslitningsskador | T233: Ja | AP233: original_images/furniture-item_Myhdh9n.jpeg | AQ233: original_images/furniture-item_OIKZfUz.jpeg | AR233: original_images/furniture-item_sSm3Kq7.jpeg | AS233: original_images/furniture-item_SCETALk.jpeg | AT233: original_images/furniture-item_9M2KbvI.jpeg | AU233: original_images/furniture-item_DvCaIgU.jpeg | AV233: original_images/furniture-item_z8BFdxA.jpeg | AZ233: front | BA233: back | BB233: under | BC233: mount-under | BD233: pad | BE233: mount-back | BF233: extra | BK233: Metall | BM233: Ikea | BN233: Ren och fin från tejp, klister mm | BT233: 48 | BU233: 45 | BV233: Tyg | BW233: 57 | BZ233: Bra. Upplevs stabila | CH233: 220
A234: inv_xKMgP4kol5aVn3_4147_0 | B234: Sittmöbel | C234: Skrivbordsstol | D234: Kontorsstol grön | E234: 67 | F234: 100 | G234: 67 | H234: Ja | J234: 50 | K234: Tyg | M234: 43 | P234: 44502 | Q234: Inga eller små förslitningsskador | R234: Vissa stolar har något låsta hjul | T234: Nej | AP234: original_images/furniture-item_mtRdWb8.jpeg | AQ234: original_images/furniture-item_48vTTog.jpeg | AR234: original_images/furniture-item_jQ1uj5f.jpeg | AS234: original_images/furniture-item_DSPITul.jpeg | AT234: original_images/furniture-item_Sc52JEU.jpeg | AU234: original_images/furniture-item_fDI0Hp1.jpeg | AZ234: front | BA234: back | BB234: under | BC234: mount-under | BD234: pad | BE234: mount-back | BK234: Plast | BT234: 47 | BU234: 55 | BV234: Tyg | BW234: 48 | BZ234: Bra. Upplevs stabila | CH234: Skolpsykolog
A235: inv_xKMgP4kol5aVn3_3412_0 | B235: Sittmöbel | C235: Skrivbordsstol | D235: Kontorsstol grön | E235: 67 | F235: 100 | G235: 67 | H235: Ja | J235: 50 | K235: Tyg | M235: 43 | P235: 44502 | Q235: Inga eller små förslitningsskador | R235: Vissa stolar har något låsta hjul | T235: Nej | AP235: original_images/furniture-item_mtRdWb8.jpeg | AQ235: original_images/furniture-item_48vTTog.jpeg | AR235: original_images/furniture-item_jQ1uj5f.jpeg | AS235: original_images/furniture-item_DSPITul.jpeg | AT235: original_images/furniture-item_Sc52JEU.jpeg | AU235: original_images/furniture-item_fDI0Hp1.jpeg | AZ235: front | BA235: back | BB235: under | BC235: mount-under | BD235: pad | BE235: mount-back | BK235: Plast | BT235: 47 | BU235: 55 | BV235: Tyg | BW235: 48 | BZ235: Bra. Upplevs stabila | CH235: 214 a
A236: inv_xKMgP4kol5aVn3_3396_0 | B236: Sittmöbel | C236: Skrivbordsstol | D236: Kontorsstol grön | E236: 67 | F236: 100 | G236: 67 | H236: Ja | J236: 50 | K236: Tyg | M236: 43 | P236: 44502 | Q236: Inga eller små förslitningsskador | R236: Vissa stolar har något låsta hjul | T236: Nej | AP236: original_images/furniture-item_mtRdWb8.jpeg | AQ236: original_images/furniture-item_48vTTog.jpeg | AR236: original_images/furniture-item_jQ1uj5f.jpeg | AS236: original_images/furniture-item_DSPITul.jpeg | AT236: original_images/furniture-item_Sc52JEU.jpeg | AU236: original_images/furniture-item_fDI0Hp1.jpeg | AZ236: front | BA236: back | BB236: under | BC236: mount-under | BD236: pad | BE236: mount-back | BK236: Plast | BT236: 47 | BU236: 55 | BV236: Tyg | BW236: 48 | BZ236: Bra. Upplevs stabila | CH236: 201 a
A237: inv_xKMgP4kol5aVn3_3396_1 | B237: Sittmöbel | C237: Skrivbordsstol | D237: Kontorsstol grön | E237: 67 | F237: 100 | G237: 67 | H237: Ja | J237: 50 | K237: Tyg | M237: 43 | P237: 44502 | Q237: Inga eller små förslitningsskador | R237: Vissa stolar har något låsta hjul | T237: Nej | AP237: original_images/furniture-item_mtRdWb8.jpeg | AQ237: original_images/furniture-item_48vTTog.jpeg | AR237: original_images/furniture-item_jQ1uj5f.jpeg | AS237: original_images/furniture-item_DSPITul.jpeg | AT237: original_images/furniture-item_Sc52JEU.jpeg | AU237: original_images/furniture-item_fDI0Hp1.jpeg | AZ237: front | BA237: back | BB237: under | BC237: mount-under | BD237: pad | BE237: mount-back | BK237: Plast | BT237: 47 | BU237: 55 | BV237: Tyg | BW237: 48 | BZ237: Bra. Upplevs stabila | CH237: 201 a
A238: inv_xKMgP4kol5aVn3_3395_0 | B238: Sittmöbel | C238: Skrivbordsstol | D238: Kontorsstol grön | E238: 67 | F238: 100 | G238: 67 | H238: Ja | J238: 50 | K238: Tyg | M238: 43 | P238: 44502 | Q238: Inga eller små förslitningsskador | R238: Vissa stolar har något låsta hjul | T238: Nej | AP238: original_images/furniture-item_mtRdWb8.jpeg | AQ238: original_images/furniture-item_48vTTog.jpeg | AR238: original_images/furniture-item_jQ1uj5f.jpeg | AS238: original_images/furniture-item_DSPITul.jpeg | AT238: original_images/furniture-item_Sc52JEU.jpeg | AU238: original_images/furniture-item_fDI0Hp1.jpeg | AZ238: front | BA238: back | BB238: under | BC238: mount-under | BD238: pad | BE238: mount-back | BK238: Plast | BT238: 47 | BU238: 55 | BV238: Tyg | BW238: 48 | BZ238: Bra. Upplevs stabila | CH238: 213 a
A239: inv_3LvzZOsKITqVVO_3818_0 | B239: Sittmöbel | C239: Stol | D239: Stol | E239: 46 | F239: 82 | G239: 47 | H239: Nej | K239: Trä | N239: Klarlackad | P239: 44503 | Q239: Kraftig förslitning och/eller andra tydliga skador på möbeln | T239: Nej | V239: original_images/furniture-item_WrjKRxb.jpeg | W239: original_images/furniture-item_sftzgwH.jpeg | AF239: extra | AG239: extra | AP239: original_images/furniture-item_Xypp2oF.jpeg | AQ239: original_images/furniture-item_RnDFUFd.jpeg | AR239: original_images/furniture-item_kbj7rLl.jpeg | AS239: original_images/furniture-item_oTRcP7u.jpeg | AT239: original_images/furniture-item_3vj1YIi.jpeg | AU239: original_images/furniture-item_4qHFp9w.jpeg | AZ239: front | BA239: back | BB239: under | BC239: mount-under | BD239: pad | BE239: mount-back | BK239: Trä | BU239: 45 | BV239: Trä | BX239: Klarlackad | BZ239: Bra. Upplevs stabila | CA239: Ja | CH239: 104
A240: inv_3LvzZOsKITqVVO_3818_1 | B240: Sittmöbel | C240: Stol | D240: Stol | E240: 46 | F240: 82 | G240: 47 | H240: Nej | K240: Trä | N240: Klarlackad | P240: 44503 | Q240: Kraftig förslitning och/eller andra tydliga skador på möbeln | T240: Nej | V240: original_images/furniture-item_WrjKRxb.jpeg | W240: original_images/furniture-item_sftzgwH.jpeg | AF240: extra | AG240: extra | AP240: original_images/furniture-item_Xypp2oF.jpeg | AQ240: original_images/furniture-item_RnDFUFd.jpeg | AR240: original_images/furniture-item_kbj7rLl.jpeg | AS240: original_images/furniture-item_oTRcP7u.jpeg | AT240: original_images/furniture-item_3vj1YIi.jpeg | AU240: original_images/furniture-item_4qHFp9w.jpeg | AZ240: front | BA240: back | BB240: under | BC240: mount-under | BD240: pad | BE240: mount-back | BK240: Trä | BU240: 45 | BV240: Trä | BX240: Klarlackad | BZ240: Bra. Upplevs stabila | CA240: Ja | CH240: 104
A241: inv_WcK53W1aok0eP9_3780_0 | B241: Sittmöbel | C241: Pall | D241: Pall | E241: 44 | F241: 25 | G241: 35 | P241: 44501 | Q241: Inga eller små förslitningsskador | AP241: original_images/furniture-item_Mv6lKaS.jpeg | AQ241: original_images/furniture-item_HRKXRpu.jpeg | AR241: original_images/furniture-item_KCVCp1V.jpeg | AS241: original_images/furniture-item_ANAkDbY.jpeg | AZ241: front | BA241: under | BB241: mount-under | BC241: pad | BK241: Plast | BM241: Ikea | BV241: Plast | BZ241: Bra. Upplevs stabila | CA241: Ja | CH241: 107
A242: inv_WcK53W1aok0eP9_3628_0 | B242: Sittmöbel | C242: Pall | D242: Pall | E242: 44 | F242: 25 | G242: 35 | P242: 44501 | Q242: Inga eller små förslitningsskador | AP242: original_images/furniture-item_Mv6lKaS.jpeg | AQ242: original_images/furniture-item_HRKXRpu.jpeg | AR242: original_images/furniture-item_KCVCp1V.jpeg | AS242: original_images/furniture-item_ANAkDbY.jpeg | AZ242: front | BA242: under | BB242: mount-under | BC242: pad | BK242: Plast | BM242: Ikea | BV242: Plast | BZ242: Bra. Upplevs stabila | CA242: Ja | CH242: 126
A243: inv_WcK53W1aok0eP9_3628_1 | B243: Sittmöbel | C243: Pall | D243: Pall | E243: 44 | F243: 25 | G243: 35 | P243: 44501 | Q243: Inga eller små förslitningsskador | AP243: original_images/furniture-item_Mv6lKaS.jpeg | AQ243: original_images/furniture-item_HRKXRpu.jpeg | AR243: original_images/furniture-item_KCVCp1V.jpeg | AS243: original_images/furniture-item_ANAkDbY.jpeg | AZ243: front | BA243: under | BB243: mount-under | BC243: pad | BK243: Plast | BM243: Ikea | BV243: Plast | BZ243: Bra. Upplevs stabila | CA243: Ja | CH243: 126
A244: inv_WcK53W1aok0eP9_3628_2 | B244: Sittmöbel | C244: Pall | D244: Pall | E244: 44 | F244: 25 | G244: 35 | P244: 44501 | Q244: Inga eller små förslitningsskador | AP244: original_images/furniture-item_Mv6lKaS.jpeg | AQ244: original_images/furniture-item_HRKXRpu.jpeg | AR244: original_images/furniture-item_KCVCp1V.jpeg | AS244: original_images/furniture-item_ANAkDbY.jpeg | AZ244: front | BA244: under | BB244: mount-under | BC244: pad | BK244: Plast | BM244: Ikea | BV244: Plast | BZ244: Bra. Upplevs stabila | CA244: Ja | CH244: 126
A245: inv_WcK53W1aok0eP9_3628_3 | B245: Sittmöbel | C245: Pall | D245: Pall | E245: 44 | F245: 25 | G245: 35 | P245: 44501 | Q245: Inga eller små förslitningsskador | AP245: original_images/furniture-item_Mv6lKaS.jpeg | AQ245: original_images/furniture-item_HRKXRpu.jpeg | AR245: original_images/furniture-item_KCVCp1V.jpeg | AS245: original_images/furniture-item_ANAkDbY.jpeg | AZ245: front | BA245: under | BB245: mount-under | BC245: pad | BK245: Plast | BM245: Ikea | BV245: Plast | BZ245: Bra. Upplevs stabila | CA245: Ja | CH245: 126
A246: inv_WcK53W1aok0eP9_3628_4 | B246: Sittmöbel | C246: Pall | D246: Pall | E246: 44 | F246: 25 | G246: 35 | P246: 44501 | Q246: Inga eller små förslitningsskador | AP246: original_images/furniture-item_Mv6lKaS.jpeg | AQ246: original_images/furniture-item_HRKXRpu.jpeg | AR246: original_images/furniture-item_KCVCp1V.jpeg | AS246: original_images/furniture-item_ANAkDbY.jpeg | AZ246: front | BA246: under | BB246: mount-under | BC246: pad | BK246: Plast | BM246: Ikea | BV246: Plast | BZ246: Bra. Upplevs stabila | CA246: Ja | CH246: 126
A247: inv_WcK53W1aok0eP9_3628_5 | B247: Sittmöbel | C247: Pall | D247: Pall | E247: 44 | F247: 25 | G247: 35 | P247: 44501 | Q247: Inga eller små förslitningsskador | AP247: original_images/furniture-item_Mv6lKaS.jpeg | AQ247: original_images/furniture-item_HRKXRpu.jpeg | AR247: original_images/furniture-item_KCVCp1V.jpeg | AS247: original_images/furniture-item_ANAkDbY.jpeg | AZ247: front | BA247: under | BB247: mount-under | BC247: pad | BK247: Plast | BM247: Ikea | BV247: Plast | BZ247: Bra. Upplevs stabila | CA247: Ja | CH247: 126
A248: inv_WcK53W1aok0eP9_3311_0 | B248: Sittmöbel | C248: Pall | D248: Pall | E248: 44 | F248: 25 | G248: 35 | P248: 44501 | Q248: Inga eller små förslitningsskador | AP248: original_images/furniture-item_Mv6lKaS.jpeg | AQ248: original_images/furniture-item_HRKXRpu.jpeg | AR248: original_images/furniture-item_KCVCp1V.jpeg | AS248: original_images/furniture-item_ANAkDbY.jpeg | AZ248: front | BA248: under | BB248: mount-under | BC248: pad | BK248: Plast | BM248: Ikea | BV248: Plast | BZ248: Bra. Upplevs stabila | CA248: Ja | CH248: 212 paviljong
A249: inv_WcK53W1aok0eP9_3290_0 | B249: Sittmöbel | C249: Pall | D249: Pall | E249: 44 | F249: 25 | G249: 35 | P249: 44501 | Q249: Inga eller små förslitningsskador | AP249: original_images/furniture-item_Mv6lKaS.jpeg | AQ249: original_images/furniture-item_HRKXRpu.jpeg | AR249: original_images/furniture-item_KCVCp1V.jpeg | AS249: original_images/furniture-item_ANAkDbY.jpeg | AZ249: front | BA249: under | BB249: mount-under | BC249: pad | BK249: Plast | BM249: Ikea | BV249: Plast | BZ249: Bra. Upplevs stabila | CA249: Ja | CH249: 213 paviljong
A250: inv_WcK53W1aok0eP9_3267_0 | B250: Sittmöbel | C250: Pall | D250: Pall | E250: 44 | F250: 25 | G250: 35 | P250: 44501 | Q250: Inga eller små förslitningsskador | AP250: original_images/furniture-item_Mv6lKaS.jpeg | AQ250: original_images/furniture-item_HRKXRpu.jpeg | AR250: original_images/furniture-item_KCVCp1V.jpeg | AS250: original_images/furniture-item_ANAkDbY.jpeg | AZ250: front | BA250: under | BB250: mount-under | BC250: pad | BK250: Plast | BM250: Ikea | BV250: Plast | BZ250: Bra. Upplevs stabila | CA250: Ja | CH250: 202 paviljong
A251: inv_WcK53W1aok0eP9_3242_0 | B251: Sittmöbel | C251: Pall | D251: Pall | E251: 44 | F251: 25 | G251: 35 | P251: 44501 | Q251: Inga eller små förslitningsskador | AP251: original_images/furniture-item_Mv6lKaS.jpeg | AQ251: original_images/furniture-item_HRKXRpu.jpeg | AR251: original_images/furniture-item_KCVCp1V.jpeg | AS251: original_images/furniture-item_ANAkDbY.jpeg | AZ251: front | BA251: under | BB251: mount-under | BC251: pad | BK251: Plast | BM251: Ikea | BV251: Plast | BZ251: Bra. Upplevs stabila | CA251: Ja | CH251: 100 paviljong
A252: inv_WcK53W1aok0eP9_3241_0 | B252: Sittmöbel | C252: Pall | D252: Pall | E252: 44 | F252: 25 | G252: 35 | P252: 44501 | Q252: Inga eller små förslitningsskador | AP252: original_images/furniture-item_Mv6lKaS.jpeg | AQ252: original_images/furniture-item_HRKXRpu.jpeg | AR252: original_images/furniture-item_KCVCp1V.jpeg | AS252: original_images/furniture-item_ANAkDbY.jpeg | AZ252: front | BA252: under | BB252: mount-under | BC252: pad | BK252: Plast | BM252: Ikea | BV252: Plast | BZ252: Bra. Upplevs stabila | CA252: Ja | CH252: 115 paviljong
A253: inv_WcK53W1aok0eP9_3241_1 | B253: Sittmöbel | C253: Pall | D253: Pall | E253: 44 | F253: 25 | G253: 35 | P253: 44501 | Q253: Inga eller små förslitningsskador | AP253: original_images/furniture-item_Mv6lKaS.jpeg | AQ253: original_images/furniture-item_HRKXRpu.jpeg | AR253: original_images/furniture-item_KCVCp1V.jpeg | AS253: original_images/furniture-item_ANAkDbY.jpeg | AZ253: front | BA253: under | BB253: mount-under | BC253: pad | BK253: Plast | BM253: Ikea | BV253: Plast | BZ253: Bra. Upplevs stabila | CA253: Ja | CH253: 115 paviljong
A254: inv_Irr9H42IDrWPmh_4032_0 | B254: Sittmöbel | C254: Stol | D254: Elevstol | E254: 45 | F254: 76 | G254: 48 | H254: Nej | K254: Trä | N254: Klarlackad | P254: 44502 | Q254: Inga eller små förslitningsskador | R254: Slitage i lacken på metallen. Fläckar och nötta kanter på träet. | T254: Nej | V254: original_images/furniture-item_KR5Us5T.jpeg | W254: original_images/furniture-item_xNmZjvY.jpeg | AF254: extra | AG254: extra | AP254: original_images/furniture-item_PotvP7K.jpeg | AQ254: original_images/furniture-item_eLYAR96.jpeg | AR254: original_images/furniture-item_216dESM.jpeg | AS254: original_images/furniture-item_RYtijxv.jpeg | AT254: original_images/furniture-item_wHUCeHP.jpeg | AU254: original_images/furniture-item_icduCkC.jpeg | AZ254: front | BA254: back | BB254: under | BC254: mount-under | BD254: pad | BE254: mount-back | BK254: Metall | BM254: Tranås | BN254: Ren och fin från tejp, klister mm | BU254: 43 | BV254: Trä | BX254: Klarlackad | BZ254: Bra. Upplevs stabila | CA254: Ja | CH254: D2
A255: inv_Irr9H42IDrWPmh_4032_1 | B255: Sittmöbel | C255: Stol | D255: Elevstol | E255: 45 | F255: 76 | G255: 48 | H255: Nej | K255: Trä | N255: Klarlackad | P255: 44502 | Q255: Inga eller små förslitningsskador | R255: Slitage i lacken på metallen. Fläckar och nötta kanter på träet. | T255: Nej | V255: original_images/furniture-item_KR5Us5T.jpeg | W255: original_images/furniture-item_xNmZjvY.jpeg | AF255: extra | AG255: extra | AP255: original_images/furniture-item_PotvP7K.jpeg | AQ255: original_images/furniture-item_eLYAR96.jpeg | AR255: original_images/furniture-item_216dESM.jpeg | AS255: original_images/furniture-item_RYtijxv.jpeg | AT255: original_images/furniture-item_wHUCeHP.jpeg | AU255: original_images/furniture-item_icduCkC.jpeg | AZ255: front | BA255: back | BB255: under | BC255: mount-under | BD255: pad | BE255: mount-back | BK255: Metall | BM255: Tranås | BN255: Ren och fin från tejp, klister mm | BU255: 43 | BV255: Trä | BX255: Klarlackad | BZ255: Bra. Upplevs stabila | CA255: Ja | CH255: D2
A256: inv_Irr9H42IDrWPmh_4032_2 | B256: Sittmöbel | C256: Stol | D256: Elevstol | E256: 45 | F256: 76 | G256: 48 | H256: Nej | K256: Trä | N256: Klarlackad | P256: 44502 | Q256: Inga eller små förslitningsskador | R256: Slitage i lacken på metallen. Fläckar och nötta kanter på träet. | T256: Nej | V256: original_images/furniture-item_KR5Us5T.jpeg | W256: original_images/furniture-item_xNmZjvY.jpeg | AF256: extra | AG256: extra | AP256: original_images/furniture-item_PotvP7K.jpeg | AQ256: original_images/furniture-item_eLYAR96.jpeg | AR256: original_images/furniture-item_216dESM.jpeg | AS256: original_images/furniture-item_RYtijxv.jpeg | AT256: original_images/furniture-item_wHUCeHP.jpeg | AU256: original_images/furniture-item_icduCkC.jpeg | AZ256: front | BA256: back | BB256: under | BC256: mount-under | BD256: pad | BE256: mount-back | BK256: Metall | BM256: Tranås | BN256: Ren och fin från tejp, klister mm | BU256: 43 | BV256: Trä | BX256: Klarlackad | BZ256: Bra. Upplevs stabila | CA256: Ja | CH256: D2
A257: inv_Irr9H42IDrWPmh_4032_3 | B257: Sittmöbel | C257: Stol | D257: Elevstol | E257: 45 | F257: 76 | G257: 48 | H257: Nej | K257: Trä | N257: Klarlackad | P257: 44502 | Q257: Inga eller små förslitningsskador | R257: Slitage i lacken på metallen. Fläckar och nötta kanter på träet. | T257: Nej | V257: original_images/furniture-item_KR5Us5T.jpeg | W257: original_images/furniture-item_xNmZjvY.jpeg | AF257: extra | AG257: extra | AP257: original_images/furniture-item_PotvP7K.jpeg | AQ257: original_images/furniture-item_eLYAR96.jpeg | AR257: original_images/furniture-item_216dESM.jpeg | AS257: original_images/furniture-item_RYtijxv.jpeg | AT257: original_images/furniture-item_wHUCeHP.jpeg | AU257: original_images/furniture-item_icduCkC.jpeg | AZ257: front | BA257: back | BB257: under | BC257: mount-under | BD257: pad | BE257: mount-back | BK257: Metall | BM257: Tranås | BN257: Ren och fin från tejp, klister mm | BU257: 43 | BV257: Trä | BX257: Klarlackad | BZ257: Bra. Upplevs stabila | CA257: Ja | CH257: D2
A258: inv_Irr9H42IDrWPmh_4032_4 | B258: Sittmöbel | C258: Stol | D258: Elevstol | E258: 45 | F258: 76 | G258: 48 | H258: Nej | K258: Trä | N258: Klarlackad | P258: 44502 | Q258: Inga eller små förslitningsskador | R258: Slitage i lacken på metallen. Fläckar och nötta kanter på träet. | T258: Nej | V258: original_images/furniture-item_KR5Us5T.jpeg | W258: original_images/furniture-item_xNmZjvY.jpeg | AF258: extra | AG258: extra | AP258: original_images/furniture-item_PotvP7K.jpeg | AQ258: original_images/furniture-item_eLYAR96.jpeg | AR258: original_images/furniture-item_216dESM.jpeg | AS258: original_images/furniture-item_RYtijxv.jpeg | AT258: original_images/furniture-item_wHUCeHP.jpeg | AU258: original_images/furniture-item_icduCkC.jpeg | AZ258: front | BA258: back | BB258: under | BC258: mount-under | BD258: pad | BE258: mount-back | BK258: Metall | BM258: Tranås | BN258: Ren och fin från tejp, klister mm | BU258: 43 | BV258: Trä | BX258: Klarlackad | BZ258: Bra. Upplevs stabila | CA258: Ja | CH258: D2
A259: inv_Irr9H42IDrWPmh_4032_5 | B259: Sittmöbel | C259: Stol | D259: Elevstol | E259: 45 | F259: 76 | G259: 48 | H259: Nej | K259: Trä | N259: Klarlackad | P259: 44502 | Q259: Inga eller små förslitningsskador | R259: Slitage i lacken på metallen. Fläckar och nötta kanter på träet. | T259: Nej | V259: original_images/furniture-item_KR5Us5T.jpeg | W259: original_images/furniture-item_xNmZjvY.jpeg | AF259: extra | AG259: extra | AP259: original_images/furniture-item_PotvP7K.jpeg | AQ259: original_images/furniture-item_eLYAR96.jpeg | AR259: original_images/furniture-item_216dESM.jpeg | AS259: original_images/furniture-item_RYtijxv.jpeg | AT259: original_images/furniture-item_wHUCeHP.jpeg | AU259: original_images/furniture-item_icduCkC.jpeg | AZ259: front | BA259: back | BB259: under | BC259: mount-under | BD259: pad | BE259: mount-back | BK259: Metall | BM259: Tranås | BN259: Ren och fin från tejp, klister mm | BU259: 43 | BV259: Trä | BX259: Klarlackad | BZ259: Bra. Upplevs stabila | CA259: Ja | CH259: D2
A260: inv_Irr9H42IDrWPmh_4032_6 | B260: Sittmöbel | C260: Stol | D260: Elevstol | E260: 45 | F260: 76 | G260: 48 | H260: Nej | K260: Trä | N260: Klarlackad | P260: 44502 | Q260: Inga eller små förslitningsskador | R260: Slitage i lacken på metallen. Fläckar och nötta kanter på träet. | T260: Nej | V260: original_images/furniture-item_KR5Us5T.jpeg | W260: original_images/furniture-item_xNmZjvY.jpeg | AF260: extra | AG260: extra | AP260: original_images/furniture-item_PotvP7K.jpeg | AQ260: original_images/furniture-item_eLYAR96.jpeg | AR260: original_images/furniture-item_216dESM.jpeg | AS260: original_images/furniture-item_RYtijxv.jpeg | AT260: original_images/furniture-item_wHUCeHP.jpeg | AU260: original_images/furniture-item_icduCkC.jpeg | AZ260: front | BA260: back | BB260: under | BC260: mount-under | BD260: pad | BE260: mount-back | BK260: Metall | BM260: Tranås | BN260: Ren och fin från tejp, klister mm | BU260: 43 | BV260: Trä | BX260: Klarlackad | BZ260: Bra. Upplevs stabila | CA260: Ja | CH260: D2
A261: inv_Irr9H42IDrWPmh_3594_0 | B261: Sittmöbel | C261: Stol | D261: Elevstol | E261: 45 | F261: 76 | G261: 48 | H261: Nej | K261: Trä | N261: Klarlackad | P261: 44502 | Q261: Inga eller små förslitningsskador | R261: Slitage i lacken på metallen. Fläckar och nötta kanter på träet. | T261: Nej | V261: original_images/furniture-item_KR5Us5T.jpeg | W261: original_images/furniture-item_xNmZjvY.jpeg | AF261: extra | AG261: extra | AP261: original_images/furniture-item_PotvP7K.jpeg | AQ261: original_images/furniture-item_eLYAR96.jpeg | AR261: original_images/furniture-item_216dESM.jpeg | AS261: original_images/furniture-item_RYtijxv.jpeg | AT261: original_images/furniture-item_wHUCeHP.jpeg | AU261: original_images/furniture-item_icduCkC.jpeg | AZ261: front | BA261: back | BB261: under | BC261: mount-under | BD261: pad | BE261: mount-back | BK261: Metall | BM261: Tranås | BN261: Ren och fin från tejp, klister mm | BU261: 43 | BV261: Trä | BX261: Klarlackad | BZ261: Bra. Upplevs stabila | CA261: Ja | CH261: Korridor plan 2
A262: inv_Irr9H42IDrWPmh_3594_1 | B262: Sittmöbel | C262: Stol | D262: Elevstol | E262: 45 | F262: 76 | G262: 48 | H262: Nej | K262: Trä | N262: Klarlackad | P262: 44502 | Q262: Inga eller små förslitningsskador | R262: Slitage i lacken på metallen. Fläckar och nötta kanter på träet. | T262: Nej | V262: original_images/furniture-item_KR5Us5T.jpeg | W262: original_images/furniture-item_xNmZjvY.jpeg | AF262: extra | AG262: extra | AP262: original_images/furniture-item_PotvP7K.jpeg | AQ262: original_images/furniture-item_eLYAR96.jpeg | AR262: original_images/furniture-item_216dESM.jpeg | AS262: original_images/furniture-item_RYtijxv.jpeg | AT262: original_images/furniture-item_wHUCeHP.jpeg | AU262: original_images/furniture-item_icduCkC.jpeg | AZ262: front | BA262: back | BB262: under | BC262: mount-under | BD262: pad | BE262: mount-back | BK262: Metall | BM262: Tranås | BN262: Ren och fin från tejp, klister mm | BU262: 43 | BV262: Trä | BX262: Klarlackad | BZ262: Bra. Upplevs stabila | CA262: Ja | CH262: Korridor plan 2
A263: inv_Irr9H42IDrWPmh_3594_2 | B263: Sittmöbel | C263: Stol | D263: Elevstol | E263: 45 | F263: 76 | G263: 48 | H263: Nej | K263: Trä | N263: Klarlackad | P263: 44502 | Q263: Inga eller små förslitningsskador | R263: Slitage i lacken på metallen. Fläckar och nötta kanter på träet. | T263: Nej | V263: original_images/furniture-item_KR5Us5T.jpeg | W263: original_images/furniture-item_xNmZjvY.jpeg | AF263: extra | AG263: extra | AP263: original_images/furniture-item_PotvP7K.jpeg | AQ263: original_images/furniture-item_eLYAR96.jpeg | AR263: original_images/furniture-item_216dESM.jpeg | AS263: original_images/furniture-item_RYtijxv.jpeg | AT263: original_images/furniture-item_wHUCeHP.jpeg | AU263: original_images/furniture-item_icduCkC.jpeg | AZ263: front | BA263: back | BB263: under | BC263: mount-under | BD263: pad | BE263: mount-back | BK263: Metall | BM263: Tranås | BN263: Ren och fin från tejp, klister mm | BU263: 43 | BV263: Trä | BX263: Klarlackad | BZ263: Bra. Upplevs stabila | CA263: Ja | CH263: Korridor plan 2
A264: inv_Irr9H42IDrWPmh_3594_3 | B264: Sittmöbel | C264: Stol | D264: Elevstol | E264: 45 | F264: 76 | G264: 48 | H264: Nej | K264: Trä | N264: Klarlackad | P264: 44502 | Q264: Inga eller små förslitningsskador | R264: Slitage i lacken på metallen. Fläckar och nötta kanter på träet. | T264: Nej | V264: original_images/furniture-item_KR5Us5T.jpeg | W264: original_images/furniture-item_xNmZjvY.jpeg | AF264: extra | AG264: extra | AP264: original_images/furniture-item_PotvP7K.jpeg | AQ264: original_images/furniture-item_eLYAR96.jpeg | AR264: original_images/furniture-item_216dESM.jpeg | AS264: original_images/furniture-item_RYtijxv.jpeg | AT264: original_images/furniture-item_wHUCeHP.jpeg | AU264: original_images/furniture-item_icduCkC.jpeg | AZ264: front | BA264: back | BB264: under | BC264: mount-under | BD264: pad | BE264: mount-back | BK264: Metall | BM264: Tranås | BN264: Ren och fin från tejp, klister mm | BU264: 43 | BV264: Trä | BX264: Klarlackad | BZ264: Bra. Upplevs stabila | CA264: Ja | CH264: Korridor plan 2
A265: inv_Irr9H42IDrWPmh_3594_4 | B265: Sittmöbel | C265: Stol | D265: Elevstol | E265: 45 | F265: 76 | G265: 48 | H265: Nej | K265: Trä | N265: Klarlackad | P265: 44502 | Q265: Inga eller små förslitningsskador | R265: Slitage i lacken på metallen. Fläckar och nötta kanter på träet. | T265: Nej | V265: original_images/furniture-item_KR5Us5T.jpeg | W265: original_images/furniture-item_xNmZjvY.jpeg | AF265: extra | AG265: extra | AP265: original_images/furniture-item_PotvP7K.jpeg | AQ265: original_images/furniture-item_eLYAR96.jpeg | AR265: original_images/furniture-item_216dESM.jpeg | AS265: original_images/furniture-item_RYtijxv.jpeg | AT265: original_images/furniture-item_wHUCeHP.jpeg | AU265: original_images/furniture-item_icduCkC.jpeg | AZ265: front | BA265: back | BB265: under | BC265: mount-under | BD265: pad | BE265: mount-back | BK265: Metall | BM265: Tranås | BN265: Ren och fin från tejp, klister mm | BU265: 43 | BV265: Trä | BX265: Klarlackad | BZ265: Bra. Upplevs stabila | CA265: Ja | CH265: Korridor plan 2
... A267: inv_Irr9H42IDrWPmh_3594_6 | B267: Sittmöbel | C267: Stol | D267: Elevstol | E267: 45 | F267: 76 | G267: 48 | H267: Nej | K267: Trä | N267: Klarlackad | P267: 44502 | Q267: Inga eller små förslitningsskador | R267: Slitage i lacken på metallen. Fläckar och nötta kanter på träet. | T267: Nej | V267: original_images/furniture-item_KR5Us5T.jpeg | W267: original_images/furniture-item_xNmZjvY.jpeg | AF267: extra | AG267: extra | AP267: original_images/furniture-item_PotvP7K.jpeg | AQ267: original_images/furniture-item_eLYAR96.jpeg | AR267: original_images/furniture-item_216dESM.jpeg | AS267: original_images/furniture-item_RYtijxv.jpeg | AT267: original_images/furniture-item_wHUCeHP.jpeg | AU267: original_images/furniture-item_icduCkC.jpeg | AZ267: front | BA267: back | BB267: under | BC267: mount-under | BD267: pad | BE267: mount-back | BK267: Metall | BM267: Tranås | BN267: Ren och fin från tejp, klister mm | BU267: 43 | BV267: Trä | BX267: Klarlackad | BZ267: Bra. Upplevs stabila | CA267: Ja | CH267: Korridor plan 2
A268: inv_Irr9H42IDrWPmh_3563_0 | B268: Sittmöbel | C268: Stol | D268: Elevstol | E268: 45 | F268: 76 | G268: 48 | H268: Nej | K268: Trä | N268: Klarlackad | P268: 44502 | Q268: Inga eller små förslitningsskador | R268: Slitage i lacken på metallen. Fläckar och nötta kanter på träet. | T268: Nej | V268: original_images/furniture-item_KR5Us5T.jpeg | W268: original_images/furniture-item_xNmZjvY.jpeg | AF268: extra | AG268: extra | AP268: original_images/furniture-item_PotvP7K.jpeg | AQ268: original_images/furniture-item_eLYAR96.jpeg | AR268: original_images/furniture-item_216dESM.jpeg | AS268: original_images/furniture-item_RYtijxv.jpeg | AT268: original_images/furniture-item_wHUCeHP.jpeg | AU268: original_images/furniture-item_icduCkC.jpeg | AZ268: front | BA268: back | BB268: under | BC268: mount-under | BD268: pad | BE268: mount-back | BK268: Metall | BM268: Tranås | BN268: Ren och fin från tejp, klister mm | BU268: 43 | BV268: Trä | BX268: Klarlackad | BZ268: Bra. Upplevs stabila | CA268: Ja | CH268: 220
A269: inv_Irr9H42IDrWPmh_3563_1 | B269: Sittmöbel | C269: Stol | D269: Elevstol | E269: 45 | F269: 76 | G269: 48 | H269: Nej | K269: Trä | N269: Klarlackad | P269: 44502 | Q269: Inga eller små förslitningsskador | R269: Slitage i lacken på metallen. Fläckar och nötta kanter på träet. | T269: Nej | V269: original_images/furniture-item_KR5Us5T.jpeg | W269: original_images/furniture-item_xNmZjvY.jpeg | AF269: extra | AG269: extra | AP269: original_images/furniture-item_PotvP7K.jpeg | AQ269: original_images/furniture-item_eLYAR96.jpeg | AR269: original_images/furniture-item_216dESM.jpeg | AS269: original_images/furniture-item_RYtijxv.jpeg | AT269: original_images/furniture-item_wHUCeHP.jpeg | AU269: original_images/furniture-item_icduCkC.jpeg | AZ269: front | BA269: back | BB269: under | BC269: mount-under | BD269: pad | BE269: mount-back | BK269: Metall | BM269: Tranås | BN269: Ren och fin från tejp, klister mm | BU269: 43 | BV269: Trä | BX269: Klarlackad | BZ269: Bra. Upplevs stabila | CA269: Ja | CH269: 220
A270: inv_Irr9H42IDrWPmh_3563_2 | B270: Sittmöbel | C270: Stol | D270: Elevstol | E270: 45 | F270: 76 | G270: 48 | H270: Nej | K270: Trä | N270: Klarlackad | P270: 44502 | Q270: Inga eller små förslitningsskador | R270: Slitage i lacken på metallen. Fläckar och nötta kanter på träet. | T270: Nej | V270: original_images/furniture-item_KR5Us5T.jpeg | W270: original_images/furniture-item_xNmZjvY.jpeg | AF270: extra | AG270: extra | AP270: original_images/furniture-item_PotvP7K.jpeg | AQ270: original_images/furniture-item_eLYAR96.jpeg | AR270: original_images/furniture-item_216dESM.jpeg | AS270: original_images/furniture-item_RYtijxv.jpeg | AT270: original_images/furniture-item_wHUCeHP.jpeg | AU270: original_images/furniture-item_icduCkC.jpeg | AZ270: front | BA270: back | BB270: under | BC270: mount-under | BD270: pad | BE270: mount-back | BK270: Metall | BM270: Tranås | BN270: Ren och fin från tejp, klister mm | BU270: 43 | BV270: Trä | BX270: Klarlackad | BZ270: Bra. Upplevs stabila | CA270: Ja | CH270: 220
A271: inv_Irr9H42IDrWPmh_3563_3 | B271: Sittmöbel | C271: Stol | D271: Elevstol | E271: 45 | F271: 76 | G271: 48 | H271: Nej | K271: Trä | N271: Klarlackad | P271: 44502 | Q271: Inga eller små förslitningsskador | R271: Slitage i lacken på metallen. Fläckar och nötta kanter på träet. | T271: Nej | V271: original_images/furniture-item_KR5Us5T.jpeg | W271: original_images/furniture-item_xNmZjvY.jpeg | AF271: extra | AG271: extra | AP271: original_images/furniture-item_PotvP7K.jpeg | AQ271: original_images/furniture-item_eLYAR96.jpeg | AR271: original_images/furniture-item_216dESM.jpeg | AS271: original_images/furniture-item_RYtijxv.jpeg | AT271: original_images/furniture-item_wHUCeHP.jpeg | AU271: original_images/furniture-item_icduCkC.jpeg | AZ271: front | BA271: back | BB271: under | BC271: mount-under | BD271: pad | BE271: mount-back | BK271: Metall | BM271: Tranås | BN271: Ren och fin från tejp, klister mm | BU271: 43 | BV271: Trä | BX271: Klarlackad | BZ271: Bra. Upplevs stabila | CA271: Ja | CH271: 220
A272: inv_Irr9H42IDrWPmh_3563_4 | B272: Sittmöbel | C272: Stol | D272: Elevstol | E272: 45 | F272: 76 | G272: 48 | H272: Nej | K272: Trä | N272: Klarlackad | P272: 44502 | Q272: Inga eller små förslitningsskador | R272: Slitage i lacken på metallen. Fläckar och nötta kanter på träet. | T272: Nej | V272: original_images/furniture-item_KR5Us5T.jpeg | W272: original_images/furniture-item_xNmZjvY.jpeg | AF272: extra | AG272: extra | AP272: original_images/furniture-item_PotvP7K.jpeg | AQ272: original_images/furniture-item_eLYAR96.jpeg | AR272: original_images/furniture-item_216dESM.jpeg | AS272: original_images/furniture-item_RYtijxv.jpeg | AT272: original_images/furniture-item_wHUCeHP.jpeg | AU272: original_images/furniture-item_icduCkC.jpeg | AZ272: front | BA272: back | BB272: under | BC272: mount-under | BD272: pad | BE272: mount-back | BK272: Metall | BM272: Tranås | BN272: Ren och fin från tejp, klister mm | BU272: 43 | BV272: Trä | BX272: Klarlackad | BZ272: Bra. Upplevs stabila | CA272: Ja | CH272: 220
A273: inv_Irr9H42IDrWPmh_3563_5 | B273: Sittmöbel | C273: Stol | D273: Elevstol | E273: 45 | F273: 76 | G273: 48 | H273: Nej | K273: Trä | N273: Klarlackad | P273: 44502 | Q273: Inga eller små förslitningsskador | R273: Slitage i lacken på metallen. Fläckar och nötta kanter på träet. | T273: Nej | V273: original_images/furniture-item_KR5Us5T.jpeg | W273: original_images/furniture-item_xNmZjvY.jpeg | AF273: extra | AG273: extra | AP273: original_images/furniture-item_PotvP7K.jpeg | AQ273: original_images/furniture-item_eLYAR96.jpeg | AR273: original_images/furniture-item_216dESM.jpeg | AS273: original_images/furniture-item_RYtijxv.jpeg | AT273: original_images/furniture-item_wHUCeHP.jpeg | AU273: original_images/furniture-item_icduCkC.jpeg | AZ273: front | BA273: back | BB273: under | BC273: mount-under | BD273: pad | BE273: mount-back | BK273: Metall | BM273: Tranås | BN273: Ren och fin från tejp, klister mm | BU273: 43 | BV273: Trä | BX273: Klarlackad | BZ273: Bra. Upplevs stabila | CA273: Ja | CH273: 220
A274: inv_Irr9H42IDrWPmh_3560_0 | B274: Sittmöbel | C274: Stol | D274: Elevstol | E274: 45 | F274: 76 | G274: 48 | H274: Nej | K274: Trä | N274: Klarlackad | P274: 44502 | Q274: Inga eller små förslitningsskador | R274: Slitage i lacken på metallen. Fläckar och nötta kanter på träet. | T274: Nej | V274: original_images/furniture-item_KR5Us5T.jpeg | W274: original_images/furniture-item_xNmZjvY.jpeg | AF274: extra | AG274: extra | AP274: original_images/furniture-item_PotvP7K.jpeg | AQ274: original_images/furniture-item_eLYAR96.jpeg | AR274: original_images/furniture-item_216dESM.jpeg | AS274: original_images/furniture-item_RYtijxv.jpeg | AT274: original_images/furniture-item_wHUCeHP.jpeg | AU274: original_images/furniture-item_icduCkC.jpeg | AZ274: front | BA274: back | BB274: under | BC274: mount-under | BD274: pad | BE274: mount-back | BK274: Metall | BM274: Tranås | BN274: Ren och fin från tejp, klister mm | BU274: 43 | BV274: Trä | BX274: Klarlackad | BZ274: Bra. Upplevs stabila | CA274: Ja | CH274: 218
A275: inv_Irr9H42IDrWPmh_3520_0 | B275: Sittmöbel | C275: Stol | D275: Elevstol | E275: 45 | F275: 76 | G275: 48 | H275: Nej | K275: Trä | N275: Klarlackad | P275: 44502 | Q275: Inga eller små förslitningsskador | R275: Slitage i lacken på metallen. Fläckar och nötta kanter på träet. | T275: Nej | V275: original_images/furniture-item_KR5Us5T.jpeg | W275: original_images/furniture-item_xNmZjvY.jpeg | AF275: extra | AG275: extra | AP275: original_images/furniture-item_PotvP7K.jpeg | AQ275: original_images/furniture-item_eLYAR96.jpeg | AR275: original_images/furniture-item_216dESM.jpeg | AS275: original_images/furniture-item_RYtijxv.jpeg | AT275: original_images/furniture-item_wHUCeHP.jpeg | AU275: original_images/furniture-item_icduCkC.jpeg | AZ275: front | BA275: back | BB275: under | BC275: mount-under | BD275: pad | BE275: mount-back | BK275: Metall | BM275: Tranås | BN275: Ren och fin från tejp, klister mm | BU275: 43 | BV275: Trä | BX275: Klarlackad | BZ275: Bra. Upplevs stabila | CA275: Ja | CH275: 217
A276: inv_Irr9H42IDrWPmh_3520_1 | B276: Sittmöbel | C276: Stol | D276: Elevstol | E276: 45 | F276: 76 | G276: 48 | H276: Nej | K276: Trä | N276: Klarlackad | P276: 44502 | Q276: Inga eller små förslitningsskador | R276: Slitage i lacken på metallen. Fläckar och nötta kanter på träet. | T276: Nej | V276: original_images/furniture-item_KR5Us5T.jpeg | W276: original_images/furniture-item_xNmZjvY.jpeg | AF276: extra | AG276: extra | AP276: original_images/furniture-item_PotvP7K.jpeg | AQ276: original_images/furniture-item_eLYAR96.jpeg | AR276: original_images/furniture-item_216dESM.jpeg | AS276: original_images/furniture-item_RYtijxv.jpeg | AT276: original_images/furniture-item_wHUCeHP.jpeg | AU276: original_images/furniture-item_icduCkC.jpeg | AZ276: front | BA276: back | BB276: under | BC276: mount-under | BD276: pad | BE276: mount-back | BK276: Metall | BM276: Tranås | BN276: Ren och fin från tejp, klister mm | BU276: 43 | BV276: Trä | BX276: Klarlackad | BZ276: Bra. Upplevs stabila | CA276: Ja | CH276: 217
A277: inv_Irr9H42IDrWPmh_3424_0 | B277: Sittmöbel | C277: Stol | D277: Elevstol | E277: 45 | F277: 76 | G277: 48 | H277: Nej | K277: Trä | N277: Klarlackad | P277: 44502 | Q277: Inga eller små förslitningsskador | R277: Slitage i lacken på metallen. Fläckar och nötta kanter på träet. | T277: Nej | V277: original_images/furniture-item_KR5Us5T.jpeg | W277: original_images/furniture-item_xNmZjvY.jpeg | AF277: extra | AG277: extra | AP277: original_images/furniture-item_PotvP7K.jpeg | AQ277: original_images/furniture-item_eLYAR96.jpeg | AR277: original_images/furniture-item_216dESM.jpeg | AS277: original_images/furniture-item_RYtijxv.jpeg | AT277: original_images/furniture-item_wHUCeHP.jpeg | AU277: original_images/furniture-item_icduCkC.jpeg | AZ277: front | BA277: back | BB277: under | BC277: mount-under | BD277: pad | BE277: mount-back | BK277: Metall | BM277: Tranås | BN277: Ren och fin från tejp, klister mm | BU277: 43 | BV277: Trä | BX277: Klarlackad | BZ277: Bra. Upplevs stabila | CA277: Ja | CH277: 214 a
A278: inv_Irr9H42IDrWPmh_3381_0 | B278: Sittmöbel | C278: Stol | D278: Elevstol | E278: 45 | F278: 76 | G278: 48 | H278: Nej | K278: Trä | N278: Klarlackad | P278: 44502 | Q278: Inga eller små förslitningsskador | R278: Slitage i lacken på metallen. Fläckar och nötta kanter på träet. | T278: Nej | V278: original_images/furniture-item_KR5Us5T.jpeg | W278: original_images/furniture-item_xNmZjvY.jpeg | AF278: extra | AG278: extra | AP278: original_images/furniture-item_PotvP7K.jpeg | AQ278: original_images/furniture-item_eLYAR96.jpeg | AR278: original_images/furniture-item_216dESM.jpeg | AS278: original_images/furniture-item_RYtijxv.jpeg | AT278: original_images/furniture-item_wHUCeHP.jpeg | AU278: original_images/furniture-item_icduCkC.jpeg | AZ278: front | BA278: back | BB278: under | BC278: mount-under | BD278: pad | BE278: mount-back | BK278: Metall | BM278: Tranås | BN278: Ren och fin från tejp, klister mm | BU278: 43 | BV278: Trä | BX278: Klarlackad | BZ278: Bra. Upplevs stabila | CA278: Ja | CH278: 301
A279: inv_Irr9H42IDrWPmh_3381_1 | B279: Sittmöbel | C279: Stol | D279: Elevstol | E279: 45 | F279: 76 | G279: 48 | H279: Nej | K279: Trä | N279: Klarlackad | P279: 44502 | Q279: Inga eller små förslitningsskador | R279: Slitage i lacken på metallen. Fläckar och nötta kanter på träet. | T279: Nej | V279: original_images/furniture-item_KR5Us5T.jpeg | W279: original_images/furniture-item_xNmZjvY.jpeg | AF279: extra | AG279: extra | AP279: original_images/furniture-item_PotvP7K.jpeg | AQ279: original_images/furniture-item_eLYAR96.jpeg | AR279: original_images/furniture-item_216dESM.jpeg | AS279: original_images/furniture-item_RYtijxv.jpeg | AT279: original_images/furniture-item_wHUCeHP.jpeg | AU279: original_images/furniture-item_icduCkC.jpeg | AZ279: front | BA279: back | BB279: under | BC279: mount-under | BD279: pad | BE279: mount-back | BK279: Metall | BM279: Tranås | BN279: Ren och fin från tejp, klister mm | BU279: 43 | BV279: Trä | BX279: Klarlackad | BZ279: Bra. Upplevs stabila | CA279: Ja | CH279: 301
A280: inv_Irr9H42IDrWPmh_3381_2 | B280: Sittmöbel | C280: Stol | D280: Elevstol | E280: 45 | F280: 76 | G280: 48 | H280: Nej | K280: Trä | N280: Klarlackad | P280: 44502 | Q280: Inga eller små förslitningsskador | R280: Slitage i lacken på metallen. Fläckar och nötta kanter på träet. | T280: Nej | V280: original_images/furniture-item_KR5Us5T.jpeg | W280: original_images/furniture-item_xNmZjvY.jpeg | AF280: extra | AG280: extra | AP280: original_images/furniture-item_PotvP7K.jpeg | AQ280: original_images/furniture-item_eLYAR96.jpeg | AR280: original_images/furniture-item_216dESM.jpeg | AS280: original_images/furniture-item_RYtijxv.jpeg | AT280: original_images/furniture-item_wHUCeHP.jpeg | AU280: original_images/furniture-item_icduCkC.jpeg | AZ280: front | BA280: back | BB280: under | BC280: mount-under | BD280: pad | BE280: mount-back | BK280: Metall | BM280: Tranås | BN280: Ren och fin från tejp, klister mm | BU280: 43 | BV280: Trä | BX280: Klarlackad | BZ280: Bra. Upplevs stabila | CA280: Ja | CH280: 301
A281: inv_Irr9H42IDrWPmh_3381_3 | B281: Sittmöbel | C281: Stol | D281: Elevstol | E281: 45 | F281: 76 | G281: 48 | H281: Nej | K281: Trä | N281: Klarlackad | P281: 44502 | Q281: Inga eller små förslitningsskador | R281: Slitage i lacken på metallen. Fläckar och nötta kanter på träet. | T281: Nej | V281: original_images/furniture-item_KR5Us5T.jpeg | W281: original_images/furniture-item_xNmZjvY.jpeg | AF281: extra | AG281: extra | AP281: original_images/furniture-item_PotvP7K.jpeg | AQ281: original_images/furniture-item_eLYAR96.jpeg | AR281: original_images/furniture-item_216dESM.jpeg | AS281: original_images/furniture-item_RYtijxv.jpeg | AT281: original_images/furniture-item_wHUCeHP.jpeg | AU281: original_images/furniture-item_icduCkC.jpeg | AZ281: front | BA281: back | BB281: under | BC281: mount-under | BD281: pad | BE281: mount-back | BK281: Metall | BM281: Tranås | BN281: Ren och fin från tejp, klister mm | BU281: 43 | BV281: Trä | BX281: Klarlackad | BZ281: Bra. Upplevs stabila | CA281: Ja | CH281: 301
...
