Workbook

Sheet User and Roles
B4: User | C4: Type | D4: Size | E4: Comment | F4: Op | G4: Validation on input
B5: UserID | C5: uniqueidentifier | D5: 36 | E5: generated unique id | F5: M
B6: Email | C6: varchar | D6: 500 | E6: email that the user is logged in with and that is used for user validation | F6: M | G6: Standars email validation (i.e. something like r"(^[a-zA-Z0-9_.+-]+@[a-zA-Z0-9-]+\.[a-zA-Z0-9-.]+$)").
B7: Password | C7: varchar | D7: 50 | E7: Encoded password | F7: M | G7: referes to guide, is currenlty equal to 1 since we have only one guide = insuranceguide
B8: CreatedDate | C8: datetime | D8: 23 | E8: Date when entry was first created | F8: M | G8: ex: "Hur viktigt tycker du att priset är"
B9: ModifiedDate | C9: datetime | D9: 23 | E9: Date when entry was last modifies | F9: M | G9: Locale, currently only value "SE"
B10: Validity | C10: int | D10: 10 | E10: 0 for not validated uses, 1 for validated users | F10: M | G10: used to order questions by, may be used in display as well
B11: Status | C11: int | D11: 10 | E11: 1 for active users, 2 for inactivated users | G11: path and name of backgrounimage for this question
B14: GuideAnswers | E14: Comment | G14: Comment
B15: GuideAnswerID | E15: generated unique id | G15: generated unique id
B16: QuestionID | E16: referes to question | G16: referes to question
B17: AnswerOrder | E17: used to order ansers by, may be used in display as well | G17: used to order ansers by, may be used in display as well
B18: AnswerText | E18: ex: "mycket viktig" | G18: ex: "mycket viktig"
B19: AnswerLang | E19: Locale, currently only value "SE" | G19: Locale, currently only value "SE"
B22: UserGuideResult | E22: Comment | G22: Comment
B23: UserGuideResultID | E23: generated unique id | G23: generated unique id
B24: GuideID | E24: referes to guide, is currenlty equal to 1 since we have only one guide | G24: referes to guide, is currenlty equal to 1 since we have only one guide
B25: UserID | E25: refers to user for logged in users | G25: refers to user for logged in users
B26: SessionID | E26: user session, for logged in and not logged in users | G26: user session, for logged in and not logged in users
B27: CreatedDate | E27: Date of entry | G27: Date of entry
... B59: GuideResultValue | E59: Value summed over and attributed to guideresult item if the users answer includes this answer | G59: Value summed over and attributed to guideresult item if the users answer includes this answer
B63: GuideResultExclusionLogic
B64: GuideResultExclusionID | E64: generated unique id | G64: generated unique id
B65: GuideResultItemID | C65: UID | E65: referes to guidresultitem to be excuded | G65: referes to guidresultitem to be excuded
B66: GuideID | C66: ID | E66: referes to guide, is currenlty equal to 1 since we have only one guide = insuranceguide | G66: referes to guide, is currenlty equal to 1 since we have only one guide = insuranceguide

Sheet Instruktioner
B2: Mall - version 1.32 2022-01-11. Om du har frågor kan du vända dig till support@hallbarinterior.se
B4: Beskrining av flikana i denna fil
B5: - Den här fliken innehåller instruktioner och förklaringar. Ändra ingenting i den här fliken. - I nästa flik (som heter "MALL") skriver du in själva listan av inredningsdetaljer som du vill importera till HI-verktyget. Det är det det enda stället där du skall skriva in något. Var noga med att följa kraven på formatet - i fliken "ITFkoder" finns det en lista med de tillåtna IFT koder, se mer information under formatering nedan - i fliken "Skick" finns det en lista med de tillåtna värden, se mer information under formatering nedan - Den sista fliken innehåller ett exempel på hur en korrekt ifyllt mall kan se ut. Den finns bara som en illutration
B7: Hur gör jag?
B8: Fyll i mallen på nästa flik med en rad för varje inredningsdetalj, raderna innhåller huvudsaklingen information om hur det föremålet ser ut och vad det är (en stol, eller en lampa osv.). Förutom det kan du också ange ett antal och ett skick. Om du har samma typ av möbel/inredningsdetalj på flera ställen kan du även ange ett rum för de. Läs formateringsinstruktioner nedan nogrannt innan du börjar.
B9: 1) Fyll I mallen på nästa sidan
B10: 2) Spara denna excelfil under ett lämligt namn och där du har dina dokument för detta projekt/uppdrag
B11: 3) Gå till fliken "Mall" och välj "Spara som/Save as". Välj formatet "CSV UTF-8 (.csv)" I rullgardinen och spara filen
B12: (Eventuella varningar om att det inte spara hel filen utan bara den aktuella fliken kan ignoreras)
B13: 4) Stäng filen utan att spara igen och gå till HI-vertyget och importerar den nyss skapade .csv filen till HI-verktyget
B14: Om du vill göra fler ändringar skall du radera importen in HI-verktyget och fortsätta arbeta I denna excel (.xls eller .xlsx) filen och göra om steg 2-4 för att importera
B16: Om du redan har en excelfil med en inventering eller en lista av inredningsdetaljer som du vill använda istället kan du bara sortera kolumnerna i samma ordning som i mall-fliken. Kopiera in rubrikerna från mall-fliken i första raden. Du kan nu använda din excelfil och spara den som .csv fil och importera den på samma sätt som steg 2-4 ovan. Observera att alla rader behöver fortfarande följa den korrekta formateringen
... B19: Här beskrivs exakt vilken information som förväntas i varje kolumn I importfliken. Om du inte följer dessa krav kommer importen inte att fungera. De obligatoriska fäl har markerats gulr här nedan. De måste finnas med i alla rader
B20: rubrik | D20: namn för inredningsdetaljen, dvs möbeln eller liknande, det är din egen benämning, fritext, obligatorisk
B21: material | D21: ange materialval, fritext, frivillig
B22: behandling | D22: ange färg eller ytbehandling, fritext, frivillig
B23: mått | D23: ange mått (beroende på typ kan det vara antal vådor, höjd på en bänk eller L x B x H för vissa artiklar, fritext, frivillig
B24: beskrivning | D24: beskrivning av inredningsdetaljen, om informationen inte kan delas upp i fälten material, färg och behandling, mått, kan allt läggas tillsammasn här, fritext, frivillig
B25: ITF | D25: En ITF kod some består av en bokstav och en siffra (siffran kan skippas). Alltid max två tecken lång och måsta vara en av de 79 koder under fliken ITFkoder. Val av exakt en av koderna, inga andra koder tillåts, strikt formaterat, obligatorisk
B26: fabrikat | D26: Fabrikat av inredningsdetaljen om fabrikatet är känd. Matchas mot listan av kända fabrikat och officiel namn på fabrikat används om möjligt. Fritext, frivillig
B27: artikelnummer | D27: tillverkaren eller leverantörens artikelnnummer av inredningsdetaljen, fritext, frivilig
B28: cert_svanen | D28: Ja eller Nej om det är känd att inredningsdetaljen är svanenmärkt. Ange inget värde om om det inte är känd. Alternativt kan True eller False eller 1 (för ja) och 0 (för nej) användas. Strikt formaterat, frivillig
B29: cert_mobelfakta | D29: Ja eller Nej om det är känd att inredningsdetaljen är möbelfaktamärkt. Ange inget värde om om det inte är känd. Alternativt kan True eller False eller 1 (för ja) och 0 (för nej) användas. Strikt formaterat, frivillig
B30: cert_ctoc | D30: Ja eller Nej om det är känd att inredningsdetaljen är cradle to cradle märkt. Ange inget värde om om det inte är känd. Alternativt kan True eller False eller 1 (för ja) och 0 (för nej) användas. Strikt formaterat, frivillig
B31: cert_eueco | D31: Ja eller Nej om det är känd att inredningsdetaljen är Euro Eco märkt. Ange inget värde om om det inte är känd. Alternativt kan True eller False eller 1 (för ja) och 0 (för nej) användas. Strikt formaterat, frivillig
... B43: rum | D43: Rummet där inredningsdetaljen/möbeln finns. Ange rumsnummer
B46: Frågor och svar
B47: Följer textformatering med i importen ? | E47: Alla texter importera bara som text utan formatering så som fetstil, färg eller kursiveringar och radbrytningar. Använd bara text för beskrivningar
B48: Hur skall jag göra om jag har 20 likadana stolar, där 5 är i bra skick och 15 i dålig skick | E48: Om du ha identisk samma information i kolumnerna: "rubrik, material, behandling, mått, beskrivning, ITF" så behadlas det som samma stol och du kan flylla I två rader med olika skick. Desamma gäller anskaffningsdatum, tillverkningsdatum och rekonditioneringsdatum
B49: Hur gör jag om jag inte hittar en passande ITF kod? | E49: Använd den som passa bäst, om absolut inget passar kan du använda koderna Z1-Z9
B50: Hur skall man bedömma skick | E50: Om du inte kan bedömma skick själv kan du ta hjälp av en expert. Det går alltid att använda "okänd" och uppdatera informationen senare
B51: Spelar det någon roll för skick om inredningsdetaljnen i fråga går att rekonditionera / laga senare, eller tom är planerada att rekonditioneras? | E51: Vi bedömmer skicka så som det är just nu oavsett om det går att rekonditionera eller inte. Det är antingen en senare fråga eller så har den redan rekontionerats och då är det skick efter rekonditionering som man anger
B52: Varför är fabrikatet inte samma fabrikat som jag angav? | E52: Systemet försöker att matcha fabrikatet mot en fabrikatslista. Om vi hittar en tillräcklig bra matching används fabrikatet från listan
B53: Hur skall jag göra om jag har några möbler i ett rum och några av samma typ i ett annat rum? | E53: Om det är exakt samma möbel så behöver du bara se till att det står exakt samma information i kolumnerna: "rubrik, material, behandling, mått, beskrivning, ITF" läser vi den möbeln bara in en gång, men spara att hur de är fördelade
B54: Hur gör jag om jag har fått en exportfil från Sajkla | E54: Det finns två gömda flika I den här filen. Om du tar fram de kan du använda de för att klista in exportfilen från Sajkla I den ena och använda den andra för att generera en csv fil som går att importera till verktyget. Kom ihåg att se till att alla rader OBS: du bör vara någorlunda kunnig i excel för att förstå hur de fungera. Inge fält är låsta, dvs du kan se alla formler och justera de om det krävs.

Sheet Inventory mm
B4: Product | C4: Type | D4: Size | E4: Comment | F4: Op | G4: Validation on input
B5: En produkttyp, dvs fabrikat, som kan beskriva as samma symbol när den finns på en ritning. T.ex kan det finnas 12 liknade stolar i ett konferansrum, hälften med röd tyg, hälften med grön tyg och då är de av samma Produkt
B6: ProductID | C6: uniqueidentifier | D6: 36 | E6: generated unique id | F6: M
B7: ProductTypeRef | C7: varchar | D7: 500 | E7: En referens till ett ProduktTypID M->1 | F7: M
B8: ProductAreaRef | C8: varchar | D8: 500 | E8: En referens till ett produktområde ProduktAreaID M->1 | F8: M
B9: Fabrikat | C9: varchar | D9: 50 | E9: Text, exempelvis "Håg"
B10: … | E10: potentiell andra attribut
B12: CreatedDate | E12: Date of entry
B13: CreatedByRef | E13: En referens till ett UserID M->1 som skapade entry
B14: ModifiedDate | E14: Date of entry
B15: ModifiedByRef | E15: En referens till ett UserID M->1 som senaste änderade entry
B18: Article | C18: Type | D18: Size | E18: Comment | F18: Op | G18: Validation on input
B19: En produktvariant är samma produkt som kan finnas I olika utföranden, typisk är det material eller tyg eller färg som skiljer. Ibland är det tillverkaren som erbjuder olika varinater ibland är det en intredningsarkitete som beskriver att en stol skall betsas i en viss kulör. Här kan det ochså beskrivas att det skall vara olika tillbehör. En produktvarinat har samma symbol på en ritning (Litra). Produktvarianten ärver alla egenskaper från en Product, men de kan skrivas över
B20: ArticleID | C20: uniqueidentifier | D20: 36 | E20: generated unique id | F20: M
B21: ProductRef | C21: varchar | D21: 500 | E21: En referens till ett ProduktID M->1 | F21: M
B22: ProjectRef | E22: En referens till ett ProjectID M->1
B23: ArticleDesc | E23: exempelvis: "ONE3102, Med hjul, meshrygg, ställbara armstöd"
B26: OrigArticleID | E26: Text, exempelvis" ONE3102", kan finnas flera med samma Article
B29: ProductType | E29: Comment | G29: Validation on input
B30: En kategorisering av produkterna in olika typer så som "sittmöbel","gardin","bord". Kan vara olika från projekt till projekt men kommer antagligen komma förifylld med standard värden …
B31: ProductTypeID | E31: generated unique id
B32: ProjectRef | E32: En referens till ett ProjectID M->1
B33: ProductTypeName | E33: Text av produkttypen ex "Sittmöbel"
B34: CreatedDate | E34: Date of entry
B35: CreatedByRef | E35: En referens till ett UserID M->1 som skapade entry
B36: ModifiedDate | E36: Date of senaste ändring
B37: ModifiedByRef | E37: En referens till ett UserID M->1 som senaste änderade entry
B39: ProductArea | E39: Comment | G39: Validation on input
B40: En kategorisering av produkterna in olika områden (kan ochså kallas för delområden). Det finns ingen hirakie mellan Typ och Omtråde, de är obereonde. Kan vara olika I olika projekt och beroende på upphandlingssätt. Exempelvis på avropa.se är det "Arbetsplats och förvaring", "Arbetsplatsarmaturer" osv, men väljs också olika beroende på inredningsarkitekt
B41: ProductAreaID | E41: generated unique id
B42: ProjectRef | E42: En referens till ett ProjectID M->1
B43: ProductAreaName | E43: Text av produktområde ex "Miljömöbler"
B44: CreatedDate | E44: Date of entry
B45: CreatedByRef | E45: En referens till ett UserID M->1 som skapade entry
B46: ModifiedDate | E46: Date of senaste ändring
B47: ModifiedByRef | E47: En referens till ett UserID M->1 som senaste änderade entry
B49: ProductArea | E49: Comment | G49: Validation on input
B50: En kategorisering av produkterna in olika områden (kan ochså kallas för delområden). Det finns ingen hirakie mellan Typ och Omtråde, de är obereonde. Kan vara olika I olika projekt och beroende på upphandlingssätt. Exempelvis på avropa.se är det "Arbetsplats och förvaring", "Arbetsplatsarmaturer", "Arbetsstolar" osv, men väljs också olika beroende på inredningsarkitekt
B51: GuideAnswerID | E51: referes to answer
B52: QuestionID | E52: referes to question
...

Sheet MALL
A1: rubrik | B1: material | C1: behandling | D1: mått | E1: beskrivning | F1: ITF | G1: fabrikat | H1: artikelnummer | I1: cert_svanen | J1: cert_mobelfakta | K1: cert_ctoc | L1: cert_eueco | M1: cert_bramv | N1: epd | O1: tillverkningsdatum | P1: anskaffningsdatum | Q1: rekonditioneringsdatum | R1: skick | S1: bildreferens | T1: vikt | U1: värde | V1: littera | W1: antal | X1: rum

Sheet ITFkoder
B3: Kod | C3: Namn
B4: A | C4: SAMMANSATTA INREDNINGAR
B5: A1 | C5: Hygienutrustning
B6: A2 | C6: Pentryenheter
B7: A8 | C7: Diverse sammansatta inredningar
B8: A9 | C8: Övriga sammansatta inredningar
B9: B | C9: SKÄRMENHETER
B10: B0 | C10: Sammansatta skärmenheter
B11: B1 | C11: Golvmonterade skärmar
B12: B2 | C12: Takmonterade skärmar
B13: B3 | C13: Lösa skärmar
B14: B4 | C14: Inredningspaneler
... B82: Z9 | C82: fri för egen tillämpning 9

Sheet Skick
B3: Kod | C3: Namn
B4: A | C4: SAMMANSATTA INREDNINGAR
B5: A1 | C5: Hygienutrustning
B6: A2 | C6: Pentryenheter
B7: A8 | C7: Diverse sammansatta inredningar
B8: A9 | C8: Övriga sammansatta inredningar
B9: B | C9: SKÄRMENHETER
B10: B0 | C10: Sammansatta skärmenheter
B11: B1 | C11: Golvmonterade skärmar
B12: B2 | C12: Takmonterade skärmar
B13: B3 | C13: Lösa skärmar
B14: B4 | C14: Inredningspaneler
... B81: Z9 | C81: fri för egen tillämpning 9

Sheet Kriterier
B2: NR | C2: LANG | D2: Namn | E2: Vikt | F2: Description | G2: Referens | H2: Infotext
B3: 1 | C3: SVSE | D3: Tillgång till reservdelar | E3: 1 | F3: Reservdelar1 ska finnas tillgängliga under minst 5 år efter märkt produktionstid/datum. 1 Med reservdelar avses funktionsrelaterade komponenter som vid skada eller annat fel gör produkten helt eller delvis obrukbar, till exempel gångjärn, gasfjädrar, elektriska manöversystem och lådsystem. | G3: UM- 10035:1 Bas | H3: V.g. fyll I ….
B4: 2 | C4: SVSE | D4: Spårbarhet (1) | E4: 1 | F4: Möbeln/inredningen måste vara märkt med tillverkarens namn eller namnet på återförsäljaren/leverantören av produkten. Elektronisk märkning, t.ex. QR-kod godkänns också. * Bild eller beskrivning om hur märkningen görs | G4: Svanen O9 | H4: V.g. fyll I ….
B5: 3 | C5: SVSE | D5: Underhåll | E5: 1 | F5: Leverantören levererar all information och innehåll som krävs till inventarieförteckningen (se krav i Övergripande) | H5: V.g. fyll I ….
B6: 4 | C6: SVSE | D6: Demonterbarhet 1 | E6: 1 | F6: Underhåll Instruktioner för rengöring och underhåll av möbeln/inredningen med specifika instruktioner för de olika materialen ska medfölja produkten och vara tillgänglig för nedladdning på tillverkarens eller återförsäljarens webbplats i minst tio år efter att produkten har gått ur produktion. * Instruktioner för rengöring och underhåll samt hur det kommuniceras till kunden | G6: Svanen O 12 | H6: V.g. fyll I ….
B7: 5 | C7: SVSE | D7: Demonterbarhet 2 | E7: 1 | F7: Demonterbart utan special verktyg. | H7: V.g. fyll I ….
B8: 6 | C8: SVSE | D8: Demonterbarhet 3 | E8: 1 | F8: Instruktioner: Följande information måste medfölja produkten och finnas tillgänglig för nedladdning i minst tio år efter att produkten har gått ur produktion på tillverkarens eller återförsäljarens webbplats: • Sprängskiss (illustration) av produkten som visar vilka delar som kan bytas ut och vilka verktyg som krävs. • Det ska medfölja instruktioner som steg för steg beskriver hur delar och komponenter kan bytas ut. QR kod eller liknande, (på eller medskickat produkten) som leder till tillverkarens websida där dessa uppgifter kan hittas, är tillräckligt. * Sprängskiss och instruktioner samt beskrivning av hur detta kommuniceras till kunden | G8: Svanen O10 | H8: V.g. fyll I ….
B9: 7 | C9: SVSE | D9: Demonterbarhet 4 (undvika gjutad | E9: 1 | F9: Lim tillämpas inte mellan olika materialsorter | G9: NA | H9: V.g. fyll I ….
B10: 8 | C10: SVSE | D10: Klädsel | E10: 1 | F10: Metall – separerbarhet- Möbeln måste vara konstruerad så att delar av metall ska kunna separeras från andra delar av möbeln, t.ex. ett metallunderrede måste kunna lossas från en bordsskiva i trä, eller metallben på en soffa måste kunna demonteras från sofframen. Metall får inte ingå i sammansatta material. Metallarmering är exempelvis inte tillåtet. * Beskrivning av hur metall kan separeras från andra material. | G10: Svanen O11 | H10: V.g. fyll I ….
B11: 9 | C11: SVSE | D11: Tillgång till reparationsmanualer | E11: 1 | F11: Avtagbar klädsel till möbler (t.ex. soffkuddar, sitsar, rygg- och nackstöd) eller madrasser måste märkas med materialtyp och tvättanvisningar. * Beskrivning/bild av märkning med uppgifter om material och tvättanvisning. | G11: Svanen O14 | H11: V.g. fyll I ….
B12: 10 | C12: SVSE | D12: Servicepartner for reparationer | E12: 1 | F12: Reparationsmanualer tillgängliga online | G12: Svanen, UM | H12: V.g. fyll I ….
B13: 11 | C13: SVSE | D13: Garanti, ansvar tas av tillverkaren | E13: 1 | F13: Servicepartner for reparationer bör vara tillgänglig lokalt (inom 100 km räckvid) | G13: Svanen, UM | H13: V.g. fyll I ….
B14: 12 | C14: SVSE | D14: Cirkulär design (möbler) | E14: 1 | F14: Leverantören lämnar en garanti på tio år eller längre Med garanti menas ett avtal mellan köpare och säljare som handlar om rätten till reklamation och där säljaren/ tillverkaren måste erbjuda att reparera eller byta ut delar som är skadade eller inte fungerar korrekt. Garantin ska gälla från leveransdatumet och kommuniceras till kunden. Garantin ska ingå i produktens pris) | G14: Svanen, UM | H14: V.g. fyll I ….
B15: 13 | C15: SVSE | D15: Cirkulär design -Möbler m elektroniska delar | E15: 1 | F15: En av följande punkter måste uppfyllas:. • Möbeln/inredningen består av minst 70 viktprocent material som är återvunnet* och/eller förnybart. • Möbeln/inredningen består av rena material lättare kan materialåtervinnas. Med rena material menas t.ex. metall, trä, papper och plast. Kompositmaterial, t.ex. glasfiberarmerad plast har inte använts. • Det har inte använts lim i sammanfogningen av de olika materialen (gäller inte lim som ingår i en träbaserad skiva). • Tillverkaren erbjuder att ta tillbaka möbeln/inredningen för uppgradering/reparation/renovering. *Återvunnet definieras enligt ISO 14021 i kategorierna prekonsument och postkonsument. Se Definitioner. **Träbaserade skivor räknas som förnybara även om de innehåller lim. (Modifierat från Svanen för att ta hänsyn till att andra HI kriterier redan täcker demonterbarhet som är annars en av punkterna i Svanen O15. Punkter som krävs sänks från två till en här) | G15: Svanen O15 | H15: V.g. fyll I ….
B16: 14 | C16: SVSE | D16: Energiförbrukning standby | E16: 1 | F16: Lampor/ljuskällor Lampor/ljuskällor kan ingå som del av en möbel, t.ex. i ett skåp eller i en låda. Om lampor ingår gäller följande: • Ljuskällan ska vara LED. • Ljuskällan ska kunna bytas ut. * Beskrivning av hur lampan/ljuskällan ingår i produkten. Deklaration från tillverkaren att det används LED-ljuskällor och att ljuskällan kan bytas ut | G16: Svanen O16 | H16: V.g. fyll I ….
B17: 15 | C17: SVSE | D17: Återvinningsbara material | E17: 1 | F17: Energiförbrukning i standby-läge Möbler med elektriska och elektroniska komponenter, t.ex. höj- och sänkbara bord och ställbara sängar ska uppfylla följande krav: • ha en energiförbrukning i standby-läge på högst 0,3 W • för möbler som har nätverksfunktion ska nätverkets energiförbrukning i standby-läge vara max. 2 W. Testmetod: EN 50564 eller motsvarande. | G17: Svanen O17 | H17: V.g. fyll I ….
B18: 16 | C18: SVSE | D18: Emballage | E18: 1 | F18: Delarna är gjort av material som är en fraktion som kan återvinnas i den befintliga (svensk) återvinningssystem | G18: Svanen, UM | H18: V.g. fyll I ….
B19: 17 | C19: SVSE | D19: Märkning av plast | E19: 1 | F19: Emballage Kravet gäller endast för engångsemballage som används för att emballera den enskilda produkten. Följande material är förbjudna i emballaget: • klorerade polymerer/plaster, såsom PVC • metall* * Undantag görs för häftklamrar. För papp/papper och plast gäller följande: • Minst 75 (50?) viktprocent av papp och papper ska bestå av återvunnet* material. • Plast som används ska kunna materialåtervinnas i dagens återvinningssystem. *Återvunnet definieras enligt ISO 14021 i kategorierna pre- och postkonsument. * Beskrivning som visar att inget engångsemballage används eller * Deklaration från tillverkaren av möbeln/inredningen att ingen PVC eller metall har använts i emballaget. * För papp/papper: Deklaration från leverantören av papp och pappersemballage att minst 75 viktprocent består av återvunnet material. * För plast: ange vilken typ av plast som har använts i emballaget. | G19: Svanen O18 | H19: V.g. fyll I ….
... B22: 20 | C22: SVSE | D22: Övriga miljömärkningar som är mindre holistiska, till ex. är fokuserat på ett särskilt material | E22: 1 | F22: 1. Leverantörens åtagande Leverantören ska under hela kontraktets löptid tillämpa kontraktsvillkoren enligt punkt 1-4. Kontraktet ska fullgöras i enlighet med följande villkor avseende arbetares rättigheter: - ILO:s åtta kärnkonventioner om tvångsarbete, barnarbete, diskriminering samt föreningsfrihet och organisationsrätt (nr 29, 87, 98, 100, 105, 111, 138 och 182). Villkoren avseende arbetares rättigheter benämns nedan ”Villkoren”. I de fall då ILO:s kärnkonventioner strider mot nationell lagstiftning ska leverantören vidta skäliga åtgärder för att efterleva de internationella bestämmelserna. Åtagandet gäller för arbetare när dessa utför arbete inom ramen för kontraktet. Leverantören ska i enlighet med punkt 2, säkerställa att Villkoren uppfylls av anlitade underleverantörer som direkt medverkar till att fullgöra kontraktet, oavsett antal mellanled. Leverantören ska också säkerställa att dessa underleverantörer medverkar vid uppföljning enligt punkt 3. Åtagandet avser arbete som utförs under sådana förhållanden att svensk arbetsrätt inte är tillämplig. 2. Policys och rutiner För att uppfylla åtagandet enligt punkt 1 ska leverantören vidta åtgärder för att förebygga och hantera eventuella avvikelser från Villkoren enligt punkterna 2.1–2.6 nedan. Åtgärderna ska vara dokumenterade och tillämpas löpande under hela kontraktstiden i den egna verksamheten och hos underleverantörer som direkt medverkar till att fullgöra kontraktet, oavsett antal mellanled. Leverantören ska vid kontraktsstart ha: 2.1. antagit allmänt tillgänglig policy, beslutad av högsta ledningen, som innefattar ett åtagande att respektera Villkoren, 2.2. antagit rutiner för att vidareförmedla åtagandet att respektera Villkoren i den egna verksamheten och i leveranskedjan, 2.3. utsett ansvarig på ledningsnivå som ansvarar för efterlevnaden av Villkoren, 2.4. antagit rutiner för att regelbundet genomföra riskanalyser, det vill säga identifiera och prioritera aktuella och potentiella risker för avvikelser från Villkoren, innefattande en kartläggning av leveranskedjan med särskild hänsyn till högriskverksamheter, 2.5. antagit rutiner för att regelbundet följa upp efterlevnad av Villkoren, och 2.6. antagit rutiner för att omedelbart vidta åtgärder för att förhindra och begränsa avvikelser från Villkoren, samt för att vidta rättelse vid identifierade avvikelser. Åtgärderna ska vidtas i enlighet med FN:s vägledande principer för företag och mänskliga rättigheter eller motsvarande. 3. Uppföljning [Den upphandlande myndigheten] äger rätt att följa upp att leverantören fullföljer sina åtaganden. Uppföljningen kan komma att ske i olika steg; egenrapportering och revision. 3.1 Egenrapportering På begäran av [den upphandlande myndigheten] ska leverantören, inom [sex (6) veckor/annan tid som den upphandlande myndigheten anger] från det att begäran mottogs, skriftligen redovisa hur Villkoren efterlevs. Redovisningen kan lämnas i formulär enligt bilaga 1: formulär för egenrapportering. Leverantören ska lämna den rapportering som framgår av bilagan. 3.2 Revision Leverantören ska möjliggöra för [den upphandlande myndigheten] att själv eller genom ombud utföra revisioner hos leverantören och/eller hos dess underleverantörer för att säkerställa att leverantören uppfyller sitt åtagande enligt punkt 1 och att Villkoren efterlevs. Leverantören ska i samband med revision tillhandahålla de uppgifter och den dokumentation som behövs för att kontrollera att Villkoren efterlevs. 4. Hantering av brister Om leverantören inte medverkar vid uppföljningen eller om det föreligger brister i den dokumentation som ska tillhandahållas enligt punkt 3 ska rättelse ske inom den tid som bestäms av [den upphandlande myndigheten]. Vid bristande efterlevnad av Villkoren ska leverantören avhjälpa detta enligt en av leverantören framtagen tid- och åtgärdsplan som ska godkännas av [den upphandlande myndigheten]. Tid – och åtgärdsplanen ska tas fram inom den tid som bestäms av [den upphandlande myndigheten] och ska stå i proportion till bristernas art och tydligt beskriva hur dessa avhjälps inom angiven tid. [Den upphandlande myndigheten] har rätt att säga upp kontraktet med omedelbar verkan om leverantören inte vidtar rättelse inom angiven tid eller inte avhjälper brister enligt fastställd åtgärdsplan. [Den upphandlande myndigheten] har också rätt att säga upp kontraktet med omedelbara verkan vid allvarliga brister i Villkorens efterlevnad. | G22: UM 11238 Bas | H22: V.g. fyll I ….
B23: 21 | C23: SVSE | D23: Hållbara leverantörskedjor | E23: 1 | F23: Poäng tilldelas om leverantören kan redovisa bevis för märkningar: FSC, OekoTex | H23: V.g. fyll I ….
B24: 22 | C24: SVSE | D24: Livscykelanalys/Klimatdeklaration | E24: 1 | F24: 1. Leverantörens åtagande Leverantören ska under hela kontraktets löptid tillämpa kontraktsvillkoren enligt punkt 1-4. Kontraktet ska fullgöras i enlighet med följande villkor avseende mänskliga rättigheter, arbetares rättigheter, miljöskydd och anti-korruption (hållbara leveranskedjor): FN:s allmänna förklaring om de mänskliga rättigheterna, FN:s barnkonvention, artikel 32, ILO:s åtta kärnkonventioner om tvångsarbete, barnarbete, diskriminering samt föreningsfrihet och organisationsrätt (nr 29, 87, 98, 100, 105, 111, 138 och 182), den arbetsrättslagstiftning som gäller i landet där arbetet utförs, inklusive bestämmelser om lön, arbetstid, ledighet och arbetsmiljö, den miljöskyddslagstiftning som gäller i landet där arbetet utförs, och FN:s konvention mot korruption. Villkoren avseende hållbara leveranskedjor benämns nedan ”Villkoren”. I de fall då internationella bestämmelser föreskriver ett starkare skydd för den enskilde än nationell lagstiftning ska leverantören vidta skäliga åtgärder för att efterleva de internationella bestämmelserna. Åtagandet gäller för all verksamhet med anknytning till kontraktets utförande. Leverantören ska i enlighet med punkt 2, säkerställa att Villkoren uppfylls av anlitade underleverantörer, i alla led. Leverantören ska också säkerställa att dessa underleverantörer medverkar vid uppföljning enligt punkt 3. 2. Policys och rutiner För att uppfylla åtagandet enligt punkt 1 ska leverantören vidta åtgärder för att förebygga och hantera eventuella avvikelser från Villkoren enligt punkterna 2.1–2.6 nedan. Åtgärderna ska vara dokumenterade och tillämpas löpande under hela kontraktstiden i den egna verksamheten och hos underleverantörer i alla led. Leverantören ska vid kontraktsstart ha: 2.1. antagit allmänt tillgänglig policy, beslutad av högsta ledningen, som innefattar ett åtagande att respektera Villkoren, 2.2. antagit rutiner för att vidareförmedla åtagandet att respektera Villkoren i den egna verksamheten och i leveranskedjan, 2.3. utsett ansvarig på ledningsnivå som ansvarar för efterlevnaden av Villkoren, 2.4. antagit rutiner för att regelbundet genomföra riskanalyser, det vill säga identifiera och prioritera aktuella och potentiella risker för brister i efterlevnaden av Villkoren, innefattande en kartläggning av leveranskedjan med särskild hänsyn till högriskverksamheter, 2.5. antagit rutiner för att regelbundet följa upp efterlevnad av Villkoren, och 2.6. antagit rutiner för att omedelbart vidta åtgärder för att förhindra och begränsa brister i efterlevnaden av Villkoren, samt för att vidta rättelse vid identifierade brister. Åtgärderna ska vidtas i enlighet med FN:s vägledande principer för företag och mänskliga rättigheter eller motsvarande. 3. Uppföljning [Den upphandlande myndigheten] äger rätt att följa upp att leverantören fullföljer sina åtaganden. Uppföljningen kan komma att ske i olika steg; egenrapportering och revision. 3.1 Egenrapportering På begäran av [den upphandlande myndigheten] ska leverantören, [inom sex (6) veckor/annan tid som den upphandlande myndigheten anger] från det att begäran mottogs, skriftligen redovisa hur Villkoren efterlevs. Redovisningen kan lämnas i formulär enligt bilaga 1: formulär för egenrapportering. Leverantören ska lämna den rapportering som framgår av bilagan 3.2 Revision Leverantören ska möjliggöra för [den upphandlande myndigheten] att själv eller genom ombud utföra revisioner hos leverantören och/eller hos dess underleverantörer för att säkerställa att leverantören uppfyller sitt åtagande enligt punkt 1 och att Villkoren efterlevs. Leverantören ska i samband med revision tillhandahålla de uppgifter och den dokumentation som behövs för att kontrollera att Villkoren efterlevs. 4. Hantering av brister Om leverantören inte medverkar vid uppföljningen eller om det föreligger brister i den dokumentation som ska tillhandahållas enligt punkt 3 ska rättelse ske inom den tid som bestäms av [den upphandlande myndigheten]. Vid bristande efterlevnad av Villkoren ska leverantören avhjälpa detta enligt en av leverantören framtagen tid- och åtgärdsplan som ska godkännas av [den upphandlande myndigheten]. Tid – och åtgärdsplanen ska tas fram inom den tid som bestäms [den upphandlande myndigheten] och ska stå i proportion till bristernas art och tydligt beskriva hur dessa avhjälps inom angiven tid. [Den upphandlande myndigheten] har rätt att säga upp kontraktet med omedelbar verkan om leverantören inte vidtar rättelse inom angiven tid eller inte avhjälper brister enligt fastställd åtgärdsplan. [Den upphandlande myndigheten] har också rätt att säga upp kontraktet med omedelbara verkan vid allvarliga brister i Villkorens efterlevnad. | G24: UM 11239 Avanc | H24: V.g. fyll I ….
B25: 23 | C25: SVSE | D25: Formaldehyd i träbaserade skivor | E25: 1 | F25: Poäng tilldelas om leverantören kan redovisa den offererade produkten(alternativt andel av de offererade produkternas) klimatpåverkan i ett livscykelperspektiv. Miljödeklaration, klimatdeklaration eller motsvarande innehållande resultat från livscykelanalys utförd i enlighet med ISO 14040-44 eller ISO14025 eller likvärdigt med information om produktens klimatpåverkan. | G25: Upphandlingsmyndigheten- 10034:1 (spjutspets) | H25: V.g. fyll I ….
B26: 24 | C26: SVSE | D26: Formaldehyd i träbaserade skivor | E26: 1 | F26: Offererade produkter, med träbaserade skivor som innehåller formaldehydbaserade tillsatser, ska uppfylla emissionskravet för att klassificeras som E1 enligt standarden SS-EN 13986 eller likvärdigt. | G26: UM-11022, Bas | H26: V.g. fyll I ….
B27: 25 | C27: SVSE | D27: Vattenavvisande behandlingar: | E27: 1 | F27: Poäng tilldelas om offererade produkter, med träbaserade skivor som innehåller formaldehydbaserade tillsatser, har uppmätta emissioner av formaldehyd som inte överstiger 65 % av E1 enligt standarden SS-EN 13986 eller likvärdigt. | G27: UM-11022, Avancerad | H27: V.g. fyll I ….
B28: 26 | C28: SVSE | D28: Vattenavvisande behandlingar: | E28: 1 | F28: PFOA (perfluoroktansyra) eller PFOS (perfluoroktansulfonat) ska inte förekomma i offererade produkter i högre halt än 0,1 vikt% samt för belagda textilier inte överstiga halten 1 mikrogram per m2 avseende anjonen, dess metallsalter, haloniden, amiden och/eller andra derivat (även polymerer). | G28: UM- 11024:1 Bas | H28: V.g. fyll I ….
B29: 27 | C29: SVSE | D29: Formaldehyd i möbeltextil | E29: 1 | F29: Ämnena i tabellen nedan ska inte förekomma i de offererade produkterna i högre halt än 1 μg/m2 för PFOA och PFOS samt 0,5 mg/kg för de övriga ämnena i tabellen nedan. Ämne CAS-nr PFOA (perfluorooctanoic acid) 335-67-1 PFUdA (henicosafluoroundecanoic acid) 2058-94-8 PFTeDA (heptacosafluorotetradecanoic acid) 376-06-7 PFTrDA (pentacosafluorotridecanoic acid) 72629-94-8 PFDoA (tricosafluorododecanoic acid) 307-55-1 PFOS (perfluorooctane sulfonic acid) 1763-23-1 Perfluorononane Acid (PFNA) 375-95-1 Perfluorodecane Acid (PFDA) 335-76-2 | G29: UM- 11024:1 Avanc | H29: V.g. fyll I ….
B30: 28 | C30: SVSE | D30: Formaldehyd i möbeltextil | E30: 1 | F30: Halten formaldehyd (CAS-nr 50-00-0) i textil i de offererade produkterna ska inte överstiga 300 ppm. | G30: UM 11025 Bas | H30: V.g. fyll I ….
B31: 29 | C31: SVSE | D31: Innehåll av metaller i färdigbehandlat skinn och läder | E31: 1 | F31: Halten formaldehyd (CAS-nr 50-00-0) i textil i de offererade produkterna ska inte överstiga 75 ppm. | H31: V.g. fyll I ….
B32: 30 | C32: SVSE | D32: Ytbehandling av trä, plast och/eller metall | E32: 1 | F32: Offererade produkter ska uppfylla nedanstående krav vad gäller rester av nedanstående metaller: Ämne CAS-nr Krav Krom (VI) 18540-29-9 Medelkoncentration högst 3 ppm (Testrapport med analys enligt: CEN/TS 14495 eller motsvarande) Arsenik 7440-38-2 Ingen restkoncentration (detektionsgräns 1,0 ppm, Testrapport med analys enligt: CEN TC 309 WI 065 - 4.3 eller motsvarande) Kadmium 7440-43-9 Ingen restkoncentration (detektionsgräns 10 ppm, Testrapport med analys enligt: CEN TC 309 WI 065 - 4.3 eller motsvarande) Bly 7439-92-1 Ingen restkoncentration (detektionsgräns 10 ppm, Testrapport med analys enligt: CEN TC 309 WI 065 - 4.3 eller motsvarande) | G32: UM 11026 Bas | H32: V.g. fyll I ….
B33: 31 | C33: SVSE | D33: Ytbehandling av trä, plast och/eller metall | E33: 1 | F33: Offererade produkter ska inte vara ytbehandlade med sådana produkter som är klassificerade, antingen i EU-bindande klassificering eller vid självklassificering, med nedanstående faroangivelser enligt CLP-förordningen (1272/2008)1. | G33: UM- 10028:1 Bas | H33: V.g. fyll I ….
B34: 32 | C34: SVSE | D34: Antimikrobiell funktion | E34: 1 | F34: Om offererade varor är ytbehandlade med produkter som innehåller flyktiga organiska ämnen (VOC)1 ska påföringsmängden av organiska lösningsmedel vara mindre än 60 g per m2 yta. Undantag: om den totala mängden tillförd VOC understiger 5 vikt% räknat på total mängd applicerad ytbehandlingsprodukt ELLER om mängden tillförd VOC max uppgår till 60 g/m2 yta räknat på total ytbehandlad yta eller belagd yta (t.ex. laminat, linoleum, melaminfilm).. | G34: UM- 10028:1 Avanc | H34: V.g. fyll I ….
B35: 33 | C35: SVSE | D35: Lim som används vid tillverkning av möbler | E35: 1 | F35: Ämnen som ger en antimikrobiell funktion ska inte tillsättas i de offererade produkterna. | G35: UM 11029 Avanc | H35: V.g. fyll I ….
B36: 34 | C36: SVSE | D36: Stoppningsmaterial | E36: 1 | F36: Innehållet av flyktiga organiska ämnen (VOC)1 i limmer som använts i offererade produkter ska inte överstiga 10 vikt%. Innehållet av fri formaldehyd i limmer som använts i offererade produkter ska inte överstiga 0,2 vikt%. 1 Flyktig organisk förening definieras enligt direktiv 2010/75/EU som en organisk förening och den fraktion av kreosot som vid 293,15 k har ett ångtryck av minst 0,01 kPa eller som har motsvarande flyktighet under de särskilda användningsförhållandena. | G36: UM 10030:1 bas | H36: V.g. fyll I ….
B37: 35 | C37: SVSE | D37: Stoppningsmaterial | E37: 1 | F37: Offererade produkter ska inte ha aktiv tillsats av ftalater klassificerade som reproduktionstoxiska, med faroklass H360 enligt CLP-förordningen1. Uppmätt värde per detalj ska inte överskrida 0,1 vikts%. 1 Europaparlamentets och rådets förordning (EG) nr 1272/2008 av den 16 december2008 om klassificering, märkning och förpackning av ämnen och blandningar, ändring och upphävande av direktiven 67/548/EEG och 1999/45/EG samt ändring av förordning (EG) nr 1907/2006. | G37: UM 11021: bas | H37: V.g. fyll I ….
B38: 36 | C38: SVSE | D38: Färgämnen i möbeltextil | E38: 1 | F38: Poäng tilldelas om offererade produkter innehåller stoppningsmaterial där inte något av följande är tillsatt1 i stoppningsmaterialet2: 1. halogenerade organiska föreningar (inklusive klorerade polymerer). Till exempel PVC, organiska klorparaffiner, fluorföreningar, och organiska blekmedel. 2. bisfenol A-föreningar 3. alkylfenoler och alkylfenoletoxylater eller andra alkylfenolderivat3 4. pigment och tillsatser baserade på bly, tenn, kadmium, krom VI och kvicksilver samt föreningar av dessa. 5. föreningar klassificerade, i EU-bindande klassificering eller vid självklassificering, med nedanstående faroangivelser enligt CLP-förordningen (1272/2008)4: Klassificering enligt förordning (EG) nr 1272/2008 om klassificering, märkning och förpackning Faroklass Faroangivelse Cancerframkallande H3505 Mutagen H340 Reproduktionstoxisk H3605 Poäng tilldelas om offererade produkter innehåller stoppningsmaterial där färgämnen används endast för att skilja mellan olika kvaliteter (t.ex. hårt och mjukt skum) inom samma typ av stoppmaterial, eller om stoppmaterialet är synligt och används utan något över. Poäng tilldelas om offererade produkter innehåller stoppningsmaterial där metallkomplexa färger och färger klassificerade med nedanstående riskfraser och faroangivelser enligt CLP-förordningen4 inte ingår6: Klassificering enligt förordning (EG) nr 1272/2008 om klassificering, märkning och förpackning Akut toxicitet (kategorier 1-3) H300, H301, H310, H311, H330, H331 Specifik organtoxicitet - enstaka exponering (kategori 1) H3707 Specifik organtoxicitet - upprepad exponering (kategori 1) H3727 Farligt för vattenmiljön H400, H410, H411 Poäng tilldelas om offererade produkter innehåller stoppningsmaterial där formaldehydkoncentrationen i stoppmaterialet inte överstiger 20 ppm enligt EN ISO 14184-1 eller likvärdig metod godkänd av Nordisk Miljömärkning. Alternativt överstiger formaldehydemissionen inte 0,005 mg/m3 uppmätt i klimatkammare enligt ENV 13419-1. 1 Som tillsats räknas alla ämnen i produkten, även tillsatsmedel (t.ex. pigment)i ingredienserna, men inte föroreningar från råvaruproduktionen. Som föroreningar räknas rester från produktionen av de råvaror som ingår i den färdiga produkten i koncentrationer under 100 ppm (0,01 viktprocent, 100 mg/kg), men inte ämnen som avsiktligen och i ett visst syfte har tillsatts en råvara, oavsett mängd. 2 För Madrass- och stoppmöbelsproducenter ges undantag för användning av lim med polykloroprentillsats om emissionen av restmonomeren kloropren (2-klor-1,3-butadien) är ≤ 1 µg/m³ efter 3 dagar uppmätt vid kammartest EN ISO 16000. Undantaget gäller till 30 juni 2016. Undantaget gäller inte madrasser avsedda för barn. 3 Alkylfenolderivat definieras som ämnen som utsöndras från alkylfenoler vid nedbrytning. 4 Europaparlamentets och rådets förordning (EG) nr 1272/2008 av den 16 december2008 om klassificering, märkning och förpackning av ämnen och blandningar, ändring och upphävande av direktiven 67/548/EEG och 1999/45/EG samt ändring av förordning (EG) nr 1907/2006. 5 Om det är definitivt bevisat att faran inte kan orsakas av några andra exponeringsvägar kan exponeringsvägen ha angetts som en del av faroangivelsen. För reproduktionstoxicitet ska typ av effekt ha specificerats om denna är känd (effekt på fertilitet eller på fosterutveckling). En eller två bokstäver efter faroangivelsen indikerar exponeringsväg (till exempel H350i - Kan orsaka cancer vid inandning) och/eller typ av effekt. Alla tilläggskoder är inkluderade i kriterierna. 6 Som ingående ämnen räknas alla ämnen i en produkt, inklusive föroreningar i ämnena eller råvarorna. Som förorening räknas reaktions-/biprodukter och nedbrytningsprodukter i halter över 0,01 % (motsvarar 100 ppm). Som ingående ämnen räknas även, oavsett halt, additiv som tillsatts avsiktligt för att uppnå en viss funktion, t ex, konservering eller stabilisering av ämnena eller råvarorna. 7 Som en del av faroangivelser H370 och H372 kan vilka organ som påverkas ha angetts om detta är känt. | G38: UM 11021: avanc | H38: V.g. fyll I ….
B39: 37 | C39: SVSE | D39: Plasters innehåll | E39: 1 | F39: Färgämnena och pigmenten i tabellen nedan ska inte förekomma i de offererade produkterna i högre halter än 50 mg/kg textil för varje enskilt ämne. Ämne CAS-nr Dispersionsfärgämnen C.I. Disperse Blue 3 2475-46-9 C.I. Disperse Blue 7 3179-90-6 C.I. Disperse Blue 26 3860-63-7 C.I. Disperse Blue 35 12222-75-2 C.I. Disperse Blue 102 12222-97-8 C.I. Disperse Blue 106 12223-01-7 C.I. Disperse Blue 124 61951-51-7 C.I. Disperse Brown 1 23355-64-8 C.I. Disperse Orange 1 2581-69-3 C.I. Disperse Orange 37/76 13301-61-6 C.I. Disperse Red 1 2872-52-8 C.I. Disperse Red 11 2872-48-2 C.I. Disperse Red 17 3179-89-3 C.I. Disperse Yellow 1 119-15-3 C.I. Disperse Yellow 9 6373-73-5 C.I. Disperse Yellow 39 12236-29-2 C.I. Disperse Yellow 49 54824-37-2 C.I. Disperse Blue 1 2475-45-8 C.I. Disperse Orange 11 82-28-0 C.I. Disperse Orange 149 85136-74-9 C.I. Disperse Orange 3 730-40-5 C.I. Disperse Yellow 3 2832-40-8 Syrafärgämnen Acid Red 26 3761-53-3 Basiska (katjoniska) färgämnen C.I. Basic Red 9 569-61-9 Mordant (betningsmedel) Sodium dichromate 10588-01-9 Direktfärgämnen C.I. Direct Black 38 1937-37-7 C.I. Direct Red 28 573-58-0 C.I. Direct Blue 6 2602-46-2 Pigment Cadmium sulphide 1306-23-6 Lead orange 1314-41-6 Sodium chromate 7775-11-3 Potassium dichromate 7778-50-9 Acetic acid, lead salt, basic 51404-69-4 | G39: UM 11023:1 bas | H39: V.g. fyll I ….
B40: 38 | C40: SVSE | D40: Plasters innehåll | E40: 1 | F40: Pigment i plast Plast, inklusive vävplast/konstläder ska inte ha aktiv tillsats av, eller innehålla följande ämnen: Bly (maxhalt 0,01 vikt% uppmätt värde/detalj) Kadmium (maxhalt 0,01vikt% uppmätt värde/detalj) Mjukgörare i plast Plast, inklusive vävplast/konstläder ska inte ha aktiv tillsats av ftalater klassificerade som reproduktionstoxiska, med farokod H360 enligt CLP-förordningen1. Uppmätt värde per substans och detalj får inte överskrida 0,1 vikts%. Plast, inklusive vävplast/konstläder ska inte ha aktiv tillsats av, eller innehålla kortkedjiga klorparaffiner (SCCP). Uppmätt värde per substans och detalj får inte överskrida 0,01 vikts%. PVC-plast Plastdetaljer, inklusive vävplast/konstläder av PVC-material ska inte ingå i produkten. Undantag: elektriska komponenter (t ex elkablar), sjukhusväv, urinväv och vävplast/konstläder på möbler avsedda för vårdmiljö där regelbunden spritning krävs omfattas inte av kravet på PVC. Undantag Små plastdelar (t ex skruvar, stift och fästanordningar) omfattas inte av kraven. 1 Europaparlamentets och rådets förordning (EG) nr 1272/2008 av den 16 december 2008 om klassificering, märkning och förpackning av ämnen och blandningar, ändring och upphävande av direktiven 67/548/EEG och 1999/45/EG samt ändring av förordning (EG) nr 1907/2006. | G40: UM 11014 Bas | H40: V.g. fyll I ….
B41: 39 | C41: SVSE | D41: Flamskyddsmedel | E41: 1 | F41: Poäng tilldelas om offererade produkter innehåller plastmaterial där inte något av följande är tillsatt1 i plastmaterialet2. halogenerade organiska föreningar (inklusive klorerade polymerer). Till exempel organiska klorparaffiner, fluorföreningar, och organiska blekmedel. bisfenol A-föreningar alkylfenoler, alkylfenoletoxylater eller andra alkylfenolderivat3. pigment och tillsatser baserade på tenn, krom VI och kvicksilver samt föreningar av dessa. föreningar klassificerade, i EU-bindande klassificering eller vid självklassificering, med nedanstående faroangivelser enligt CLP-förordningen (1272/2008)4: Klassificering enligt förordning (EG) nr 1272/2008 om klassificering, märkning och förpackning av ämnen och blandningar Faroklass Faroklass Cancerframkallande H3505 Mutagen H340 Reproduktionstoxisk H3605 1 Som tillsats räknas alla ämnen i produkten, även tillsatsmedel (t.ex. pigment)i ingredienserna, men inte föroreningar från råvaruproduktionen. Som föroreningar räknas rester från produktionen av de råvaror som ingår i den färdiga produkten i koncentrationer under 100 ppm (0,01 viktprocent, 100 mg/kg), men inte ämnen som avsiktligen och i ett visst syfte har tillsatts en råvara, oavsett mängd. 2 För Madrass- och stoppmöbelsproducenter ges undantag för användning av lim med polykloroprentillsats om emissionen av restmonomeren kloropren (2-klor-1,3-butadien) är ≤ 1 µg/m³ efter 3 dagar uppmätt vid kammartest EN ISO 16000. Undantaget gäller till 30 juni 2016. Undantaget gäller inte madrasser avsedda för barn. 3 Alkylfenolderivat definieras som ämnen som utsöndras från alkylfenoler vid nedbrytning. 4 Europaparlamentets och rådets förordning (EG) nr 1272/2008 av den 16 december2008 om klassificering, märkning och förpackning av ämnen och blandningar, ändring och upphävande av direktiven 67/548/EEG och 1999/45/EG samt ändring av förordning (EG) nr 1907/2006. 5 Om det är definitivt bevisat att faran inte kan orsakas av några andra exponeringsvägar kan exponeringsvägen ha angetts som en del av faroangivelsen. För reproduktionstoxicitet ska typ av effekt ha specificerats om denna är känd (effekt på fertilitet eller på fosterutveckling). En eller två bokstäver efter faroangivelsen indikerar exponeringsväg (till exempel H350i - Kan orsaka cancer vid inandning) och/eller typ av effekt. Alla tilläggskoder är inkluderade i kriterierna. | G41: UM 11014 Avanc | H41: V.g. fyll I ….
F42: Kriterietext Offererade produkters ingående material, till exempel textilier, stoppningsmaterial och plaster, ska inte innehålla följande flamskyddsmedel, det vill säga de ska inte vara aktivt tillsatta eller överstiga 0,1 vikt% uppmätt värde: Ämne CAS-nr Polybromerade bifenyler (PBBs) CAS-nr: 59536-65-1 Dekabromdifenyleter (DekaBDE) CAS-nr: 1163-19-5 Pentabromdifenyleter (PentaBDE) CAS-nr: 32534-81-9 Oktabromdifenyleter (OktaBDE) CAS-nr: 32536-52-0 Tris (2,3-dibrompropyl) fosfat (TBPP) CAS-nr: 126-72-7 Tris (1-aziridinyl)fosfin oxid (TEPA) CAS-nr: 545-55-1 Hexabromcyklododekan (HBCDD) CAS-nr: 25637-99-4 Tris (2 kloretyl) fosfat (TCEP) CAS-nr: 115-96-8 Kortkedjiga klorparaffiner CAS-nr: 85535-84-8 Undantag: kravet gäller inte ingående elektronik, till exempel motorer i höj- och sänkbara bord och sängar1 1 För elektronik gäller de lagkrav som finns i det så kallade ROHS-direktivet (direktiv 2011/65/EU) som har införts i de svensk lagstiftning med förordning (2012:861) om farliga ämnen i elektrisk och elektronisk utrustning samt Kemikalieinspektionens föreskrifter (KIFS 2008:2) om kemiska produkter och biotekniska organismer. | G42: UM 10029:2, Bas

Sheet Exempel
A1: rubrik | B1: material | C1: behandling | D1: mått | E1: beskrivning | F1: ITF | G1: fabrikat | H1: artikelnummer | I1: cert_svanen | J1: cert_mobelfakta | K1: cert_ctoc | L1: cert_eueco | M1: cert_bramv | N1: epd | O1: tillverkningsdatum | P1: anskaffningsdatum | Q1: rekonditioneringsdatum | R1: skick | S1: bildreferens | T1: vikt | U1: värde | V1: littera | W1: antal | X1: rum
A2: stol_SF_1 | B2: trä | C2: obehandlat | D2: 1 | E2: röd | F2: F | V2: SFX001 | W2: 4 | X2: 1123
A3: stol_SF_2 | B3: plast | D3: 2 | E3: röd | F3: F | V3: SFX002 | W3: 4 | X3: 1124
A4: stol_SF_3 | B4: trä | D4: 3 | E4: blå | F4: F2 | V4: SFX003 | W4: 4 | X4: 1125
A5: stol_SF_4 | B5: plast | D5: 4 | E5: blå | F5: F2 | V5: SFX004 | W5: 4 | X5: 1126
A6: stol_SF_5 | B6: trä | D6: 5 | E6: grön | F6: F2 | V6: SFX005
A7: stol_SF_6 | B7: plast | C7: obehandlat | D7: 6 | E7: grön | F7: F2 | V7: SFX006 | W7: 20 | X7: 3441
A8: stol_SF_6 | B8: plast | C8: obehandlat | D8: 6 | E8: grön | F8: F2 | V8: SFX006 | W8: 11 | X8: 3442
A9: stol_SF_6 | B9: plast | C9: obehandlat | D9: 6 | E9: grön | F9: F2 | V9: SFX006 | W9: 2 | X9: 3443
A10: stol_SF_7 | B10: trä | C10: obehandlat | D10: 7 | E10: gul | F10: F2 | V10: SFX007
A11: stol_SF_8 | B11: plast | C11: obehandlat | D11: 8 | E11: gul | F11: F2 | V11: SFX008
A12: stol_SF_9 | B12: trä | C12: obehandlat | D12: 9 | E12: svart | F12: F2 | V12: SFX009
A13: stol_SF_10 | B13: plast | C13: obehandlat | D13: 10 | E13: svart | F13: F2 | V13: SFX010
A14: stol_SF_11 | B14: trä | E14: vit | F14: F2 | V14: SFX011
A15: stol_SF_12 | B15: plast | E15: vit | F15: F2
A16: stol_SF_13 | B16: trä | E16: lila | F16: Z
A17: stol_SF_14 | B17: plast | E17: lila | F17: Z | V17: SFX014
A18: stol_SF_15 | B18: trä | D18: stor | E18: röd | F18: Z | V18: SFX015

Sheet SJAKLA_TRANSLATED
A1: rubrik | B1: material | C1: behandling | D1: mått | E1: beskrivning | F1: ITF | G1: fabrikat | H1: artikelnummer | I1: cert_svanen | J1: cert_mobelfakta | K1: cert_ctoc | L1: cert_eueco | M1: cert_bramv | N1: epd | O1: tillverkningsdatum | P1: anskaffningsdatum | Q1: rekonditioneringsdatum | R1: skick | S1: bildreferens | T1: vikt | U1: värde | V1: littera | W1: antal | X1: rum
A2: =SAJKLA!D2 -> Kontorstol svart | B2: =IF(SAJKLA!K2="","","Rygg:"&SAJKLA!K2)&IF(SAJKLA!BK2="",""," Stativ:"&SAJKLA!BK2&" "&BL2)&IF(SAJKLA!BV2="","",", Sits:"&SAJKLA!BV2) -> Rygg:Tyg Stativ:Plast , Sits:Tyg | C2: =IF(SAJKLA!L2&SAJKLA!N2="","","Rygg:"&SAJKLA!L2&","&SAJKLA!N2)&IF(SAJKLA!BO2="","",", Metal:"&SAJKLA!BO2)&IF(SAJKLA!BX2="","",", Sits:"&SAJKLA!BX2) | D2: ="W"&SAJKLA!E2&" H"&SAJKLA!F2&" D"&SAJKLA!G2&IFERROR(IF((SAJKLA!H2="Ja")," Inställningsbar",""),"") -> W70 H100 D70 Inställningsbar | E2: =SAJKLA!Q2&", "&SAJKLA!BN2&", "&SAJKLA!BZ2 -> Inga eller små förslitningsskador, , Bra. Upplevs stabila | F2: F | G2: =SAJKLA!BM2 -> Kinnarps | S2: =SAJKLA!AP2 -> original_images/furniture-item_pa0hlkd.jpeg | W2: =IF(ISBLANK(SAJKLA!A2),"",1) -> 1 | X2: =SAJKLA!CH2 -> 124
A3: =SAJKLA!D3 -> Kontorstol svart | B3: =IF(SAJKLA!K3="","","Rygg:"&SAJKLA!K3)&IF(SAJKLA!BK3="",""," Stativ:"&SAJKLA!BK3&" "&BL3)&IF(SAJKLA!BV3="","",", Sits:"&SAJKLA!BV3) -> Rygg:Tyg Stativ:Plast , Sits:Tyg | C3: =IF(SAJKLA!L3&SAJKLA!N3="","","Rygg:"&SAJKLA!L3&","&SAJKLA!N3)&IF(SAJKLA!BO3="","",", Metal:"&SAJKLA!BO3)&IF(SAJKLA!BX3="","",", Sits:"&SAJKLA!BX3) | D3: ="W"&SAJKLA!E3&" H"&SAJKLA!F3&" D"&SAJKLA!G3&IFERROR(IF((SAJKLA!H3="Ja")," Inställningsbar",""),"") -> W70 H100 D70 Inställningsbar | E3: =SAJKLA!Q3&", "&SAJKLA!BN3&", "&SAJKLA!BZ3 -> Inga eller små förslitningsskador, , Bra. Upplevs stabila | F3: F | G3: =SAJKLA!BM3 -> Kinnarps | S3: =SAJKLA!AP3 -> original_images/furniture-item_pa0hlkd.jpeg | W3: =IF(ISBLANK(SAJKLA!A3),"",1) -> 1 | X3: =SAJKLA!CH3 -> 125
A4: =SAJKLA!D4 -> Stol svart | B4: =IF(SAJKLA!K4="","","Rygg:"&SAJKLA!K4)&IF(SAJKLA!BK4="",""," Stativ:"&SAJKLA!BK4&" "&BL4)&IF(SAJKLA!BV4="","",", Sits:"&SAJKLA!BV4) -> Rygg:Formpressat trä Stativ:Metall , Sits:Formpressat trä | C4: =IF(SAJKLA!L4&SAJKLA!N4="","","Rygg:"&SAJKLA!L4&","&SAJKLA!N4)&IF(SAJKLA!BO4="","",", Metal:"&SAJKLA!BO4)&IF(SAJKLA!BX4="","",", Sits:"&SAJKLA!BX4) -> Rygg:,Målad, Sits:Målad | D4: ="W"&SAJKLA!E4&" H"&SAJKLA!F4&" D"&SAJKLA!G4&IFERROR(IF((SAJKLA!H4="Ja")," Inställningsbar",""),"") -> W50 H74 D49 | E4: =SAJKLA!Q4&", "&SAJKLA!BN4&", "&SAJKLA!BZ4 -> Inga eller små förslitningsskador, Ren och fin från tejp, klister mm, Bra. Upplevs stabila | F4: F | G4: =SAJKLA!BM4 -> Kinnarps | S4: =SAJKLA!AP4 -> original_images/furniture-item_dWIxr18.jpeg | W4: =IF(ISBLANK(SAJKLA!A4),"",1) -> 1 | X4: =SAJKLA!CH4 -> Matsal
A5: =SAJKLA!D5 -> Stol svart | B5: =IF(SAJKLA!K5="","","Rygg:"&SAJKLA!K5)&IF(SAJKLA!BK5="",""," Stativ:"&SAJKLA!BK5&" "&BL5)&IF(SAJKLA!BV5="","",", Sits:"&SAJKLA!BV5) -> Rygg:Formpressat trä Stativ:Metall , Sits:Formpressat trä | C5: =IF(SAJKLA!L5&SAJKLA!N5="","","Rygg:"&SAJKLA!L5&","&SAJKLA!N5)&IF(SAJKLA!BO5="","",", Metal:"&SAJKLA!BO5)&IF(SAJKLA!BX5="","",", Sits:"&SAJKLA!BX5) -> Rygg:,Målad, Sits:Målad | D5: ="W"&SAJKLA!E5&" H"&SAJKLA!F5&" D"&SAJKLA!G5&IFERROR(IF((SAJKLA!H5="Ja")," Inställningsbar",""),"") -> W50 H74 D49 | E5: =SAJKLA!Q5&", "&SAJKLA!BN5&", "&SAJKLA!BZ5 -> Inga eller små förslitningsskador, Ren och fin från tejp, klister mm, Bra. Upplevs stabila | F5: F | G5: =SAJKLA!BM5 -> Kinnarps | S5: =SAJKLA!AP5 -> original_images/furniture-item_dWIxr18.jpeg | W5: =IF(ISBLANK(SAJKLA!A5),"",1) -> 1 | X5: =SAJKLA!CH5 -> Matsal
A6: =SAJKLA!D6 -> Stol svart | B6: =IF(SAJKLA!K6="","","Rygg:"&SAJKLA!K6)&IF(SAJKLA!BK6="",""," Stativ:"&SAJKLA!BK6&" "&BL6)&IF(SAJKLA!BV6="","",", Sits:"&SAJKLA!BV6) -> Rygg:Formpressat trä Stativ:Metall , Sits:Formpressat trä | C6: =IF(SAJKLA!L6&SAJKLA!N6="","","Rygg:"&SAJKLA!L6&","&SAJKLA!N6)&IF(SAJKLA!BO6="","",", Metal:"&SAJKLA!BO6)&IF(SAJKLA!BX6="","",", Sits:"&SAJKLA!BX6) -> Rygg:,Målad, Sits:Målad | D6: ="W"&SAJKLA!E6&" H"&SAJKLA!F6&" D"&SAJKLA!G6&IFERROR(IF((SAJKLA!H6="Ja")," Inställningsbar",""),"") -> W50 H74 D49 | E6: =SAJKLA!Q6&", "&SAJKLA!BN6&", "&SAJKLA!BZ6 -> Inga eller små förslitningsskador, Ren och fin från tejp, klister mm, Bra. Upplevs stabila | F6: F | G6: =SAJKLA!BM6 -> Kinnarps | S6: =SAJKLA!AP6 -> original_images/furniture-item_dWIxr18.jpeg | W6: =IF(ISBLANK(SAJKLA!A6),"",1) -> 1 | X6: =SAJKLA!CH6 -> Matsal
A7: =SAJKLA!D7 -> Stol svart | B7: =IF(SAJKLA!K7="","","Rygg:"&SAJKLA!K7)&IF(SAJKLA!BK7="",""," Stativ:"&SAJKLA!BK7&" "&BL7)&IF(SAJKLA!BV7="","",", Sits:"&SAJKLA!BV7) -> Rygg:Formpressat trä Stativ:Metall , Sits:Formpressat trä | C7: =IF(SAJKLA!L7&SAJKLA!N7="","","Rygg:"&SAJKLA!L7&","&SAJKLA!N7)&IF(SAJKLA!BO7="","",", Metal:"&SAJKLA!BO7)&IF(SAJKLA!BX7="","",", Sits:"&SAJKLA!BX7) -> Rygg:,Målad, Sits:Målad | D7: ="W"&SAJKLA!E7&" H"&SAJKLA!F7&" D"&SAJKLA!G7&IFERROR(IF((SAJKLA!H7="Ja")," Inställningsbar",""),"") -> W50 H74 D49 | E7: =SAJKLA!Q7&", "&SAJKLA!BN7&", "&SAJKLA!BZ7 -> Inga eller små förslitningsskador, Ren och fin från tejp, klister mm, Bra. Upplevs stabila | F7: F | G7: =SAJKLA!BM7 -> Kinnarps | S7: =SAJKLA!AP7 -> original_images/furniture-item_dWIxr18.jpeg | W7: =IF(ISBLANK(SAJKLA!A7),"",1) -> 1 | X7: =SAJKLA!CH7 -> Matsal
A8: =SAJKLA!D8 -> Stol svart | B8: =IF(SAJKLA!K8="","","Rygg:"&SAJKLA!K8)&IF(SAJKLA!BK8="",""," Stativ:"&SAJKLA!BK8&" "&BL8)&IF(SAJKLA!BV8="","",", Sits:"&SAJKLA!BV8) -> Rygg:Formpressat trä Stativ:Metall , Sits:Formpressat trä | C8: =IF(SAJKLA!L8&SAJKLA!N8="","","Rygg:"&SAJKLA!L8&","&SAJKLA!N8)&IF(SAJKLA!BO8="","",", Metal:"&SAJKLA!BO8)&IF(SAJKLA!BX8="","",", Sits:"&SAJKLA!BX8) -> Rygg:,Målad, Sits:Målad | D8: ="W"&SAJKLA!E8&" H"&SAJKLA!F8&" D"&SAJKLA!G8&IFERROR(IF((SAJKLA!H8="Ja")," Inställningsbar",""),"") -> W50 H74 D49 | E8: =SAJKLA!Q8&", "&SAJKLA!BN8&", "&SAJKLA!BZ8 -> Inga eller små förslitningsskador, Ren och fin från tejp, klister mm, Bra. Upplevs stabila | F8: F | G8: =SAJKLA!BM8 -> Kinnarps | S8: =SAJKLA!AP8 -> original_images/furniture-item_dWIxr18.jpeg | W8: =IF(ISBLANK(SAJKLA!A8),"",1) -> 1 | X8: =SAJKLA!CH8 -> Matsal
A9: =SAJKLA!D9 -> Stol svart | B9: =IF(SAJKLA!K9="","","Rygg:"&SAJKLA!K9)&IF(SAJKLA!BK9="",""," Stativ:"&SAJKLA!BK9&" "&BL9)&IF(SAJKLA!BV9="","",", Sits:"&SAJKLA!BV9) -> Rygg:Formpressat trä Stativ:Metall , Sits:Formpressat trä | C9: =IF(SAJKLA!L9&SAJKLA!N9="","","Rygg:"&SAJKLA!L9&","&SAJKLA!N9)&IF(SAJKLA!BO9="","",", Metal:"&SAJKLA!BO9)&IF(SAJKLA!BX9="","",", Sits:"&SAJKLA!BX9) -> Rygg:,Målad, Sits:Målad | D9: ="W"&SAJKLA!E9&" H"&SAJKLA!F9&" D"&SAJKLA!G9&IFERROR(IF((SAJKLA!H9="Ja")," Inställningsbar",""),"") -> W50 H74 D49 | E9: =SAJKLA!Q9&", "&SAJKLA!BN9&", "&SAJKLA!BZ9 -> Inga eller små förslitningsskador, Ren och fin från tejp, klister mm, Bra. Upplevs stabila | F9: F | G9: =SAJKLA!BM9 -> Kinnarps | S9: =SAJKLA!AP9 -> original_images/furniture-item_dWIxr18.jpeg | W9: =IF(ISBLANK(SAJKLA!A9),"",1) -> 1 | X9: =SAJKLA!CH9 -> Matsal
A10: =SAJKLA!D10 -> Stol svart | B10: =IF(SAJKLA!K10="","","Rygg:"&SAJKLA!K10)&IF(SAJKLA!BK10="",""," Stativ:"&SAJKLA!BK10&" "&BL10)&IF(SAJKLA!BV10="","",", Sits:"&SAJKLA!BV10) -> Rygg:Formpressat trä Stativ:Metall , Sits:Formpressat trä | C10: =IF(SAJKLA!L10&SAJKLA!N10="","","Rygg:"&SAJKLA!L10&","&SAJKLA!N10)&IF(SAJKLA!BO10="","",", Metal:"&SAJKLA!BO10)&IF(SAJKLA!BX10="","",", Sits:"&SAJKLA!BX10) -> Rygg:,Målad, Sits:Målad | D10: ="W"&SAJKLA!E10&" H"&SAJKLA!F10&" D"&SAJKLA!G10&IFERROR(IF((SAJKLA!H10="Ja")," Inställningsbar",""),"") -> W50 H74 D49 | E10: =SAJKLA!Q10&", "&SAJKLA!BN10&", "&SAJKLA!BZ10 -> Inga eller små förslitningsskador, Ren och fin från tejp, klister mm, Bra. Upplevs stabila | F10: F | G10: =SAJKLA!BM10 -> Kinnarps | S10: =SAJKLA!AP10 -> original_images/furniture-item_dWIxr18.jpeg | W10: =IF(ISBLANK(SAJKLA!A10),"",1) -> 1 | X10: =SAJKLA!CH10 -> Matsal
A11: =SAJKLA!D11 -> Stol svart | B11: =IF(SAJKLA!K11="","","Rygg:"&SAJKLA!K11)&IF(SAJKLA!BK11="",""," Stativ:"&SAJKLA!BK11&" "&BL11)&IF(SAJKLA!BV11="","",", Sits:"&SAJKLA!BV11) -> Rygg:Formpressat trä Stativ:Metall , Sits:Formpressat trä | C11: =IF(SAJKLA!L11&SAJKLA!N11="","","Rygg:"&SAJKLA!L11&","&SAJKLA!N11)&IF(SAJKLA!BO11="","",", Metal:"&SAJKLA!BO11)&IF(SAJKLA!BX11="","",", Sits:"&SAJKLA!BX11) -> Rygg:,Målad, Sits:Målad | D11: ="W"&SAJKLA!E11&" H"&SAJKLA!F11&" D"&SAJKLA!G11&IFERROR(IF((SAJKLA!H11="Ja")," Inställningsbar",""),"") -> W50 H74 D49 | E11: =SAJKLA!Q11&", "&SAJKLA!BN11&", "&SAJKLA!BZ11 -> Inga eller små förslitningsskador, Ren och fin från tejp, klister mm, Bra. Upplevs stabila | F11: F | G11: =SAJKLA!BM11 -> Kinnarps | S11: =SAJKLA!AP11 -> original_images/furniture-item_dWIxr18.jpeg | W11: =IF(ISBLANK(SAJKLA!A11),"",1) -> 1 | X11: =SAJKLA!CH11 -> Matsal
A12: =SAJKLA!D12 -> Stol svart | B12: =IF(SAJKLA!K12="","","Rygg:"&SAJKLA!K12)&IF(SAJKLA!BK12="",""," Stativ:"&SAJKLA!BK12&" "&BL12)&IF(SAJKLA!BV12="","",", Sits:"&SAJKLA!BV12) -> Rygg:Formpressat trä Stativ:Metall , Sits:Formpressat trä | C12: =IF(SAJKLA!L12&SAJKLA!N12="","","Rygg:"&SAJKLA!L12&","&SAJKLA!N12)&IF(SAJKLA!BO12="","",", Metal:"&SAJKLA!BO12)&IF(SAJKLA!BX12="","",", Sits:"&SAJKLA!BX12) -> Rygg:,Målad, Sits:Målad | D12: ="W"&SAJKLA!E12&" H"&SAJKLA!F12&" D"&SAJKLA!G12&IFERROR(IF((SAJKLA!H12="Ja")," Inställningsbar",""),"") -> W50 H74 D49 | E12: =SAJKLA!Q12&", "&SAJKLA!BN12&", "&SAJKLA!BZ12 -> Inga eller små förslitningsskador, Ren och fin från tejp, klister mm, Bra. Upplevs stabila | F12: F | G12: =SAJKLA!BM12 -> Kinnarps | S12: =SAJKLA!AP12 -> original_images/furniture-item_dWIxr18.jpeg | W12: =IF(ISBLANK(SAJKLA!A12),"",1) -> 1 | X12: =SAJKLA!CH12 -> Matsal
